BEGIN:VCALENDAR
VERSION:2.0
PRODID:-//achurchnearyou.com//eventfeed//EN
CALSCALE:GREGORIAN
METHOD:PUBLISH
X-WR-TIMEZONE:UTC
BEGIN:VEVENT
SUMMARY:Harvest Barn Dance
DTSTART:20251011T183000Z
DTEND:20251011T210000Z
DTSTAMP:20260424T063657Z
UID:12237692025-10-11 18:30:00+00:00achurchnearyou
CATEGORIES:
DESCRIPTION:Inside the church\, ticket includes hot supper and pudding!
GEO:0.213489;51.984548
LOCATION:St Mary the Virgin\, Newport\, Essex.
URL:https://www.achurchnearyou.com/church/6507/service-and-events/events/1
 223769/
END:VEVENT
END:VCALENDAR
