BEGIN:VCALENDAR
VERSION:2.0
PRODID:-//achurchnearyou.com//eventfeed//EN
CALSCALE:GREGORIAN
METHOD:PUBLISH
X-WR-TIMEZONE:UTC
BEGIN:VEVENT
SUMMARY:Midnight Mass
DTSTART:20251224T231500Z
DTEND:20251225T001500Z
DTSTAMP:20260424T033324Z
UID:12515762025-12-24 23:15:00+00:00achurchnearyou
CATEGORIES:
DESCRIPTION:All welcome in the wonderful atmosphere of our Christmas trees
 .
GEO:0.213489;51.984548
LOCATION:St Mary the Virgin\, Newport\, Essex.
URL:https://www.achurchnearyou.com/church/6507/service-and-events/events/1
 251576/
END:VEVENT
END:VCALENDAR
