BEGIN:VCALENDAR
VERSION:2.0
PRODID:-//achurchnearyou.com//eventfeed//EN
CALSCALE:GREGORIAN
METHOD:PUBLISH
X-WR-TIMEZONE:UTC
BEGIN:VEVENT
SUMMARY:Weekday Eucharist - Every Thursday
DTSTART;TZID=Europe/London:20260402T093000
DTEND;TZID=Europe/London:20260402T100000
DTSTAMP:20260423T131456Z
UID:11430241775118600.0achurchnearyou
CATEGORIES:
DESCRIPTION:30 mins Said Holy Communion service in the Lady Chapel
GEO:-0.044308;51.467718
LOCATION:St Catherine's Church Hatcham
URL:https://www.achurchnearyou.com/church/651/service-and-events/events/11
 43024/
END:VEVENT
BEGIN:VEVENT
SUMMARY:Sung Eucharist
DTSTART;TZID=Europe/London:20260405T100000
DTEND;TZID=Europe/London:20260405T111500
DTSTAMP:20260423T131456Z
UID:11430231775379600.0achurchnearyou
CATEGORIES:
DESCRIPTION:Sung Eucharist with junior church/ Sunday school
GEO:-0.044308;51.467718
LOCATION:St Catherine's Church Hatcham
URL:https://www.achurchnearyou.com/church/651/service-and-events/events/11
 43023/
END:VEVENT
BEGIN:VEVENT
SUMMARY:Sung Eucharist
DTSTART;TZID=Europe/London:20260405T100000
DTEND;TZID=Europe/London:20260405T111500
DTSTAMP:20260423T131456Z
UID:12869021775379600.0achurchnearyou
CATEGORIES:
DESCRIPTION:Every Sunday with Children church and involvement. The service
  is about 1hr 15 min\n10am
GEO:-0.044308;51.467718
LOCATION:St Catherine's Church Hatcham
URL:https://www.achurchnearyou.com/church/651/service-and-events/events/12
 86902/
END:VEVENT
BEGIN:VEVENT
SUMMARY:Weekday Eucharist - Every Thursday
DTSTART;TZID=Europe/London:20260409T093000
DTEND;TZID=Europe/London:20260409T100000
DTSTAMP:20260423T131456Z
UID:11430241775723400.0achurchnearyou
CATEGORIES:
DESCRIPTION:30 mins Said Holy Communion service in the Lady Chapel
GEO:-0.044308;51.467718
LOCATION:St Catherine's Church Hatcham
URL:https://www.achurchnearyou.com/church/651/service-and-events/events/11
 43024/
END:VEVENT
BEGIN:VEVENT
SUMMARY:Sung Eucharist
DTSTART;TZID=Europe/London:20260412T100000
DTEND;TZID=Europe/London:20260412T111500
DTSTAMP:20260423T131456Z
UID:11430231775984400.0achurchnearyou
CATEGORIES:
DESCRIPTION:Sung Eucharist with junior church/ Sunday school
GEO:-0.044308;51.467718
LOCATION:St Catherine's Church Hatcham
URL:https://www.achurchnearyou.com/church/651/service-and-events/events/11
 43023/
END:VEVENT
BEGIN:VEVENT
SUMMARY:Sung Eucharist
DTSTART;TZID=Europe/London:20260412T100000
DTEND;TZID=Europe/London:20260412T111500
DTSTAMP:20260423T131456Z
UID:12869021775984400.0achurchnearyou
CATEGORIES:
DESCRIPTION:Every Sunday with Children church and involvement. The service
  is about 1hr 15 min\n10am
GEO:-0.044308;51.467718
LOCATION:St Catherine's Church Hatcham
URL:https://www.achurchnearyou.com/church/651/service-and-events/events/12
 86902/
END:VEVENT
BEGIN:VEVENT
SUMMARY:Weekday Eucharist - Every Thursday
DTSTART;TZID=Europe/London:20260416T093000
DTEND;TZID=Europe/London:20260416T100000
DTSTAMP:20260423T131456Z
UID:11430241776328200.0achurchnearyou
CATEGORIES:
DESCRIPTION:30 mins Said Holy Communion service in the Lady Chapel
GEO:-0.044308;51.467718
LOCATION:St Catherine's Church Hatcham
URL:https://www.achurchnearyou.com/church/651/service-and-events/events/11
 43024/
END:VEVENT
BEGIN:VEVENT
SUMMARY:Sung Eucharist
DTSTART;TZID=Europe/London:20260419T100000
DTEND;TZID=Europe/London:20260419T111500
DTSTAMP:20260423T131456Z
UID:11430231776589200.0achurchnearyou
CATEGORIES:
DESCRIPTION:Sung Eucharist with junior church/ Sunday school
GEO:-0.044308;51.467718
LOCATION:St Catherine's Church Hatcham
URL:https://www.achurchnearyou.com/church/651/service-and-events/events/11
 43023/
END:VEVENT
BEGIN:VEVENT
SUMMARY:Sung Eucharist
DTSTART;TZID=Europe/London:20260419T100000
DTEND;TZID=Europe/London:20260419T111500
DTSTAMP:20260423T131456Z
UID:12869021776589200.0achurchnearyou
CATEGORIES:
DESCRIPTION:Every Sunday with Children church and involvement. The service
  is about 1hr 15 min\n10am
GEO:-0.044308;51.467718
LOCATION:St Catherine's Church Hatcham
URL:https://www.achurchnearyou.com/church/651/service-and-events/events/12
 86902/
END:VEVENT
BEGIN:VEVENT
SUMMARY:Weekday Eucharist - Every Thursday
DTSTART;TZID=Europe/London:20260423T093000
DTEND;TZID=Europe/London:20260423T100000
DTSTAMP:20260423T131456Z
UID:11430241776933000.0achurchnearyou
CATEGORIES:
DESCRIPTION:30 mins Said Holy Communion service in the Lady Chapel
GEO:-0.044308;51.467718
LOCATION:St Catherine's Church Hatcham
URL:https://www.achurchnearyou.com/church/651/service-and-events/events/11
 43024/
END:VEVENT
BEGIN:VEVENT
SUMMARY:Sung Eucharist
DTSTART;TZID=Europe/London:20260426T100000
DTEND;TZID=Europe/London:20260426T111500
DTSTAMP:20260423T131456Z
UID:11430231777194000.0achurchnearyou
CATEGORIES:
DESCRIPTION:Sung Eucharist with junior church/ Sunday school
GEO:-0.044308;51.467718
LOCATION:St Catherine's Church Hatcham
URL:https://www.achurchnearyou.com/church/651/service-and-events/events/11
 43023/
END:VEVENT
BEGIN:VEVENT
SUMMARY:Sung Eucharist
DTSTART;TZID=Europe/London:20260426T100000
DTEND;TZID=Europe/London:20260426T111500
DTSTAMP:20260423T131456Z
UID:12869021777194000.0achurchnearyou
CATEGORIES:
DESCRIPTION:Every Sunday with Children church and involvement. The service
  is about 1hr 15 min\n10am
GEO:-0.044308;51.467718
LOCATION:St Catherine's Church Hatcham
URL:https://www.achurchnearyou.com/church/651/service-and-events/events/12
 86902/
END:VEVENT
BEGIN:VEVENT
SUMMARY:Weekday Eucharist - Every Thursday
DTSTART;TZID=Europe/London:20260430T093000
DTEND;TZID=Europe/London:20260430T100000
DTSTAMP:20260423T131456Z
UID:11430241777537800.0achurchnearyou
CATEGORIES:
DESCRIPTION:30 mins Said Holy Communion service in the Lady Chapel
GEO:-0.044308;51.467718
LOCATION:St Catherine's Church Hatcham
URL:https://www.achurchnearyou.com/church/651/service-and-events/events/11
 43024/
END:VEVENT
BEGIN:VEVENT
SUMMARY:Sung Eucharist
DTSTART;TZID=Europe/London:20260503T100000
DTEND;TZID=Europe/London:20260503T111500
DTSTAMP:20260423T131456Z
UID:11430231777798800.0achurchnearyou
CATEGORIES:
DESCRIPTION:Sung Eucharist with junior church/ Sunday school
GEO:-0.044308;51.467718
LOCATION:St Catherine's Church Hatcham
URL:https://www.achurchnearyou.com/church/651/service-and-events/events/11
 43023/
END:VEVENT
BEGIN:VEVENT
SUMMARY:Weekday Eucharist - Every Thursday
DTSTART;TZID=Europe/London:20260507T093000
DTEND;TZID=Europe/London:20260507T100000
DTSTAMP:20260423T131456Z
UID:11430241778142600.0achurchnearyou
CATEGORIES:
DESCRIPTION:30 mins Said Holy Communion service in the Lady Chapel
GEO:-0.044308;51.467718
LOCATION:St Catherine's Church Hatcham
URL:https://www.achurchnearyou.com/church/651/service-and-events/events/11
 43024/
END:VEVENT
BEGIN:VEVENT
SUMMARY:Sung Eucharist
DTSTART;TZID=Europe/London:20260510T100000
DTEND;TZID=Europe/London:20260510T111500
DTSTAMP:20260423T131456Z
UID:11430231778403600.0achurchnearyou
CATEGORIES:
DESCRIPTION:Sung Eucharist with junior church/ Sunday school
GEO:-0.044308;51.467718
LOCATION:St Catherine's Church Hatcham
URL:https://www.achurchnearyou.com/church/651/service-and-events/events/11
 43023/
END:VEVENT
BEGIN:VEVENT
SUMMARY:Weekday Eucharist - Every Thursday
DTSTART;TZID=Europe/London:20260514T093000
DTEND;TZID=Europe/London:20260514T100000
DTSTAMP:20260423T131456Z
UID:11430241778747400.0achurchnearyou
CATEGORIES:
DESCRIPTION:30 mins Said Holy Communion service in the Lady Chapel
GEO:-0.044308;51.467718
LOCATION:St Catherine's Church Hatcham
URL:https://www.achurchnearyou.com/church/651/service-and-events/events/11
 43024/
END:VEVENT
BEGIN:VEVENT
SUMMARY:Sung Eucharist
DTSTART;TZID=Europe/London:20260517T100000
DTEND;TZID=Europe/London:20260517T111500
DTSTAMP:20260423T131456Z
UID:11430231779008400.0achurchnearyou
CATEGORIES:
DESCRIPTION:Sung Eucharist with junior church/ Sunday school
GEO:-0.044308;51.467718
LOCATION:St Catherine's Church Hatcham
URL:https://www.achurchnearyou.com/church/651/service-and-events/events/11
 43023/
END:VEVENT
BEGIN:VEVENT
SUMMARY:Weekday Eucharist - Every Thursday
DTSTART;TZID=Europe/London:20260521T093000
DTEND;TZID=Europe/London:20260521T100000
DTSTAMP:20260423T131456Z
UID:11430241779352200.0achurchnearyou
CATEGORIES:
DESCRIPTION:30 mins Said Holy Communion service in the Lady Chapel
GEO:-0.044308;51.467718
LOCATION:St Catherine's Church Hatcham
URL:https://www.achurchnearyou.com/church/651/service-and-events/events/11
 43024/
END:VEVENT
BEGIN:VEVENT
SUMMARY:Sung Eucharist
DTSTART;TZID=Europe/London:20260524T100000
DTEND;TZID=Europe/London:20260524T111500
DTSTAMP:20260423T131456Z
UID:11430231779613200.0achurchnearyou
CATEGORIES:
DESCRIPTION:Sung Eucharist with junior church/ Sunday school
GEO:-0.044308;51.467718
LOCATION:St Catherine's Church Hatcham
URL:https://www.achurchnearyou.com/church/651/service-and-events/events/11
 43023/
END:VEVENT
BEGIN:VEVENT
SUMMARY:Weekday Eucharist - Every Thursday
DTSTART;TZID=Europe/London:20260528T093000
DTEND;TZID=Europe/London:20260528T100000
DTSTAMP:20260423T131456Z
UID:11430241779957000.0achurchnearyou
CATEGORIES:
DESCRIPTION:30 mins Said Holy Communion service in the Lady Chapel
GEO:-0.044308;51.467718
LOCATION:St Catherine's Church Hatcham
URL:https://www.achurchnearyou.com/church/651/service-and-events/events/11
 43024/
END:VEVENT
BEGIN:VEVENT
SUMMARY:Sung Eucharist
DTSTART;TZID=Europe/London:20260531T100000
DTEND;TZID=Europe/London:20260531T111500
DTSTAMP:20260423T131456Z
UID:11430231780218000.0achurchnearyou
CATEGORIES:
DESCRIPTION:Sung Eucharist with junior church/ Sunday school
GEO:-0.044308;51.467718
LOCATION:St Catherine's Church Hatcham
URL:https://www.achurchnearyou.com/church/651/service-and-events/events/11
 43023/
END:VEVENT
BEGIN:VEVENT
SUMMARY:Weekday Eucharist - Every Thursday
DTSTART;TZID=Europe/London:20260604T093000
DTEND;TZID=Europe/London:20260604T100000
DTSTAMP:20260423T131456Z
UID:11430241780561800.0achurchnearyou
CATEGORIES:
DESCRIPTION:30 mins Said Holy Communion service in the Lady Chapel
GEO:-0.044308;51.467718
LOCATION:St Catherine's Church Hatcham
URL:https://www.achurchnearyou.com/church/651/service-and-events/events/11
 43024/
END:VEVENT
BEGIN:VEVENT
SUMMARY:Sung Eucharist
DTSTART;TZID=Europe/London:20260607T100000
DTEND;TZID=Europe/London:20260607T111500
DTSTAMP:20260423T131456Z
UID:11430231780822800.0achurchnearyou
CATEGORIES:
DESCRIPTION:Sung Eucharist with junior church/ Sunday school
GEO:-0.044308;51.467718
LOCATION:St Catherine's Church Hatcham
URL:https://www.achurchnearyou.com/church/651/service-and-events/events/11
 43023/
END:VEVENT
BEGIN:VEVENT
SUMMARY:Weekday Eucharist - Every Thursday
DTSTART;TZID=Europe/London:20260611T093000
DTEND;TZID=Europe/London:20260611T100000
DTSTAMP:20260423T131456Z
UID:11430241781166600.0achurchnearyou
CATEGORIES:
DESCRIPTION:30 mins Said Holy Communion service in the Lady Chapel
GEO:-0.044308;51.467718
LOCATION:St Catherine's Church Hatcham
URL:https://www.achurchnearyou.com/church/651/service-and-events/events/11
 43024/
END:VEVENT
BEGIN:VEVENT
SUMMARY:Sung Eucharist
DTSTART;TZID=Europe/London:20260614T100000
DTEND;TZID=Europe/London:20260614T111500
DTSTAMP:20260423T131456Z
UID:11430231781427600.0achurchnearyou
CATEGORIES:
DESCRIPTION:Sung Eucharist with junior church/ Sunday school
GEO:-0.044308;51.467718
LOCATION:St Catherine's Church Hatcham
URL:https://www.achurchnearyou.com/church/651/service-and-events/events/11
 43023/
END:VEVENT
BEGIN:VEVENT
SUMMARY:Weekday Eucharist - Every Thursday
DTSTART;TZID=Europe/London:20260618T093000
DTEND;TZID=Europe/London:20260618T100000
DTSTAMP:20260423T131456Z
UID:11430241781771400.0achurchnearyou
CATEGORIES:
DESCRIPTION:30 mins Said Holy Communion service in the Lady Chapel
GEO:-0.044308;51.467718
LOCATION:St Catherine's Church Hatcham
URL:https://www.achurchnearyou.com/church/651/service-and-events/events/11
 43024/
END:VEVENT
BEGIN:VEVENT
SUMMARY:Sung Eucharist
DTSTART;TZID=Europe/London:20260621T100000
DTEND;TZID=Europe/London:20260621T111500
DTSTAMP:20260423T131456Z
UID:11430231782032400.0achurchnearyou
CATEGORIES:
DESCRIPTION:Sung Eucharist with junior church/ Sunday school
GEO:-0.044308;51.467718
LOCATION:St Catherine's Church Hatcham
URL:https://www.achurchnearyou.com/church/651/service-and-events/events/11
 43023/
END:VEVENT
BEGIN:VEVENT
SUMMARY:Weekday Eucharist - Every Thursday
DTSTART;TZID=Europe/London:20260625T093000
DTEND;TZID=Europe/London:20260625T100000
DTSTAMP:20260423T131456Z
UID:11430241782376200.0achurchnearyou
CATEGORIES:
DESCRIPTION:30 mins Said Holy Communion service in the Lady Chapel
GEO:-0.044308;51.467718
LOCATION:St Catherine's Church Hatcham
URL:https://www.achurchnearyou.com/church/651/service-and-events/events/11
 43024/
END:VEVENT
BEGIN:VEVENT
SUMMARY:Sung Eucharist
DTSTART;TZID=Europe/London:20260628T100000
DTEND;TZID=Europe/London:20260628T111500
DTSTAMP:20260423T131456Z
UID:11430231782637200.0achurchnearyou
CATEGORIES:
DESCRIPTION:Sung Eucharist with junior church/ Sunday school
GEO:-0.044308;51.467718
LOCATION:St Catherine's Church Hatcham
URL:https://www.achurchnearyou.com/church/651/service-and-events/events/11
 43023/
END:VEVENT
BEGIN:VEVENT
SUMMARY:Weekday Eucharist - Every Thursday
DTSTART;TZID=Europe/London:20260702T093000
DTEND;TZID=Europe/London:20260702T100000
DTSTAMP:20260423T131456Z
UID:11430241782981000.0achurchnearyou
CATEGORIES:
DESCRIPTION:30 mins Said Holy Communion service in the Lady Chapel
GEO:-0.044308;51.467718
LOCATION:St Catherine's Church Hatcham
URL:https://www.achurchnearyou.com/church/651/service-and-events/events/11
 43024/
END:VEVENT
BEGIN:VEVENT
SUMMARY:Sung Eucharist
DTSTART;TZID=Europe/London:20260705T100000
DTEND;TZID=Europe/London:20260705T111500
DTSTAMP:20260423T131456Z
UID:11430231783242000.0achurchnearyou
CATEGORIES:
DESCRIPTION:Sung Eucharist with junior church/ Sunday school
GEO:-0.044308;51.467718
LOCATION:St Catherine's Church Hatcham
URL:https://www.achurchnearyou.com/church/651/service-and-events/events/11
 43023/
END:VEVENT
BEGIN:VEVENT
SUMMARY:Weekday Eucharist - Every Thursday
DTSTART;TZID=Europe/London:20260709T093000
DTEND;TZID=Europe/London:20260709T100000
DTSTAMP:20260423T131456Z
UID:11430241783585800.0achurchnearyou
CATEGORIES:
DESCRIPTION:30 mins Said Holy Communion service in the Lady Chapel
GEO:-0.044308;51.467718
LOCATION:St Catherine's Church Hatcham
URL:https://www.achurchnearyou.com/church/651/service-and-events/events/11
 43024/
END:VEVENT
BEGIN:VEVENT
SUMMARY:Sung Eucharist
DTSTART;TZID=Europe/London:20260712T100000
DTEND;TZID=Europe/London:20260712T111500
DTSTAMP:20260423T131456Z
UID:11430231783846800.0achurchnearyou
CATEGORIES:
DESCRIPTION:Sung Eucharist with junior church/ Sunday school
GEO:-0.044308;51.467718
LOCATION:St Catherine's Church Hatcham
URL:https://www.achurchnearyou.com/church/651/service-and-events/events/11
 43023/
END:VEVENT
BEGIN:VEVENT
SUMMARY:Weekday Eucharist - Every Thursday
DTSTART;TZID=Europe/London:20260716T093000
DTEND;TZID=Europe/London:20260716T100000
DTSTAMP:20260423T131456Z
UID:11430241784190600.0achurchnearyou
CATEGORIES:
DESCRIPTION:30 mins Said Holy Communion service in the Lady Chapel
GEO:-0.044308;51.467718
LOCATION:St Catherine's Church Hatcham
URL:https://www.achurchnearyou.com/church/651/service-and-events/events/11
 43024/
END:VEVENT
BEGIN:VEVENT
SUMMARY:Sung Eucharist
DTSTART;TZID=Europe/London:20260719T100000
DTEND;TZID=Europe/London:20260719T111500
DTSTAMP:20260423T131456Z
UID:11430231784451600.0achurchnearyou
CATEGORIES:
DESCRIPTION:Sung Eucharist with junior church/ Sunday school
GEO:-0.044308;51.467718
LOCATION:St Catherine's Church Hatcham
URL:https://www.achurchnearyou.com/church/651/service-and-events/events/11
 43023/
END:VEVENT
BEGIN:VEVENT
SUMMARY:Weekday Eucharist - Every Thursday
DTSTART;TZID=Europe/London:20260723T093000
DTEND;TZID=Europe/London:20260723T100000
DTSTAMP:20260423T131456Z
UID:11430241784795400.0achurchnearyou
CATEGORIES:
DESCRIPTION:30 mins Said Holy Communion service in the Lady Chapel
GEO:-0.044308;51.467718
LOCATION:St Catherine's Church Hatcham
URL:https://www.achurchnearyou.com/church/651/service-and-events/events/11
 43024/
END:VEVENT
BEGIN:VEVENT
SUMMARY:Sung Eucharist
DTSTART;TZID=Europe/London:20260726T100000
DTEND;TZID=Europe/London:20260726T111500
DTSTAMP:20260423T131456Z
UID:11430231785056400.0achurchnearyou
CATEGORIES:
DESCRIPTION:Sung Eucharist with junior church/ Sunday school
GEO:-0.044308;51.467718
LOCATION:St Catherine's Church Hatcham
URL:https://www.achurchnearyou.com/church/651/service-and-events/events/11
 43023/
END:VEVENT
BEGIN:VEVENT
SUMMARY:Weekday Eucharist - Every Thursday
DTSTART;TZID=Europe/London:20260730T093000
DTEND;TZID=Europe/London:20260730T100000
DTSTAMP:20260423T131456Z
UID:11430241785400200.0achurchnearyou
CATEGORIES:
DESCRIPTION:30 mins Said Holy Communion service in the Lady Chapel
GEO:-0.044308;51.467718
LOCATION:St Catherine's Church Hatcham
URL:https://www.achurchnearyou.com/church/651/service-and-events/events/11
 43024/
END:VEVENT
BEGIN:VEVENT
SUMMARY:Sung Eucharist
DTSTART;TZID=Europe/London:20260802T100000
DTEND;TZID=Europe/London:20260802T111500
DTSTAMP:20260423T131456Z
UID:11430231785661200.0achurchnearyou
CATEGORIES:
DESCRIPTION:Sung Eucharist with junior church/ Sunday school
GEO:-0.044308;51.467718
LOCATION:St Catherine's Church Hatcham
URL:https://www.achurchnearyou.com/church/651/service-and-events/events/11
 43023/
END:VEVENT
BEGIN:VEVENT
SUMMARY:Weekday Eucharist - Every Thursday
DTSTART;TZID=Europe/London:20260806T093000
DTEND;TZID=Europe/London:20260806T100000
DTSTAMP:20260423T131456Z
UID:11430241786005000.0achurchnearyou
CATEGORIES:
DESCRIPTION:30 mins Said Holy Communion service in the Lady Chapel
GEO:-0.044308;51.467718
LOCATION:St Catherine's Church Hatcham
URL:https://www.achurchnearyou.com/church/651/service-and-events/events/11
 43024/
END:VEVENT
BEGIN:VEVENT
SUMMARY:Sung Eucharist
DTSTART;TZID=Europe/London:20260809T100000
DTEND;TZID=Europe/London:20260809T111500
DTSTAMP:20260423T131456Z
UID:11430231786266000.0achurchnearyou
CATEGORIES:
DESCRIPTION:Sung Eucharist with junior church/ Sunday school
GEO:-0.044308;51.467718
LOCATION:St Catherine's Church Hatcham
URL:https://www.achurchnearyou.com/church/651/service-and-events/events/11
 43023/
END:VEVENT
BEGIN:VEVENT
SUMMARY:Weekday Eucharist - Every Thursday
DTSTART;TZID=Europe/London:20260813T093000
DTEND;TZID=Europe/London:20260813T100000
DTSTAMP:20260423T131456Z
UID:11430241786609800.0achurchnearyou
CATEGORIES:
DESCRIPTION:30 mins Said Holy Communion service in the Lady Chapel
GEO:-0.044308;51.467718
LOCATION:St Catherine's Church Hatcham
URL:https://www.achurchnearyou.com/church/651/service-and-events/events/11
 43024/
END:VEVENT
BEGIN:VEVENT
SUMMARY:Sung Eucharist
DTSTART;TZID=Europe/London:20260816T100000
DTEND;TZID=Europe/London:20260816T111500
DTSTAMP:20260423T131456Z
UID:11430231786870800.0achurchnearyou
CATEGORIES:
DESCRIPTION:Sung Eucharist with junior church/ Sunday school
GEO:-0.044308;51.467718
LOCATION:St Catherine's Church Hatcham
URL:https://www.achurchnearyou.com/church/651/service-and-events/events/11
 43023/
END:VEVENT
BEGIN:VEVENT
SUMMARY:Weekday Eucharist - Every Thursday
DTSTART;TZID=Europe/London:20260820T093000
DTEND;TZID=Europe/London:20260820T100000
DTSTAMP:20260423T131456Z
UID:11430241787214600.0achurchnearyou
CATEGORIES:
DESCRIPTION:30 mins Said Holy Communion service in the Lady Chapel
GEO:-0.044308;51.467718
LOCATION:St Catherine's Church Hatcham
URL:https://www.achurchnearyou.com/church/651/service-and-events/events/11
 43024/
END:VEVENT
BEGIN:VEVENT
SUMMARY:Sung Eucharist
DTSTART;TZID=Europe/London:20260823T100000
DTEND;TZID=Europe/London:20260823T111500
DTSTAMP:20260423T131456Z
UID:11430231787475600.0achurchnearyou
CATEGORIES:
DESCRIPTION:Sung Eucharist with junior church/ Sunday school
GEO:-0.044308;51.467718
LOCATION:St Catherine's Church Hatcham
URL:https://www.achurchnearyou.com/church/651/service-and-events/events/11
 43023/
END:VEVENT
BEGIN:VEVENT
SUMMARY:Weekday Eucharist - Every Thursday
DTSTART;TZID=Europe/London:20260827T093000
DTEND;TZID=Europe/London:20260827T100000
DTSTAMP:20260423T131456Z
UID:11430241787819400.0achurchnearyou
CATEGORIES:
DESCRIPTION:30 mins Said Holy Communion service in the Lady Chapel
GEO:-0.044308;51.467718
LOCATION:St Catherine's Church Hatcham
URL:https://www.achurchnearyou.com/church/651/service-and-events/events/11
 43024/
END:VEVENT
BEGIN:VEVENT
SUMMARY:Sung Eucharist
DTSTART;TZID=Europe/London:20260830T100000
DTEND;TZID=Europe/London:20260830T111500
DTSTAMP:20260423T131456Z
UID:11430231788080400.0achurchnearyou
CATEGORIES:
DESCRIPTION:Sung Eucharist with junior church/ Sunday school
GEO:-0.044308;51.467718
LOCATION:St Catherine's Church Hatcham
URL:https://www.achurchnearyou.com/church/651/service-and-events/events/11
 43023/
END:VEVENT
BEGIN:VEVENT
SUMMARY:Weekday Eucharist - Every Thursday
DTSTART;TZID=Europe/London:20260903T093000
DTEND;TZID=Europe/London:20260903T100000
DTSTAMP:20260423T131456Z
UID:11430241788424200.0achurchnearyou
CATEGORIES:
DESCRIPTION:30 mins Said Holy Communion service in the Lady Chapel
GEO:-0.044308;51.467718
LOCATION:St Catherine's Church Hatcham
URL:https://www.achurchnearyou.com/church/651/service-and-events/events/11
 43024/
END:VEVENT
BEGIN:VEVENT
SUMMARY:Sung Eucharist
DTSTART;TZID=Europe/London:20260906T100000
DTEND;TZID=Europe/London:20260906T111500
DTSTAMP:20260423T131456Z
UID:11430231788685200.0achurchnearyou
CATEGORIES:
DESCRIPTION:Sung Eucharist with junior church/ Sunday school
GEO:-0.044308;51.467718
LOCATION:St Catherine's Church Hatcham
URL:https://www.achurchnearyou.com/church/651/service-and-events/events/11
 43023/
END:VEVENT
BEGIN:VEVENT
SUMMARY:Weekday Eucharist - Every Thursday
DTSTART;TZID=Europe/London:20260910T093000
DTEND;TZID=Europe/London:20260910T100000
DTSTAMP:20260423T131456Z
UID:11430241789029000.0achurchnearyou
CATEGORIES:
DESCRIPTION:30 mins Said Holy Communion service in the Lady Chapel
GEO:-0.044308;51.467718
LOCATION:St Catherine's Church Hatcham
URL:https://www.achurchnearyou.com/church/651/service-and-events/events/11
 43024/
END:VEVENT
BEGIN:VEVENT
SUMMARY:Sung Eucharist
DTSTART;TZID=Europe/London:20260913T100000
DTEND;TZID=Europe/London:20260913T111500
DTSTAMP:20260423T131456Z
UID:11430231789290000.0achurchnearyou
CATEGORIES:
DESCRIPTION:Sung Eucharist with junior church/ Sunday school
GEO:-0.044308;51.467718
LOCATION:St Catherine's Church Hatcham
URL:https://www.achurchnearyou.com/church/651/service-and-events/events/11
 43023/
END:VEVENT
BEGIN:VEVENT
SUMMARY:Weekday Eucharist - Every Thursday
DTSTART;TZID=Europe/London:20260917T093000
DTEND;TZID=Europe/London:20260917T100000
DTSTAMP:20260423T131456Z
UID:11430241789633800.0achurchnearyou
CATEGORIES:
DESCRIPTION:30 mins Said Holy Communion service in the Lady Chapel
GEO:-0.044308;51.467718
LOCATION:St Catherine's Church Hatcham
URL:https://www.achurchnearyou.com/church/651/service-and-events/events/11
 43024/
END:VEVENT
BEGIN:VEVENT
SUMMARY:Sung Eucharist
DTSTART;TZID=Europe/London:20260920T100000
DTEND;TZID=Europe/London:20260920T111500
DTSTAMP:20260423T131456Z
UID:11430231789894800.0achurchnearyou
CATEGORIES:
DESCRIPTION:Sung Eucharist with junior church/ Sunday school
GEO:-0.044308;51.467718
LOCATION:St Catherine's Church Hatcham
URL:https://www.achurchnearyou.com/church/651/service-and-events/events/11
 43023/
END:VEVENT
BEGIN:VEVENT
SUMMARY:Weekday Eucharist - Every Thursday
DTSTART;TZID=Europe/London:20260924T093000
DTEND;TZID=Europe/London:20260924T100000
DTSTAMP:20260423T131456Z
UID:11430241790238600.0achurchnearyou
CATEGORIES:
DESCRIPTION:30 mins Said Holy Communion service in the Lady Chapel
GEO:-0.044308;51.467718
LOCATION:St Catherine's Church Hatcham
URL:https://www.achurchnearyou.com/church/651/service-and-events/events/11
 43024/
END:VEVENT
BEGIN:VEVENT
SUMMARY:Sung Eucharist
DTSTART;TZID=Europe/London:20260927T100000
DTEND;TZID=Europe/London:20260927T111500
DTSTAMP:20260423T131456Z
UID:11430231790499600.0achurchnearyou
CATEGORIES:
DESCRIPTION:Sung Eucharist with junior church/ Sunday school
GEO:-0.044308;51.467718
LOCATION:St Catherine's Church Hatcham
URL:https://www.achurchnearyou.com/church/651/service-and-events/events/11
 43023/
END:VEVENT
END:VCALENDAR
