BEGIN:VCALENDAR
VERSION:2.0
PRODID:-//achurchnearyou.com//eventfeed//EN
CALSCALE:GREGORIAN
METHOD:PUBLISH
X-WR-TIMEZONE:UTC
BEGIN:VEVENT
SUMMARY:9 lessons and carols
DTSTART:20251214T110000Z
DTEND:20251214T140000Z
DTSTAMP:20260422T061237Z
UID:12598592025-12-14 11:00:00+00:00achurchnearyou
CATEGORIES:
DESCRIPTION:followed by mulled wine
GEO:0.020974;51.523996
LOCATION:Plaistow: St Philip & St James
URL:https://www.achurchnearyou.com/church/6536/service-and-events/events/1
 259859/
END:VEVENT
END:VCALENDAR
