BEGIN:VCALENDAR
VERSION:2.0
PRODID:-//achurchnearyou.com//eventfeed//EN
CALSCALE:GREGORIAN
METHOD:PUBLISH
X-WR-TIMEZONE:UTC
BEGIN:VEVENT
SUMMARY:Coffee and Cake Fundraiser.
DTSTART:20250322T100000Z
DTEND:20250322T120000Z
DTSTAMP:20260419T181830Z
UID:11733122025-03-22 10:00:00+00:00achurchnearyou
CATEGORIES:
DESCRIPTION:Come and chat over a cuppa and a delicious slice of cake.\nVie
 w attachment for more details.
LOCATION:Tendring Village Hall
URL:https://www.achurchnearyou.com/church/6555/service-and-events/events/1
 173312/
END:VEVENT
END:VCALENDAR
