BEGIN:VCALENDAR
VERSION:2.0
PRODID:-//achurchnearyou.com//eventfeed//EN
CALSCALE:GREGORIAN
METHOD:PUBLISH
X-WR-TIMEZONE:UTC
BEGIN:VEVENT
SUMMARY:Taize and Healing Service
DTSTART:20251116T170000Z
DTEND:20251116T180000Z
DTSTAMP:20260424T083359Z
UID:12333172025-11-16 17:00:00+00:00achurchnearyou
CATEGORIES:
DESCRIPTION:A reflective service with candles\, Taize music and Bible read
 ings\, with the opportunity to receive anointing for healing.
GEO:0.174739;51.574304
LOCATION:Romford: St Andrew
URL:https://www.achurchnearyou.com/church/6573/service-and-events/events/1
 233317/
END:VEVENT
END:VCALENDAR
