BEGIN:VCALENDAR
VERSION:2.0
PRODID:-//achurchnearyou.com//eventfeed//EN
CALSCALE:GREGORIAN
METHOD:PUBLISH
X-WR-TIMEZONE:UTC
BEGIN:VEVENT
SUMMARY:Not Quite 9 Lessons and Carols with Band
DTSTART:20251220T190000Z
DTEND:20251220T200000Z
DTSTAMP:20260423T235847Z
UID:12383282025-12-20 19:00:00+00:00achurchnearyou
CATEGORIES:
DESCRIPTION:Come along for a candlelit service of carols and readings with
  a live band. \nRefreshments afterwards!
GEO:0.174739;51.574304
LOCATION:Romford: St Andrew
URL:https://www.achurchnearyou.com/church/6573/service-and-events/events/1
 238328/
END:VEVENT
END:VCALENDAR
