BEGIN:VCALENDAR
VERSION:2.0
PRODID:-//achurchnearyou.com//eventfeed//EN
CALSCALE:GREGORIAN
METHOD:PUBLISH
X-WR-TIMEZONE:UTC
BEGIN:VEVENT
SUMMARY:Ascension Day service
DTSTART:20260514T180000Z
DTEND:20260514T190000Z
DTSTAMP:20260422T234403Z
UID:13256162026-05-14 18:00:00+00:00achurchnearyou
CATEGORIES:
DESCRIPTION:Come and celebrate our Lord's Ascension into Heaven with a ser
 vice of Eucharist
GEO:0.174739;51.574304
LOCATION:Romford: St Andrew
URL:https://www.achurchnearyou.com/church/6573/service-and-events/events/1
 325616/
END:VEVENT
END:VCALENDAR
