BEGIN:VCALENDAR
VERSION:2.0
PRODID:-//achurchnearyou.com//eventfeed//EN
CALSCALE:GREGORIAN
METHOD:PUBLISH
X-WR-TIMEZONE:UTC
BEGIN:VEVENT
SUMMARY:Summer Fayre - 5th July - 10am
DTSTART:20250705T090000Z
DTEND:20250705T140000Z
DTSTAMP:20260422T161320Z
UID:11974182025-07-05 09:00:00+00:00achurchnearyou
CATEGORIES:
DESCRIPTION:Join us for our Summer Fayre on 6th July - starting at 10am.
GEO:0.180765;51.579588
LOCATION:St Edward the Confessor\, Romford
URL:https://www.achurchnearyou.com/church/6574/service-and-events/events/1
 197418/
END:VEVENT
END:VCALENDAR
