BEGIN:VCALENDAR
VERSION:2.0
PRODID:-//achurchnearyou.com//eventfeed//EN
CALSCALE:GREGORIAN
METHOD:PUBLISH
X-WR-TIMEZONE:UTC
BEGIN:VEVENT
SUMMARY:LUMOS LIVE - Coldplay
DTSTART:20250802T060000Z
DTEND:20250802T070000Z
DTSTAMP:20260422T162301Z
UID:12104292025-08-02 06:00:00+00:00achurchnearyou
CATEGORIES:
DESCRIPTION:Lumos Live are back! \nLumos are back in the church on Saturda
 y 2nd August with 2 showings of COLDPLAY. The start \ntimes are 7pm and 9p
 m.  To book your tickets click on this link:   \nhttps://www.lumos-experie
 nces.com/events/romford/\nOr go to Lumos Live website: https://www.lumos-e
 xperiences.com/events/
GEO:0.180765;51.579588
LOCATION:St Edward the Confessor\, Romford
URL:https://www.achurchnearyou.com/church/6574/service-and-events/events/1
 210429/
END:VEVENT
END:VCALENDAR
