BEGIN:VCALENDAR
VERSION:2.0
PRODID:-//achurchnearyou.com//eventfeed//EN
CALSCALE:GREGORIAN
METHOD:PUBLISH
X-WR-TIMEZONE:UTC
BEGIN:VEVENT
SUMMARY:Taizé Service
DTSTART;TZID=Europe/London:20250406T180000
DTEND;TZID=Europe/London:20250406T190000
DTSTAMP:20260423T021637Z
UID:11835422025-04-06 18:00:00+01:00achurchnearyou
CATEGORIES:
DESCRIPTION:Evening prayer with chants from the Taize community\, candles 
 and silence
GEO:0.780071;51.527342
LOCATION:South Shoebury: St Andrew with St Peter
URL:https://www.achurchnearyou.com/church/6581/service-and-events/events/1
 183542/
END:VEVENT
BEGIN:VEVENT
SUMMARY:Taizé Service
DTSTART;TZID=Europe/London:20250504T180000
DTEND;TZID=Europe/London:20250504T190000
DTSTAMP:20260423T021637Z
UID:11835422025-05-04 18:00:00+01:00achurchnearyou
CATEGORIES:
DESCRIPTION:Evening prayer with chants from the Taize community\, candles 
 and silence
GEO:0.780071;51.527342
LOCATION:South Shoebury: St Andrew with St Peter
URL:https://www.achurchnearyou.com/church/6581/service-and-events/events/1
 183542/
END:VEVENT
BEGIN:VEVENT
SUMMARY:Taizé Service
DTSTART;TZID=Europe/London:20250601T180000
DTEND;TZID=Europe/London:20250601T190000
DTSTAMP:20260423T021637Z
UID:11835422025-06-01 18:00:00+01:00achurchnearyou
CATEGORIES:
DESCRIPTION:Evening prayer with chants from the Taize community\, candles 
 and silence
GEO:0.780071;51.527342
LOCATION:South Shoebury: St Andrew with St Peter
URL:https://www.achurchnearyou.com/church/6581/service-and-events/events/1
 183542/
END:VEVENT
BEGIN:VEVENT
SUMMARY:Taizé Service
DTSTART;TZID=Europe/London:20250706T180000
DTEND;TZID=Europe/London:20250706T190000
DTSTAMP:20260423T021637Z
UID:11835422025-07-06 18:00:00+01:00achurchnearyou
CATEGORIES:
DESCRIPTION:Evening prayer with chants from the Taize community\, candles 
 and silence
GEO:0.780071;51.527342
LOCATION:South Shoebury: St Andrew with St Peter
URL:https://www.achurchnearyou.com/church/6581/service-and-events/events/1
 183542/
END:VEVENT
BEGIN:VEVENT
SUMMARY:Taizé Service
DTSTART;TZID=Europe/London:20250803T180000
DTEND;TZID=Europe/London:20250803T190000
DTSTAMP:20260423T021637Z
UID:11835422025-08-03 18:00:00+01:00achurchnearyou
CATEGORIES:
DESCRIPTION:Evening prayer with chants from the Taize community\, candles 
 and silence
GEO:0.780071;51.527342
LOCATION:South Shoebury: St Andrew with St Peter
URL:https://www.achurchnearyou.com/church/6581/service-and-events/events/1
 183542/
END:VEVENT
BEGIN:VEVENT
SUMMARY:Taizé Service
DTSTART;TZID=Europe/London:20250907T180000
DTEND;TZID=Europe/London:20250907T190000
DTSTAMP:20260423T021637Z
UID:11835422025-09-07 18:00:00+01:00achurchnearyou
CATEGORIES:
DESCRIPTION:Evening prayer with chants from the Taize community\, candles 
 and silence
GEO:0.780071;51.527342
LOCATION:South Shoebury: St Andrew with St Peter
URL:https://www.achurchnearyou.com/church/6581/service-and-events/events/1
 183542/
END:VEVENT
BEGIN:VEVENT
SUMMARY:Taizé Service
DTSTART;TZID=Europe/London:20251005T180000
DTEND;TZID=Europe/London:20251005T190000
DTSTAMP:20260423T021637Z
UID:11835422025-10-05 18:00:00+01:00achurchnearyou
CATEGORIES:
DESCRIPTION:Evening prayer with chants from the Taize community\, candles 
 and silence
GEO:0.780071;51.527342
LOCATION:South Shoebury: St Andrew with St Peter
URL:https://www.achurchnearyou.com/church/6581/service-and-events/events/1
 183542/
END:VEVENT
BEGIN:VEVENT
SUMMARY:Taizé Service
DTSTART;TZID=Europe/London:20251102T180000
DTEND;TZID=Europe/London:20251102T190000
DTSTAMP:20260423T021637Z
UID:11835422025-11-02 18:00:00+00:00achurchnearyou
CATEGORIES:
DESCRIPTION:Evening prayer with chants from the Taize community\, candles 
 and silence
GEO:0.780071;51.527342
LOCATION:South Shoebury: St Andrew with St Peter
URL:https://www.achurchnearyou.com/church/6581/service-and-events/events/1
 183542/
END:VEVENT
BEGIN:VEVENT
SUMMARY:Taizé Service
DTSTART;TZID=Europe/London:20251207T180000
DTEND;TZID=Europe/London:20251207T190000
DTSTAMP:20260423T021637Z
UID:11835422025-12-07 18:00:00+00:00achurchnearyou
CATEGORIES:
DESCRIPTION:Evening prayer with chants from the Taize community\, candles 
 and silence
GEO:0.780071;51.527342
LOCATION:South Shoebury: St Andrew with St Peter
URL:https://www.achurchnearyou.com/church/6581/service-and-events/events/1
 183542/
END:VEVENT
BEGIN:VEVENT
SUMMARY:Taizé Service
DTSTART;TZID=Europe/London:20260104T180000
DTEND;TZID=Europe/London:20260104T190000
DTSTAMP:20260423T021637Z
UID:11835422026-01-04 18:00:00+00:00achurchnearyou
CATEGORIES:
DESCRIPTION:Evening prayer with chants from the Taize community\, candles 
 and silence
GEO:0.780071;51.527342
LOCATION:South Shoebury: St Andrew with St Peter
URL:https://www.achurchnearyou.com/church/6581/service-and-events/events/1
 183542/
END:VEVENT
BEGIN:VEVENT
SUMMARY:Taizé Service
DTSTART;TZID=Europe/London:20260201T180000
DTEND;TZID=Europe/London:20260201T190000
DTSTAMP:20260423T021637Z
UID:11835422026-02-01 18:00:00+00:00achurchnearyou
CATEGORIES:
DESCRIPTION:Evening prayer with chants from the Taize community\, candles 
 and silence
GEO:0.780071;51.527342
LOCATION:South Shoebury: St Andrew with St Peter
URL:https://www.achurchnearyou.com/church/6581/service-and-events/events/1
 183542/
END:VEVENT
BEGIN:VEVENT
SUMMARY:Taizé Service
DTSTART;TZID=Europe/London:20260301T180000
DTEND;TZID=Europe/London:20260301T190000
DTSTAMP:20260423T021637Z
UID:11835422026-03-01 18:00:00+00:00achurchnearyou
CATEGORIES:
DESCRIPTION:Evening prayer with chants from the Taize community\, candles 
 and silence
GEO:0.780071;51.527342
LOCATION:South Shoebury: St Andrew with St Peter
URL:https://www.achurchnearyou.com/church/6581/service-and-events/events/1
 183542/
END:VEVENT
BEGIN:VEVENT
SUMMARY:Taizé Service
DTSTART;TZID=Europe/London:20260405T180000
DTEND;TZID=Europe/London:20260405T190000
DTSTAMP:20260423T021637Z
UID:11835422026-04-05 18:00:00+01:00achurchnearyou
CATEGORIES:
DESCRIPTION:Evening prayer with chants from the Taize community\, candles 
 and silence
GEO:0.780071;51.527342
LOCATION:South Shoebury: St Andrew with St Peter
URL:https://www.achurchnearyou.com/church/6581/service-and-events/events/1
 183542/
END:VEVENT
BEGIN:VEVENT
SUMMARY:Taizé Service
DTSTART;TZID=Europe/London:20260503T180000
DTEND;TZID=Europe/London:20260503T190000
DTSTAMP:20260423T021637Z
UID:11835422026-05-03 18:00:00+01:00achurchnearyou
CATEGORIES:
DESCRIPTION:Evening prayer with chants from the Taize community\, candles 
 and silence
GEO:0.780071;51.527342
LOCATION:South Shoebury: St Andrew with St Peter
URL:https://www.achurchnearyou.com/church/6581/service-and-events/events/1
 183542/
END:VEVENT
BEGIN:VEVENT
SUMMARY:Taizé Service
DTSTART;TZID=Europe/London:20260607T180000
DTEND;TZID=Europe/London:20260607T190000
DTSTAMP:20260423T021637Z
UID:11835422026-06-07 18:00:00+01:00achurchnearyou
CATEGORIES:
DESCRIPTION:Evening prayer with chants from the Taize community\, candles 
 and silence
GEO:0.780071;51.527342
LOCATION:South Shoebury: St Andrew with St Peter
URL:https://www.achurchnearyou.com/church/6581/service-and-events/events/1
 183542/
END:VEVENT
BEGIN:VEVENT
SUMMARY:Taizé Service
DTSTART;TZID=Europe/London:20260705T180000
DTEND;TZID=Europe/London:20260705T190000
DTSTAMP:20260423T021637Z
UID:11835422026-07-05 18:00:00+01:00achurchnearyou
CATEGORIES:
DESCRIPTION:Evening prayer with chants from the Taize community\, candles 
 and silence
GEO:0.780071;51.527342
LOCATION:South Shoebury: St Andrew with St Peter
URL:https://www.achurchnearyou.com/church/6581/service-and-events/events/1
 183542/
END:VEVENT
BEGIN:VEVENT
SUMMARY:Taizé Service
DTSTART;TZID=Europe/London:20260802T180000
DTEND;TZID=Europe/London:20260802T190000
DTSTAMP:20260423T021637Z
UID:11835422026-08-02 18:00:00+01:00achurchnearyou
CATEGORIES:
DESCRIPTION:Evening prayer with chants from the Taize community\, candles 
 and silence
GEO:0.780071;51.527342
LOCATION:South Shoebury: St Andrew with St Peter
URL:https://www.achurchnearyou.com/church/6581/service-and-events/events/1
 183542/
END:VEVENT
BEGIN:VEVENT
SUMMARY:Taizé Service
DTSTART;TZID=Europe/London:20260906T180000
DTEND;TZID=Europe/London:20260906T190000
DTSTAMP:20260423T021637Z
UID:11835422026-09-06 18:00:00+01:00achurchnearyou
CATEGORIES:
DESCRIPTION:Evening prayer with chants from the Taize community\, candles 
 and silence
GEO:0.780071;51.527342
LOCATION:South Shoebury: St Andrew with St Peter
URL:https://www.achurchnearyou.com/church/6581/service-and-events/events/1
 183542/
END:VEVENT
BEGIN:VEVENT
SUMMARY:Taizé Service
DTSTART;TZID=Europe/London:20261004T180000
DTEND;TZID=Europe/London:20261004T190000
DTSTAMP:20260423T021637Z
UID:11835422026-10-04 18:00:00+01:00achurchnearyou
CATEGORIES:
DESCRIPTION:Evening prayer with chants from the Taize community\, candles 
 and silence
GEO:0.780071;51.527342
LOCATION:South Shoebury: St Andrew with St Peter
URL:https://www.achurchnearyou.com/church/6581/service-and-events/events/1
 183542/
END:VEVENT
BEGIN:VEVENT
SUMMARY:Taizé Service
DTSTART;TZID=Europe/London:20261101T180000
DTEND;TZID=Europe/London:20261101T190000
DTSTAMP:20260423T021637Z
UID:11835422026-11-01 18:00:00+00:00achurchnearyou
CATEGORIES:
DESCRIPTION:Evening prayer with chants from the Taize community\, candles 
 and silence
GEO:0.780071;51.527342
LOCATION:South Shoebury: St Andrew with St Peter
URL:https://www.achurchnearyou.com/church/6581/service-and-events/events/1
 183542/
END:VEVENT
BEGIN:VEVENT
SUMMARY:Taizé Service
DTSTART;TZID=Europe/London:20261206T180000
DTEND;TZID=Europe/London:20261206T190000
DTSTAMP:20260423T021637Z
UID:11835422026-12-06 18:00:00+00:00achurchnearyou
CATEGORIES:
DESCRIPTION:Evening prayer with chants from the Taize community\, candles 
 and silence
GEO:0.780071;51.527342
LOCATION:South Shoebury: St Andrew with St Peter
URL:https://www.achurchnearyou.com/church/6581/service-and-events/events/1
 183542/
END:VEVENT
BEGIN:VEVENT
SUMMARY:Taizé Service
DTSTART;TZID=Europe/London:20270103T180000
DTEND;TZID=Europe/London:20270103T190000
DTSTAMP:20260423T021637Z
UID:11835422027-01-03 18:00:00+00:00achurchnearyou
CATEGORIES:
DESCRIPTION:Evening prayer with chants from the Taize community\, candles 
 and silence
GEO:0.780071;51.527342
LOCATION:South Shoebury: St Andrew with St Peter
URL:https://www.achurchnearyou.com/church/6581/service-and-events/events/1
 183542/
END:VEVENT
BEGIN:VEVENT
SUMMARY:Taizé Service
DTSTART;TZID=Europe/London:20270207T180000
DTEND;TZID=Europe/London:20270207T190000
DTSTAMP:20260423T021637Z
UID:11835422027-02-07 18:00:00+00:00achurchnearyou
CATEGORIES:
DESCRIPTION:Evening prayer with chants from the Taize community\, candles 
 and silence
GEO:0.780071;51.527342
LOCATION:South Shoebury: St Andrew with St Peter
URL:https://www.achurchnearyou.com/church/6581/service-and-events/events/1
 183542/
END:VEVENT
BEGIN:VEVENT
SUMMARY:Taizé Service
DTSTART;TZID=Europe/London:20270307T180000
DTEND;TZID=Europe/London:20270307T190000
DTSTAMP:20260423T021637Z
UID:11835422027-03-07 18:00:00+00:00achurchnearyou
CATEGORIES:
DESCRIPTION:Evening prayer with chants from the Taize community\, candles 
 and silence
GEO:0.780071;51.527342
LOCATION:South Shoebury: St Andrew with St Peter
URL:https://www.achurchnearyou.com/church/6581/service-and-events/events/1
 183542/
END:VEVENT
BEGIN:VEVENT
SUMMARY:Taizé Service
DTSTART;TZID=Europe/London:20270404T180000
DTEND;TZID=Europe/London:20270404T190000
DTSTAMP:20260423T021637Z
UID:11835422027-04-04 18:00:00+01:00achurchnearyou
CATEGORIES:
DESCRIPTION:Evening prayer with chants from the Taize community\, candles 
 and silence
GEO:0.780071;51.527342
LOCATION:South Shoebury: St Andrew with St Peter
URL:https://www.achurchnearyou.com/church/6581/service-and-events/events/1
 183542/
END:VEVENT
END:VCALENDAR
