BEGIN:VCALENDAR
VERSION:2.0
PRODID:-//achurchnearyou.com//eventfeed//EN
CALSCALE:GREGORIAN
METHOD:PUBLISH
X-WR-TIMEZONE:UTC
BEGIN:VEVENT
SUMMARY:United Service at Holy Trinity \, Southchurch
DTSTART:20250810T173000Z
DTEND:20250810T183000Z
DTSTAMP:20260424T030535Z
UID:12104822025-08-10 17:30:00+00:00achurchnearyou
CATEGORIES:
DESCRIPTION:United Service at Holy Trinity \, Southchurch
LOCATION:Holy Trinity\, Southchurch
URL:https://www.achurchnearyou.com/church/6581/service-and-events/events/1
 210482/
END:VEVENT
END:VCALENDAR
