BEGIN:VCALENDAR
VERSION:2.0
PRODID:-//achurchnearyou.com//eventfeed//EN
CALSCALE:GREGORIAN
METHOD:PUBLISH
X-WR-TIMEZONE:UTC
BEGIN:VEVENT
SUMMARY:Morning Prayer
DTSTART;TZID=Europe/London:20260510T093000
DTEND;TZID=Europe/London:20260510T103000
DTSTAMP:20260423T021021Z
UID:3934622026-05-10 09:30:00+01:00achurchnearyou
CATEGORIES:
DESCRIPTION:A service for all ages with hymns\, songs\, prayers\, Bible re
 adings and a sermon.
GEO:0.780071;51.527342
LOCATION:South Shoebury: St Andrew with St Peter
URL:https://www.achurchnearyou.com/church/6581/service-and-events/events/3
 93462/
END:VEVENT
BEGIN:VEVENT
SUMMARY:Morning Prayer
DTSTART;TZID=Europe/London:20260517T093000
DTEND;TZID=Europe/London:20260517T103000
DTSTAMP:20260423T021021Z
UID:3934622026-05-17 09:30:00+01:00achurchnearyou
CATEGORIES:
DESCRIPTION:A service for all ages with hymns\, songs\, prayers\, Bible re
 adings and a sermon.
GEO:0.780071;51.527342
LOCATION:South Shoebury: St Andrew with St Peter
URL:https://www.achurchnearyou.com/church/6581/service-and-events/events/3
 93462/
END:VEVENT
BEGIN:VEVENT
SUMMARY:Morning Prayer
DTSTART;TZID=Europe/London:20260531T093000
DTEND;TZID=Europe/London:20260531T103000
DTSTAMP:20260423T021021Z
UID:3934622026-05-31 09:30:00+01:00achurchnearyou
CATEGORIES:
DESCRIPTION:A service for all ages with hymns\, songs\, prayers\, Bible re
 adings and a sermon.
GEO:0.780071;51.527342
LOCATION:South Shoebury: St Andrew with St Peter
URL:https://www.achurchnearyou.com/church/6581/service-and-events/events/3
 93462/
END:VEVENT
BEGIN:VEVENT
SUMMARY:Morning Prayer
DTSTART;TZID=Europe/London:20260614T093000
DTEND;TZID=Europe/London:20260614T103000
DTSTAMP:20260423T021021Z
UID:3934622026-06-14 09:30:00+01:00achurchnearyou
CATEGORIES:
DESCRIPTION:A service for all ages with hymns\, songs\, prayers\, Bible re
 adings and a sermon.
GEO:0.780071;51.527342
LOCATION:South Shoebury: St Andrew with St Peter
URL:https://www.achurchnearyou.com/church/6581/service-and-events/events/3
 93462/
END:VEVENT
BEGIN:VEVENT
SUMMARY:Morning Prayer
DTSTART;TZID=Europe/London:20260621T093000
DTEND;TZID=Europe/London:20260621T103000
DTSTAMP:20260423T021021Z
UID:3934622026-06-21 09:30:00+01:00achurchnearyou
CATEGORIES:
DESCRIPTION:A service for all ages with hymns\, songs\, prayers\, Bible re
 adings and a sermon.
GEO:0.780071;51.527342
LOCATION:South Shoebury: St Andrew with St Peter
URL:https://www.achurchnearyou.com/church/6581/service-and-events/events/3
 93462/
END:VEVENT
BEGIN:VEVENT
SUMMARY:Morning Prayer
DTSTART;TZID=Europe/London:20260712T093000
DTEND;TZID=Europe/London:20260712T103000
DTSTAMP:20260423T021021Z
UID:3934622026-07-12 09:30:00+01:00achurchnearyou
CATEGORIES:
DESCRIPTION:A service for all ages with hymns\, songs\, prayers\, Bible re
 adings and a sermon.
GEO:0.780071;51.527342
LOCATION:South Shoebury: St Andrew with St Peter
URL:https://www.achurchnearyou.com/church/6581/service-and-events/events/3
 93462/
END:VEVENT
BEGIN:VEVENT
SUMMARY:Morning Prayer
DTSTART;TZID=Europe/London:20260719T093000
DTEND;TZID=Europe/London:20260719T103000
DTSTAMP:20260423T021021Z
UID:3934622026-07-19 09:30:00+01:00achurchnearyou
CATEGORIES:
DESCRIPTION:A service for all ages with hymns\, songs\, prayers\, Bible re
 adings and a sermon.
GEO:0.780071;51.527342
LOCATION:South Shoebury: St Andrew with St Peter
URL:https://www.achurchnearyou.com/church/6581/service-and-events/events/3
 93462/
END:VEVENT
BEGIN:VEVENT
SUMMARY:Morning Prayer
DTSTART;TZID=Europe/London:20260809T093000
DTEND;TZID=Europe/London:20260809T103000
DTSTAMP:20260423T021021Z
UID:3934622026-08-09 09:30:00+01:00achurchnearyou
CATEGORIES:
DESCRIPTION:A service for all ages with hymns\, songs\, prayers\, Bible re
 adings and a sermon.
GEO:0.780071;51.527342
LOCATION:South Shoebury: St Andrew with St Peter
URL:https://www.achurchnearyou.com/church/6581/service-and-events/events/3
 93462/
END:VEVENT
BEGIN:VEVENT
SUMMARY:Morning Prayer
DTSTART;TZID=Europe/London:20260816T093000
DTEND;TZID=Europe/London:20260816T103000
DTSTAMP:20260423T021021Z
UID:3934622026-08-16 09:30:00+01:00achurchnearyou
CATEGORIES:
DESCRIPTION:A service for all ages with hymns\, songs\, prayers\, Bible re
 adings and a sermon.
GEO:0.780071;51.527342
LOCATION:South Shoebury: St Andrew with St Peter
URL:https://www.achurchnearyou.com/church/6581/service-and-events/events/3
 93462/
END:VEVENT
BEGIN:VEVENT
SUMMARY:Morning Prayer
DTSTART;TZID=Europe/London:20260830T093000
DTEND;TZID=Europe/London:20260830T103000
DTSTAMP:20260423T021021Z
UID:3934622026-08-30 09:30:00+01:00achurchnearyou
CATEGORIES:
DESCRIPTION:A service for all ages with hymns\, songs\, prayers\, Bible re
 adings and a sermon.
GEO:0.780071;51.527342
LOCATION:South Shoebury: St Andrew with St Peter
URL:https://www.achurchnearyou.com/church/6581/service-and-events/events/3
 93462/
END:VEVENT
BEGIN:VEVENT
SUMMARY:Morning Prayer
DTSTART;TZID=Europe/London:20260913T093000
DTEND;TZID=Europe/London:20260913T103000
DTSTAMP:20260423T021021Z
UID:3934622026-09-13 09:30:00+01:00achurchnearyou
CATEGORIES:
DESCRIPTION:A service for all ages with hymns\, songs\, prayers\, Bible re
 adings and a sermon.
GEO:0.780071;51.527342
LOCATION:South Shoebury: St Andrew with St Peter
URL:https://www.achurchnearyou.com/church/6581/service-and-events/events/3
 93462/
END:VEVENT
BEGIN:VEVENT
SUMMARY:Morning Prayer
DTSTART;TZID=Europe/London:20260920T093000
DTEND;TZID=Europe/London:20260920T103000
DTSTAMP:20260423T021021Z
UID:3934622026-09-20 09:30:00+01:00achurchnearyou
CATEGORIES:
DESCRIPTION:A service for all ages with hymns\, songs\, prayers\, Bible re
 adings and a sermon.
GEO:0.780071;51.527342
LOCATION:South Shoebury: St Andrew with St Peter
URL:https://www.achurchnearyou.com/church/6581/service-and-events/events/3
 93462/
END:VEVENT
BEGIN:VEVENT
SUMMARY:Morning Prayer
DTSTART;TZID=Europe/London:20261011T093000
DTEND;TZID=Europe/London:20261011T103000
DTSTAMP:20260423T021021Z
UID:3934622026-10-11 09:30:00+01:00achurchnearyou
CATEGORIES:
DESCRIPTION:A service for all ages with hymns\, songs\, prayers\, Bible re
 adings and a sermon.
GEO:0.780071;51.527342
LOCATION:South Shoebury: St Andrew with St Peter
URL:https://www.achurchnearyou.com/church/6581/service-and-events/events/3
 93462/
END:VEVENT
BEGIN:VEVENT
SUMMARY:Morning Prayer
DTSTART;TZID=Europe/London:20261018T093000
DTEND;TZID=Europe/London:20261018T103000
DTSTAMP:20260423T021021Z
UID:3934622026-10-18 09:30:00+01:00achurchnearyou
CATEGORIES:
DESCRIPTION:A service for all ages with hymns\, songs\, prayers\, Bible re
 adings and a sermon.
GEO:0.780071;51.527342
LOCATION:South Shoebury: St Andrew with St Peter
URL:https://www.achurchnearyou.com/church/6581/service-and-events/events/3
 93462/
END:VEVENT
BEGIN:VEVENT
SUMMARY:Morning Prayer
DTSTART;TZID=Europe/London:20261108T093000
DTEND;TZID=Europe/London:20261108T103000
DTSTAMP:20260423T021021Z
UID:3934622026-11-08 09:30:00+00:00achurchnearyou
CATEGORIES:
DESCRIPTION:A service for all ages with hymns\, songs\, prayers\, Bible re
 adings and a sermon.
GEO:0.780071;51.527342
LOCATION:South Shoebury: St Andrew with St Peter
URL:https://www.achurchnearyou.com/church/6581/service-and-events/events/3
 93462/
END:VEVENT
BEGIN:VEVENT
SUMMARY:Morning Prayer
DTSTART;TZID=Europe/London:20261115T093000
DTEND;TZID=Europe/London:20261115T103000
DTSTAMP:20260423T021021Z
UID:3934622026-11-15 09:30:00+00:00achurchnearyou
CATEGORIES:
DESCRIPTION:A service for all ages with hymns\, songs\, prayers\, Bible re
 adings and a sermon.
GEO:0.780071;51.527342
LOCATION:South Shoebury: St Andrew with St Peter
URL:https://www.achurchnearyou.com/church/6581/service-and-events/events/3
 93462/
END:VEVENT
BEGIN:VEVENT
SUMMARY:Morning Prayer
DTSTART;TZID=Europe/London:20261129T093000
DTEND;TZID=Europe/London:20261129T103000
DTSTAMP:20260423T021021Z
UID:3934622026-11-29 09:30:00+00:00achurchnearyou
CATEGORIES:
DESCRIPTION:A service for all ages with hymns\, songs\, prayers\, Bible re
 adings and a sermon.
GEO:0.780071;51.527342
LOCATION:South Shoebury: St Andrew with St Peter
URL:https://www.achurchnearyou.com/church/6581/service-and-events/events/3
 93462/
END:VEVENT
BEGIN:VEVENT
SUMMARY:Morning Prayer
DTSTART;TZID=Europe/London:20261213T093000
DTEND;TZID=Europe/London:20261213T103000
DTSTAMP:20260423T021021Z
UID:3934622026-12-13 09:30:00+00:00achurchnearyou
CATEGORIES:
DESCRIPTION:A service for all ages with hymns\, songs\, prayers\, Bible re
 adings and a sermon.
GEO:0.780071;51.527342
LOCATION:South Shoebury: St Andrew with St Peter
URL:https://www.achurchnearyou.com/church/6581/service-and-events/events/3
 93462/
END:VEVENT
BEGIN:VEVENT
SUMMARY:Morning Prayer
DTSTART;TZID=Europe/London:20261220T093000
DTEND;TZID=Europe/London:20261220T103000
DTSTAMP:20260423T021021Z
UID:3934622026-12-20 09:30:00+00:00achurchnearyou
CATEGORIES:
DESCRIPTION:A service for all ages with hymns\, songs\, prayers\, Bible re
 adings and a sermon.
GEO:0.780071;51.527342
LOCATION:South Shoebury: St Andrew with St Peter
URL:https://www.achurchnearyou.com/church/6581/service-and-events/events/3
 93462/
END:VEVENT
BEGIN:VEVENT
SUMMARY:Morning Prayer
DTSTART;TZID=Europe/London:20270110T093000
DTEND;TZID=Europe/London:20270110T103000
DTSTAMP:20260423T021021Z
UID:3934622027-01-10 09:30:00+00:00achurchnearyou
CATEGORIES:
DESCRIPTION:A service for all ages with hymns\, songs\, prayers\, Bible re
 adings and a sermon.
GEO:0.780071;51.527342
LOCATION:South Shoebury: St Andrew with St Peter
URL:https://www.achurchnearyou.com/church/6581/service-and-events/events/3
 93462/
END:VEVENT
BEGIN:VEVENT
SUMMARY:Morning Prayer
DTSTART;TZID=Europe/London:20270117T093000
DTEND;TZID=Europe/London:20270117T103000
DTSTAMP:20260423T021021Z
UID:3934622027-01-17 09:30:00+00:00achurchnearyou
CATEGORIES:
DESCRIPTION:A service for all ages with hymns\, songs\, prayers\, Bible re
 adings and a sermon.
GEO:0.780071;51.527342
LOCATION:South Shoebury: St Andrew with St Peter
URL:https://www.achurchnearyou.com/church/6581/service-and-events/events/3
 93462/
END:VEVENT
BEGIN:VEVENT
SUMMARY:Morning Prayer
DTSTART;TZID=Europe/London:20270131T093000
DTEND;TZID=Europe/London:20270131T103000
DTSTAMP:20260423T021021Z
UID:3934622027-01-31 09:30:00+00:00achurchnearyou
CATEGORIES:
DESCRIPTION:A service for all ages with hymns\, songs\, prayers\, Bible re
 adings and a sermon.
GEO:0.780071;51.527342
LOCATION:South Shoebury: St Andrew with St Peter
URL:https://www.achurchnearyou.com/church/6581/service-and-events/events/3
 93462/
END:VEVENT
BEGIN:VEVENT
SUMMARY:Morning Prayer
DTSTART;TZID=Europe/London:20270214T093000
DTEND;TZID=Europe/London:20270214T103000
DTSTAMP:20260423T021021Z
UID:3934622027-02-14 09:30:00+00:00achurchnearyou
CATEGORIES:
DESCRIPTION:A service for all ages with hymns\, songs\, prayers\, Bible re
 adings and a sermon.
GEO:0.780071;51.527342
LOCATION:South Shoebury: St Andrew with St Peter
URL:https://www.achurchnearyou.com/church/6581/service-and-events/events/3
 93462/
END:VEVENT
BEGIN:VEVENT
SUMMARY:Morning Prayer
DTSTART;TZID=Europe/London:20270221T093000
DTEND;TZID=Europe/London:20270221T103000
DTSTAMP:20260423T021021Z
UID:3934622027-02-21 09:30:00+00:00achurchnearyou
CATEGORIES:
DESCRIPTION:A service for all ages with hymns\, songs\, prayers\, Bible re
 adings and a sermon.
GEO:0.780071;51.527342
LOCATION:South Shoebury: St Andrew with St Peter
URL:https://www.achurchnearyou.com/church/6581/service-and-events/events/3
 93462/
END:VEVENT
BEGIN:VEVENT
SUMMARY:Morning Prayer
DTSTART;TZID=Europe/London:20270314T093000
DTEND;TZID=Europe/London:20270314T103000
DTSTAMP:20260423T021021Z
UID:3934622027-03-14 09:30:00+00:00achurchnearyou
CATEGORIES:
DESCRIPTION:A service for all ages with hymns\, songs\, prayers\, Bible re
 adings and a sermon.
GEO:0.780071;51.527342
LOCATION:South Shoebury: St Andrew with St Peter
URL:https://www.achurchnearyou.com/church/6581/service-and-events/events/3
 93462/
END:VEVENT
BEGIN:VEVENT
SUMMARY:Morning Prayer
DTSTART;TZID=Europe/London:20270321T093000
DTEND;TZID=Europe/London:20270321T103000
DTSTAMP:20260423T021021Z
UID:3934622027-03-21 09:30:00+00:00achurchnearyou
CATEGORIES:
DESCRIPTION:A service for all ages with hymns\, songs\, prayers\, Bible re
 adings and a sermon.
GEO:0.780071;51.527342
LOCATION:South Shoebury: St Andrew with St Peter
URL:https://www.achurchnearyou.com/church/6581/service-and-events/events/3
 93462/
END:VEVENT
BEGIN:VEVENT
SUMMARY:Morning Prayer
DTSTART;TZID=Europe/London:20270411T093000
DTEND;TZID=Europe/London:20270411T103000
DTSTAMP:20260423T021021Z
UID:3934622027-04-11 09:30:00+01:00achurchnearyou
CATEGORIES:
DESCRIPTION:A service for all ages with hymns\, songs\, prayers\, Bible re
 adings and a sermon.
GEO:0.780071;51.527342
LOCATION:South Shoebury: St Andrew with St Peter
URL:https://www.achurchnearyou.com/church/6581/service-and-events/events/3
 93462/
END:VEVENT
BEGIN:VEVENT
SUMMARY:Morning Prayer
DTSTART;TZID=Europe/London:20270418T093000
DTEND;TZID=Europe/London:20270418T103000
DTSTAMP:20260423T021021Z
UID:3934622027-04-18 09:30:00+01:00achurchnearyou
CATEGORIES:
DESCRIPTION:A service for all ages with hymns\, songs\, prayers\, Bible re
 adings and a sermon.
GEO:0.780071;51.527342
LOCATION:South Shoebury: St Andrew with St Peter
URL:https://www.achurchnearyou.com/church/6581/service-and-events/events/3
 93462/
END:VEVENT
END:VCALENDAR
