BEGIN:VCALENDAR
VERSION:2.0
PRODID:-//achurchnearyou.com//eventfeed//EN
CALSCALE:GREGORIAN
METHOD:PUBLISH
X-WR-TIMEZONE:UTC
BEGIN:VEVENT
SUMMARY:Family Service
DTSTART;TZID=Europe/London:20260405T110000
DTEND;TZID=Europe/London:20260405T114500
DTSTAMP:20260423T084502Z
UID:3934611775383200.0achurchnearyou
CATEGORIES:
DESCRIPTION:Lovely service for families based on Morning Prayer but with t
 ime for news and events and saying Thank You to God 
GEO:0.793399;51.530567
LOCATION:South Shoebury: St Peter
URL:https://www.achurchnearyou.com/church/6582/service-and-events/events/3
 93461/
END:VEVENT
BEGIN:VEVENT
SUMMARY:Tea & Toast on Tuedays
DTSTART;TZID=Europe/London:20260407T093000
DTEND;TZID=Europe/London:20260407T113000
DTSTAMP:20260423T084502Z
UID:5158141775550600.0achurchnearyou
CATEGORIES:
DESCRIPTION:Tea & Coffee and toast for one and all!  Come and join us for 
 a social time. Bring the children\, children's games available.
GEO:0.793399;51.530567
LOCATION:South Shoebury: St Peter
URL:http://www.southshoebury.org
END:VEVENT
BEGIN:VEVENT
SUMMARY:Morning Prayer 
DTSTART;TZID=Europe/London:20260412T110000
DTEND;TZID=Europe/London:20260412T120000
DTSTAMP:20260423T084502Z
UID:3934571775988000.0achurchnearyou
CATEGORIES:
DESCRIPTION:
GEO:0.793399;51.530567
LOCATION:South Shoebury: St Peter
URL:https://www.achurchnearyou.com/church/6582/service-and-events/events/3
 93457/
END:VEVENT
BEGIN:VEVENT
SUMMARY:Holy Communion
DTSTART;TZID=Europe/London:20260412T110000
DTEND;TZID=Europe/London:20260412T120000
DTSTAMP:20260423T084502Z
UID:5158131775988000.0achurchnearyou
CATEGORIES:
DESCRIPTION:Common Worship setting for Holy Communion
GEO:0.793399;51.530567
LOCATION:South Shoebury: St Peter
URL:http://www.southshoebury.org
END:VEVENT
BEGIN:VEVENT
SUMMARY:Tea & Toast on Tuedays
DTSTART;TZID=Europe/London:20260414T093000
DTEND;TZID=Europe/London:20260414T113000
DTSTAMP:20260423T084502Z
UID:5158141776155400.0achurchnearyou
CATEGORIES:
DESCRIPTION:Tea & Coffee and toast for one and all!  Come and join us for 
 a social time. Bring the children\, children's games available.
GEO:0.793399;51.530567
LOCATION:South Shoebury: St Peter
URL:http://www.southshoebury.org
END:VEVENT
BEGIN:VEVENT
SUMMARY:Morning Prayer 
DTSTART;TZID=Europe/London:20260419T110000
DTEND;TZID=Europe/London:20260419T120000
DTSTAMP:20260423T084502Z
UID:3934571776592800.0achurchnearyou
CATEGORIES:
DESCRIPTION:
GEO:0.793399;51.530567
LOCATION:South Shoebury: St Peter
URL:https://www.achurchnearyou.com/church/6582/service-and-events/events/3
 93457/
END:VEVENT
BEGIN:VEVENT
SUMMARY:Tea & Toast on Tuedays
DTSTART;TZID=Europe/London:20260421T093000
DTEND;TZID=Europe/London:20260421T113000
DTSTAMP:20260423T084502Z
UID:5158141776760200.0achurchnearyou
CATEGORIES:
DESCRIPTION:Tea & Coffee and toast for one and all!  Come and join us for 
 a social time. Bring the children\, children's games available.
GEO:0.793399;51.530567
LOCATION:South Shoebury: St Peter
URL:http://www.southshoebury.org
END:VEVENT
BEGIN:VEVENT
SUMMARY:Holy Communion
DTSTART;TZID=Europe/London:20260426T110000
DTEND;TZID=Europe/London:20260426T120000
DTSTAMP:20260423T084502Z
UID:5158131777197600.0achurchnearyou
CATEGORIES:
DESCRIPTION:Common Worship setting for Holy Communion
GEO:0.793399;51.530567
LOCATION:South Shoebury: St Peter
URL:http://www.southshoebury.org
END:VEVENT
BEGIN:VEVENT
SUMMARY:Tea & Toast on Tuedays
DTSTART;TZID=Europe/London:20260428T093000
DTEND;TZID=Europe/London:20260428T113000
DTSTAMP:20260423T084502Z
UID:5158141777365000.0achurchnearyou
CATEGORIES:
DESCRIPTION:Tea & Coffee and toast for one and all!  Come and join us for 
 a social time. Bring the children\, children's games available.
GEO:0.793399;51.530567
LOCATION:South Shoebury: St Peter
URL:http://www.southshoebury.org
END:VEVENT
BEGIN:VEVENT
SUMMARY:Family Service
DTSTART;TZID=Europe/London:20260503T110000
DTEND;TZID=Europe/London:20260503T114500
DTSTAMP:20260423T084502Z
UID:3934611777802400.0achurchnearyou
CATEGORIES:
DESCRIPTION:Lovely service for families based on Morning Prayer but with t
 ime for news and events and saying Thank You to God 
GEO:0.793399;51.530567
LOCATION:South Shoebury: St Peter
URL:https://www.achurchnearyou.com/church/6582/service-and-events/events/3
 93461/
END:VEVENT
BEGIN:VEVENT
SUMMARY:Tea & Toast on Tuedays
DTSTART;TZID=Europe/London:20260505T093000
DTEND;TZID=Europe/London:20260505T113000
DTSTAMP:20260423T084502Z
UID:5158141777969800.0achurchnearyou
CATEGORIES:
DESCRIPTION:Tea & Coffee and toast for one and all!  Come and join us for 
 a social time. Bring the children\, children's games available.
GEO:0.793399;51.530567
LOCATION:South Shoebury: St Peter
URL:http://www.southshoebury.org
END:VEVENT
BEGIN:VEVENT
SUMMARY:Morning Prayer 
DTSTART;TZID=Europe/London:20260510T110000
DTEND;TZID=Europe/London:20260510T120000
DTSTAMP:20260423T084502Z
UID:3934571778407200.0achurchnearyou
CATEGORIES:
DESCRIPTION:
GEO:0.793399;51.530567
LOCATION:South Shoebury: St Peter
URL:https://www.achurchnearyou.com/church/6582/service-and-events/events/3
 93457/
END:VEVENT
BEGIN:VEVENT
SUMMARY:Holy Communion
DTSTART;TZID=Europe/London:20260510T110000
DTEND;TZID=Europe/London:20260510T120000
DTSTAMP:20260423T084502Z
UID:5158131778407200.0achurchnearyou
CATEGORIES:
DESCRIPTION:Common Worship setting for Holy Communion
GEO:0.793399;51.530567
LOCATION:South Shoebury: St Peter
URL:http://www.southshoebury.org
END:VEVENT
BEGIN:VEVENT
SUMMARY:Tea & Toast on Tuedays
DTSTART;TZID=Europe/London:20260512T093000
DTEND;TZID=Europe/London:20260512T113000
DTSTAMP:20260423T084502Z
UID:5158141778574600.0achurchnearyou
CATEGORIES:
DESCRIPTION:Tea & Coffee and toast for one and all!  Come and join us for 
 a social time. Bring the children\, children's games available.
GEO:0.793399;51.530567
LOCATION:South Shoebury: St Peter
URL:http://www.southshoebury.org
END:VEVENT
BEGIN:VEVENT
SUMMARY:Morning Prayer 
DTSTART;TZID=Europe/London:20260517T110000
DTEND;TZID=Europe/London:20260517T120000
DTSTAMP:20260423T084502Z
UID:3934571779012000.0achurchnearyou
CATEGORIES:
DESCRIPTION:
GEO:0.793399;51.530567
LOCATION:South Shoebury: St Peter
URL:https://www.achurchnearyou.com/church/6582/service-and-events/events/3
 93457/
END:VEVENT
BEGIN:VEVENT
SUMMARY:Tea & Toast on Tuedays
DTSTART;TZID=Europe/London:20260519T093000
DTEND;TZID=Europe/London:20260519T113000
DTSTAMP:20260423T084502Z
UID:5158141779179400.0achurchnearyou
CATEGORIES:
DESCRIPTION:Tea & Coffee and toast for one and all!  Come and join us for 
 a social time. Bring the children\, children's games available.
GEO:0.793399;51.530567
LOCATION:South Shoebury: St Peter
URL:http://www.southshoebury.org
END:VEVENT
BEGIN:VEVENT
SUMMARY:Holy Communion
DTSTART;TZID=Europe/London:20260524T110000
DTEND;TZID=Europe/London:20260524T120000
DTSTAMP:20260423T084502Z
UID:5158131779616800.0achurchnearyou
CATEGORIES:
DESCRIPTION:Common Worship setting for Holy Communion
GEO:0.793399;51.530567
LOCATION:South Shoebury: St Peter
URL:http://www.southshoebury.org
END:VEVENT
BEGIN:VEVENT
SUMMARY:Tea & Toast on Tuedays
DTSTART;TZID=Europe/London:20260526T093000
DTEND;TZID=Europe/London:20260526T113000
DTSTAMP:20260423T084502Z
UID:5158141779784200.0achurchnearyou
CATEGORIES:
DESCRIPTION:Tea & Coffee and toast for one and all!  Come and join us for 
 a social time. Bring the children\, children's games available.
GEO:0.793399;51.530567
LOCATION:South Shoebury: St Peter
URL:http://www.southshoebury.org
END:VEVENT
BEGIN:VEVENT
SUMMARY:Morning Prayer 
DTSTART;TZID=Europe/London:20260531T110000
DTEND;TZID=Europe/London:20260531T120000
DTSTAMP:20260423T084502Z
UID:3934571780221600.0achurchnearyou
CATEGORIES:
DESCRIPTION:
GEO:0.793399;51.530567
LOCATION:South Shoebury: St Peter
URL:https://www.achurchnearyou.com/church/6582/service-and-events/events/3
 93457/
END:VEVENT
BEGIN:VEVENT
SUMMARY:Tea & Toast on Tuedays
DTSTART;TZID=Europe/London:20260602T093000
DTEND;TZID=Europe/London:20260602T113000
DTSTAMP:20260423T084502Z
UID:5158141780389000.0achurchnearyou
CATEGORIES:
DESCRIPTION:Tea & Coffee and toast for one and all!  Come and join us for 
 a social time. Bring the children\, children's games available.
GEO:0.793399;51.530567
LOCATION:South Shoebury: St Peter
URL:http://www.southshoebury.org
END:VEVENT
BEGIN:VEVENT
SUMMARY:Family Service
DTSTART;TZID=Europe/London:20260607T110000
DTEND;TZID=Europe/London:20260607T114500
DTSTAMP:20260423T084502Z
UID:3934611780826400.0achurchnearyou
CATEGORIES:
DESCRIPTION:Lovely service for families based on Morning Prayer but with t
 ime for news and events and saying Thank You to God 
GEO:0.793399;51.530567
LOCATION:South Shoebury: St Peter
URL:https://www.achurchnearyou.com/church/6582/service-and-events/events/3
 93461/
END:VEVENT
BEGIN:VEVENT
SUMMARY:Tea & Toast on Tuedays
DTSTART;TZID=Europe/London:20260609T093000
DTEND;TZID=Europe/London:20260609T113000
DTSTAMP:20260423T084502Z
UID:5158141780993800.0achurchnearyou
CATEGORIES:
DESCRIPTION:Tea & Coffee and toast for one and all!  Come and join us for 
 a social time. Bring the children\, children's games available.
GEO:0.793399;51.530567
LOCATION:South Shoebury: St Peter
URL:http://www.southshoebury.org
END:VEVENT
BEGIN:VEVENT
SUMMARY:Morning Prayer 
DTSTART;TZID=Europe/London:20260614T110000
DTEND;TZID=Europe/London:20260614T120000
DTSTAMP:20260423T084502Z
UID:3934571781431200.0achurchnearyou
CATEGORIES:
DESCRIPTION:
GEO:0.793399;51.530567
LOCATION:South Shoebury: St Peter
URL:https://www.achurchnearyou.com/church/6582/service-and-events/events/3
 93457/
END:VEVENT
BEGIN:VEVENT
SUMMARY:Holy Communion
DTSTART;TZID=Europe/London:20260614T110000
DTEND;TZID=Europe/London:20260614T120000
DTSTAMP:20260423T084502Z
UID:5158131781431200.0achurchnearyou
CATEGORIES:
DESCRIPTION:Common Worship setting for Holy Communion
GEO:0.793399;51.530567
LOCATION:South Shoebury: St Peter
URL:http://www.southshoebury.org
END:VEVENT
BEGIN:VEVENT
SUMMARY:Tea & Toast on Tuedays
DTSTART;TZID=Europe/London:20260616T093000
DTEND;TZID=Europe/London:20260616T113000
DTSTAMP:20260423T084502Z
UID:5158141781598600.0achurchnearyou
CATEGORIES:
DESCRIPTION:Tea & Coffee and toast for one and all!  Come and join us for 
 a social time. Bring the children\, children's games available.
GEO:0.793399;51.530567
LOCATION:South Shoebury: St Peter
URL:http://www.southshoebury.org
END:VEVENT
BEGIN:VEVENT
SUMMARY:Morning Prayer 
DTSTART;TZID=Europe/London:20260621T110000
DTEND;TZID=Europe/London:20260621T120000
DTSTAMP:20260423T084502Z
UID:3934571782036000.0achurchnearyou
CATEGORIES:
DESCRIPTION:
GEO:0.793399;51.530567
LOCATION:South Shoebury: St Peter
URL:https://www.achurchnearyou.com/church/6582/service-and-events/events/3
 93457/
END:VEVENT
BEGIN:VEVENT
SUMMARY:Tea & Toast on Tuedays
DTSTART;TZID=Europe/London:20260623T093000
DTEND;TZID=Europe/London:20260623T113000
DTSTAMP:20260423T084502Z
UID:5158141782203400.0achurchnearyou
CATEGORIES:
DESCRIPTION:Tea & Coffee and toast for one and all!  Come and join us for 
 a social time. Bring the children\, children's games available.
GEO:0.793399;51.530567
LOCATION:South Shoebury: St Peter
URL:http://www.southshoebury.org
END:VEVENT
BEGIN:VEVENT
SUMMARY:Holy Communion
DTSTART;TZID=Europe/London:20260628T110000
DTEND;TZID=Europe/London:20260628T120000
DTSTAMP:20260423T084502Z
UID:5158131782640800.0achurchnearyou
CATEGORIES:
DESCRIPTION:Common Worship setting for Holy Communion
GEO:0.793399;51.530567
LOCATION:South Shoebury: St Peter
URL:http://www.southshoebury.org
END:VEVENT
BEGIN:VEVENT
SUMMARY:Tea & Toast on Tuedays
DTSTART;TZID=Europe/London:20260630T093000
DTEND;TZID=Europe/London:20260630T113000
DTSTAMP:20260423T084502Z
UID:5158141782808200.0achurchnearyou
CATEGORIES:
DESCRIPTION:Tea & Coffee and toast for one and all!  Come and join us for 
 a social time. Bring the children\, children's games available.
GEO:0.793399;51.530567
LOCATION:South Shoebury: St Peter
URL:http://www.southshoebury.org
END:VEVENT
BEGIN:VEVENT
SUMMARY:Family Service
DTSTART;TZID=Europe/London:20260705T110000
DTEND;TZID=Europe/London:20260705T114500
DTSTAMP:20260423T084502Z
UID:3934611783245600.0achurchnearyou
CATEGORIES:
DESCRIPTION:Lovely service for families based on Morning Prayer but with t
 ime for news and events and saying Thank You to God 
GEO:0.793399;51.530567
LOCATION:South Shoebury: St Peter
URL:https://www.achurchnearyou.com/church/6582/service-and-events/events/3
 93461/
END:VEVENT
BEGIN:VEVENT
SUMMARY:Tea & Toast on Tuedays
DTSTART;TZID=Europe/London:20260707T093000
DTEND;TZID=Europe/London:20260707T113000
DTSTAMP:20260423T084502Z
UID:5158141783413000.0achurchnearyou
CATEGORIES:
DESCRIPTION:Tea & Coffee and toast for one and all!  Come and join us for 
 a social time. Bring the children\, children's games available.
GEO:0.793399;51.530567
LOCATION:South Shoebury: St Peter
URL:http://www.southshoebury.org
END:VEVENT
BEGIN:VEVENT
SUMMARY:Morning Prayer 
DTSTART;TZID=Europe/London:20260712T110000
DTEND;TZID=Europe/London:20260712T120000
DTSTAMP:20260423T084502Z
UID:3934571783850400.0achurchnearyou
CATEGORIES:
DESCRIPTION:
GEO:0.793399;51.530567
LOCATION:South Shoebury: St Peter
URL:https://www.achurchnearyou.com/church/6582/service-and-events/events/3
 93457/
END:VEVENT
BEGIN:VEVENT
SUMMARY:Holy Communion
DTSTART;TZID=Europe/London:20260712T110000
DTEND;TZID=Europe/London:20260712T120000
DTSTAMP:20260423T084502Z
UID:5158131783850400.0achurchnearyou
CATEGORIES:
DESCRIPTION:Common Worship setting for Holy Communion
GEO:0.793399;51.530567
LOCATION:South Shoebury: St Peter
URL:http://www.southshoebury.org
END:VEVENT
BEGIN:VEVENT
SUMMARY:Tea & Toast on Tuedays
DTSTART;TZID=Europe/London:20260714T093000
DTEND;TZID=Europe/London:20260714T113000
DTSTAMP:20260423T084502Z
UID:5158141784017800.0achurchnearyou
CATEGORIES:
DESCRIPTION:Tea & Coffee and toast for one and all!  Come and join us for 
 a social time. Bring the children\, children's games available.
GEO:0.793399;51.530567
LOCATION:South Shoebury: St Peter
URL:http://www.southshoebury.org
END:VEVENT
BEGIN:VEVENT
SUMMARY:Morning Prayer 
DTSTART;TZID=Europe/London:20260719T110000
DTEND;TZID=Europe/London:20260719T120000
DTSTAMP:20260423T084502Z
UID:3934571784455200.0achurchnearyou
CATEGORIES:
DESCRIPTION:
GEO:0.793399;51.530567
LOCATION:South Shoebury: St Peter
URL:https://www.achurchnearyou.com/church/6582/service-and-events/events/3
 93457/
END:VEVENT
BEGIN:VEVENT
SUMMARY:Tea & Toast on Tuedays
DTSTART;TZID=Europe/London:20260721T093000
DTEND;TZID=Europe/London:20260721T113000
DTSTAMP:20260423T084502Z
UID:5158141784622600.0achurchnearyou
CATEGORIES:
DESCRIPTION:Tea & Coffee and toast for one and all!  Come and join us for 
 a social time. Bring the children\, children's games available.
GEO:0.793399;51.530567
LOCATION:South Shoebury: St Peter
URL:http://www.southshoebury.org
END:VEVENT
BEGIN:VEVENT
SUMMARY:Holy Communion
DTSTART;TZID=Europe/London:20260726T110000
DTEND;TZID=Europe/London:20260726T120000
DTSTAMP:20260423T084502Z
UID:5158131785060000.0achurchnearyou
CATEGORIES:
DESCRIPTION:Common Worship setting for Holy Communion
GEO:0.793399;51.530567
LOCATION:South Shoebury: St Peter
URL:http://www.southshoebury.org
END:VEVENT
BEGIN:VEVENT
SUMMARY:Tea & Toast on Tuedays
DTSTART;TZID=Europe/London:20260728T093000
DTEND;TZID=Europe/London:20260728T113000
DTSTAMP:20260423T084502Z
UID:5158141785227400.0achurchnearyou
CATEGORIES:
DESCRIPTION:Tea & Coffee and toast for one and all!  Come and join us for 
 a social time. Bring the children\, children's games available.
GEO:0.793399;51.530567
LOCATION:South Shoebury: St Peter
URL:http://www.southshoebury.org
END:VEVENT
BEGIN:VEVENT
SUMMARY:Family Service
DTSTART;TZID=Europe/London:20260802T110000
DTEND;TZID=Europe/London:20260802T114500
DTSTAMP:20260423T084502Z
UID:3934611785664800.0achurchnearyou
CATEGORIES:
DESCRIPTION:Lovely service for families based on Morning Prayer but with t
 ime for news and events and saying Thank You to God 
GEO:0.793399;51.530567
LOCATION:South Shoebury: St Peter
URL:https://www.achurchnearyou.com/church/6582/service-and-events/events/3
 93461/
END:VEVENT
BEGIN:VEVENT
SUMMARY:Tea & Toast on Tuedays
DTSTART;TZID=Europe/London:20260804T093000
DTEND;TZID=Europe/London:20260804T113000
DTSTAMP:20260423T084502Z
UID:5158141785832200.0achurchnearyou
CATEGORIES:
DESCRIPTION:Tea & Coffee and toast for one and all!  Come and join us for 
 a social time. Bring the children\, children's games available.
GEO:0.793399;51.530567
LOCATION:South Shoebury: St Peter
URL:http://www.southshoebury.org
END:VEVENT
BEGIN:VEVENT
SUMMARY:Morning Prayer 
DTSTART;TZID=Europe/London:20260809T110000
DTEND;TZID=Europe/London:20260809T120000
DTSTAMP:20260423T084502Z
UID:3934571786269600.0achurchnearyou
CATEGORIES:
DESCRIPTION:
GEO:0.793399;51.530567
LOCATION:South Shoebury: St Peter
URL:https://www.achurchnearyou.com/church/6582/service-and-events/events/3
 93457/
END:VEVENT
BEGIN:VEVENT
SUMMARY:Holy Communion
DTSTART;TZID=Europe/London:20260809T110000
DTEND;TZID=Europe/London:20260809T120000
DTSTAMP:20260423T084502Z
UID:5158131786269600.0achurchnearyou
CATEGORIES:
DESCRIPTION:Common Worship setting for Holy Communion
GEO:0.793399;51.530567
LOCATION:South Shoebury: St Peter
URL:http://www.southshoebury.org
END:VEVENT
BEGIN:VEVENT
SUMMARY:Tea & Toast on Tuedays
DTSTART;TZID=Europe/London:20260811T093000
DTEND;TZID=Europe/London:20260811T113000
DTSTAMP:20260423T084502Z
UID:5158141786437000.0achurchnearyou
CATEGORIES:
DESCRIPTION:Tea & Coffee and toast for one and all!  Come and join us for 
 a social time. Bring the children\, children's games available.
GEO:0.793399;51.530567
LOCATION:South Shoebury: St Peter
URL:http://www.southshoebury.org
END:VEVENT
BEGIN:VEVENT
SUMMARY:Morning Prayer 
DTSTART;TZID=Europe/London:20260816T110000
DTEND;TZID=Europe/London:20260816T120000
DTSTAMP:20260423T084502Z
UID:3934571786874400.0achurchnearyou
CATEGORIES:
DESCRIPTION:
GEO:0.793399;51.530567
LOCATION:South Shoebury: St Peter
URL:https://www.achurchnearyou.com/church/6582/service-and-events/events/3
 93457/
END:VEVENT
BEGIN:VEVENT
SUMMARY:Tea & Toast on Tuedays
DTSTART;TZID=Europe/London:20260818T093000
DTEND;TZID=Europe/London:20260818T113000
DTSTAMP:20260423T084502Z
UID:5158141787041800.0achurchnearyou
CATEGORIES:
DESCRIPTION:Tea & Coffee and toast for one and all!  Come and join us for 
 a social time. Bring the children\, children's games available.
GEO:0.793399;51.530567
LOCATION:South Shoebury: St Peter
URL:http://www.southshoebury.org
END:VEVENT
BEGIN:VEVENT
SUMMARY:Holy Communion
DTSTART;TZID=Europe/London:20260823T110000
DTEND;TZID=Europe/London:20260823T120000
DTSTAMP:20260423T084502Z
UID:5158131787479200.0achurchnearyou
CATEGORIES:
DESCRIPTION:Common Worship setting for Holy Communion
GEO:0.793399;51.530567
LOCATION:South Shoebury: St Peter
URL:http://www.southshoebury.org
END:VEVENT
BEGIN:VEVENT
SUMMARY:Tea & Toast on Tuedays
DTSTART;TZID=Europe/London:20260825T093000
DTEND;TZID=Europe/London:20260825T113000
DTSTAMP:20260423T084502Z
UID:5158141787646600.0achurchnearyou
CATEGORIES:
DESCRIPTION:Tea & Coffee and toast for one and all!  Come and join us for 
 a social time. Bring the children\, children's games available.
GEO:0.793399;51.530567
LOCATION:South Shoebury: St Peter
URL:http://www.southshoebury.org
END:VEVENT
BEGIN:VEVENT
SUMMARY:Morning Prayer 
DTSTART;TZID=Europe/London:20260830T110000
DTEND;TZID=Europe/London:20260830T120000
DTSTAMP:20260423T084502Z
UID:3934571788084000.0achurchnearyou
CATEGORIES:
DESCRIPTION:
GEO:0.793399;51.530567
LOCATION:South Shoebury: St Peter
URL:https://www.achurchnearyou.com/church/6582/service-and-events/events/3
 93457/
END:VEVENT
BEGIN:VEVENT
SUMMARY:Tea & Toast on Tuedays
DTSTART;TZID=Europe/London:20260901T093000
DTEND;TZID=Europe/London:20260901T113000
DTSTAMP:20260423T084502Z
UID:5158141788251400.0achurchnearyou
CATEGORIES:
DESCRIPTION:Tea & Coffee and toast for one and all!  Come and join us for 
 a social time. Bring the children\, children's games available.
GEO:0.793399;51.530567
LOCATION:South Shoebury: St Peter
URL:http://www.southshoebury.org
END:VEVENT
BEGIN:VEVENT
SUMMARY:Family Service
DTSTART;TZID=Europe/London:20260906T110000
DTEND;TZID=Europe/London:20260906T114500
DTSTAMP:20260423T084502Z
UID:3934611788688800.0achurchnearyou
CATEGORIES:
DESCRIPTION:Lovely service for families based on Morning Prayer but with t
 ime for news and events and saying Thank You to God 
GEO:0.793399;51.530567
LOCATION:South Shoebury: St Peter
URL:https://www.achurchnearyou.com/church/6582/service-and-events/events/3
 93461/
END:VEVENT
BEGIN:VEVENT
SUMMARY:Tea & Toast on Tuedays
DTSTART;TZID=Europe/London:20260908T093000
DTEND;TZID=Europe/London:20260908T113000
DTSTAMP:20260423T084502Z
UID:5158141788856200.0achurchnearyou
CATEGORIES:
DESCRIPTION:Tea & Coffee and toast for one and all!  Come and join us for 
 a social time. Bring the children\, children's games available.
GEO:0.793399;51.530567
LOCATION:South Shoebury: St Peter
URL:http://www.southshoebury.org
END:VEVENT
BEGIN:VEVENT
SUMMARY:Morning Prayer 
DTSTART;TZID=Europe/London:20260913T110000
DTEND;TZID=Europe/London:20260913T120000
DTSTAMP:20260423T084502Z
UID:3934571789293600.0achurchnearyou
CATEGORIES:
DESCRIPTION:
GEO:0.793399;51.530567
LOCATION:South Shoebury: St Peter
URL:https://www.achurchnearyou.com/church/6582/service-and-events/events/3
 93457/
END:VEVENT
BEGIN:VEVENT
SUMMARY:Holy Communion
DTSTART;TZID=Europe/London:20260913T110000
DTEND;TZID=Europe/London:20260913T120000
DTSTAMP:20260423T084502Z
UID:5158131789293600.0achurchnearyou
CATEGORIES:
DESCRIPTION:Common Worship setting for Holy Communion
GEO:0.793399;51.530567
LOCATION:South Shoebury: St Peter
URL:http://www.southshoebury.org
END:VEVENT
BEGIN:VEVENT
SUMMARY:Tea & Toast on Tuedays
DTSTART;TZID=Europe/London:20260915T093000
DTEND;TZID=Europe/London:20260915T113000
DTSTAMP:20260423T084502Z
UID:5158141789461000.0achurchnearyou
CATEGORIES:
DESCRIPTION:Tea & Coffee and toast for one and all!  Come and join us for 
 a social time. Bring the children\, children's games available.
GEO:0.793399;51.530567
LOCATION:South Shoebury: St Peter
URL:http://www.southshoebury.org
END:VEVENT
BEGIN:VEVENT
SUMMARY:Morning Prayer 
DTSTART;TZID=Europe/London:20260920T110000
DTEND;TZID=Europe/London:20260920T120000
DTSTAMP:20260423T084502Z
UID:3934571789898400.0achurchnearyou
CATEGORIES:
DESCRIPTION:
GEO:0.793399;51.530567
LOCATION:South Shoebury: St Peter
URL:https://www.achurchnearyou.com/church/6582/service-and-events/events/3
 93457/
END:VEVENT
BEGIN:VEVENT
SUMMARY:Tea & Toast on Tuedays
DTSTART;TZID=Europe/London:20260922T093000
DTEND;TZID=Europe/London:20260922T113000
DTSTAMP:20260423T084502Z
UID:5158141790065800.0achurchnearyou
CATEGORIES:
DESCRIPTION:Tea & Coffee and toast for one and all!  Come and join us for 
 a social time. Bring the children\, children's games available.
GEO:0.793399;51.530567
LOCATION:South Shoebury: St Peter
URL:http://www.southshoebury.org
END:VEVENT
BEGIN:VEVENT
SUMMARY:Holy Communion
DTSTART;TZID=Europe/London:20260927T110000
DTEND;TZID=Europe/London:20260927T120000
DTSTAMP:20260423T084502Z
UID:5158131790503200.0achurchnearyou
CATEGORIES:
DESCRIPTION:Common Worship setting for Holy Communion
GEO:0.793399;51.530567
LOCATION:South Shoebury: St Peter
URL:http://www.southshoebury.org
END:VEVENT
BEGIN:VEVENT
SUMMARY:Tea & Toast on Tuedays
DTSTART;TZID=Europe/London:20260929T093000
DTEND;TZID=Europe/London:20260929T113000
DTSTAMP:20260423T084502Z
UID:5158141790670600.0achurchnearyou
CATEGORIES:
DESCRIPTION:Tea & Coffee and toast for one and all!  Come and join us for 
 a social time. Bring the children\, children's games available.
GEO:0.793399;51.530567
LOCATION:South Shoebury: St Peter
URL:http://www.southshoebury.org
END:VEVENT
END:VCALENDAR
