BEGIN:VCALENDAR
VERSION:2.0
PRODID:-//achurchnearyou.com//eventfeed//EN
CALSCALE:GREGORIAN
METHOD:PUBLISH
X-WR-TIMEZONE:UTC
BEGIN:VEVENT
SUMMARY:Lent course: "Travelling Well Together" Wednesday evenings in Apri
 l
DTSTART;TZID=Europe/London:20260212T193000
DTEND;TZID=Europe/London:20260212T203000
DTSTAMP:20260422T233420Z
UID:12942262026-02-12 19:30:00+00:00achurchnearyou
CATEGORIES:
DESCRIPTION:This Lent course is being hosted by St Mary's.  This is open t
 o the rest of the Team and ecumenically within Saffron Walden.\nBeing a fa
 ithful Christian in a diverse Church during changing and challenging times
  is not easy.  The temptation is to withdraw into a "holy huddle"\, pull u
 p the drawbridge\, and turn our backs on the world outside.  Through a ser
 ies of reflections\, using Lectio Divina\, we will be considering how we m
 ight better be the people of God together and live out our faith. This cou
 rse is taken from the Chelmsford Diocesan resources for "Travelling Well T
 ogether" and comes with Bishop Guli's recommendation.
LOCATION:St Mary's Church Saffron Walden
URL:https://www.stmaryssaffronwalden.org/Articles/710416/Lent_Courses_2025
 .aspx
END:VEVENT
BEGIN:VEVENT
SUMMARY:Lent course: "Travelling Well Together" Wednesday evenings in Apri
 l
DTSTART;TZID=Europe/London:20260219T193000
DTEND;TZID=Europe/London:20260219T203000
DTSTAMP:20260422T233420Z
UID:12942262026-02-19 19:30:00+00:00achurchnearyou
CATEGORIES:
DESCRIPTION:This Lent course is being hosted by St Mary's.  This is open t
 o the rest of the Team and ecumenically within Saffron Walden.\nBeing a fa
 ithful Christian in a diverse Church during changing and challenging times
  is not easy.  The temptation is to withdraw into a "holy huddle"\, pull u
 p the drawbridge\, and turn our backs on the world outside.  Through a ser
 ies of reflections\, using Lectio Divina\, we will be considering how we m
 ight better be the people of God together and live out our faith. This cou
 rse is taken from the Chelmsford Diocesan resources for "Travelling Well T
 ogether" and comes with Bishop Guli's recommendation.
LOCATION:St Mary's Church Saffron Walden
URL:https://www.stmaryssaffronwalden.org/Articles/710416/Lent_Courses_2025
 .aspx
END:VEVENT
BEGIN:VEVENT
SUMMARY:Lent course: "Travelling Well Together" Wednesday evenings in Apri
 l
DTSTART;TZID=Europe/London:20260226T193000
DTEND;TZID=Europe/London:20260226T203000
DTSTAMP:20260422T233420Z
UID:12942262026-02-26 19:30:00+00:00achurchnearyou
CATEGORIES:
DESCRIPTION:This Lent course is being hosted by St Mary's.  This is open t
 o the rest of the Team and ecumenically within Saffron Walden.\nBeing a fa
 ithful Christian in a diverse Church during changing and challenging times
  is not easy.  The temptation is to withdraw into a "holy huddle"\, pull u
 p the drawbridge\, and turn our backs on the world outside.  Through a ser
 ies of reflections\, using Lectio Divina\, we will be considering how we m
 ight better be the people of God together and live out our faith. This cou
 rse is taken from the Chelmsford Diocesan resources for "Travelling Well T
 ogether" and comes with Bishop Guli's recommendation.
LOCATION:St Mary's Church Saffron Walden
URL:https://www.stmaryssaffronwalden.org/Articles/710416/Lent_Courses_2025
 .aspx
END:VEVENT
BEGIN:VEVENT
SUMMARY:Lent course: "Travelling Well Together" Wednesday evenings in Apri
 l
DTSTART;TZID=Europe/London:20260305T193000
DTEND;TZID=Europe/London:20260305T203000
DTSTAMP:20260422T233420Z
UID:12942262026-03-05 19:30:00+00:00achurchnearyou
CATEGORIES:
DESCRIPTION:This Lent course is being hosted by St Mary's.  This is open t
 o the rest of the Team and ecumenically within Saffron Walden.\nBeing a fa
 ithful Christian in a diverse Church during changing and challenging times
  is not easy.  The temptation is to withdraw into a "holy huddle"\, pull u
 p the drawbridge\, and turn our backs on the world outside.  Through a ser
 ies of reflections\, using Lectio Divina\, we will be considering how we m
 ight better be the people of God together and live out our faith. This cou
 rse is taken from the Chelmsford Diocesan resources for "Travelling Well T
 ogether" and comes with Bishop Guli's recommendation.
LOCATION:St Mary's Church Saffron Walden
URL:https://www.stmaryssaffronwalden.org/Articles/710416/Lent_Courses_2025
 .aspx
END:VEVENT
BEGIN:VEVENT
SUMMARY:Lent course: "Travelling Well Together" Wednesday evenings in Apri
 l
DTSTART;TZID=Europe/London:20260312T193000
DTEND;TZID=Europe/London:20260312T203000
DTSTAMP:20260422T233420Z
UID:12942262026-03-12 19:30:00+00:00achurchnearyou
CATEGORIES:
DESCRIPTION:This Lent course is being hosted by St Mary's.  This is open t
 o the rest of the Team and ecumenically within Saffron Walden.\nBeing a fa
 ithful Christian in a diverse Church during changing and challenging times
  is not easy.  The temptation is to withdraw into a "holy huddle"\, pull u
 p the drawbridge\, and turn our backs on the world outside.  Through a ser
 ies of reflections\, using Lectio Divina\, we will be considering how we m
 ight better be the people of God together and live out our faith. This cou
 rse is taken from the Chelmsford Diocesan resources for "Travelling Well T
 ogether" and comes with Bishop Guli's recommendation.
LOCATION:St Mary's Church Saffron Walden
URL:https://www.stmaryssaffronwalden.org/Articles/710416/Lent_Courses_2025
 .aspx
END:VEVENT
BEGIN:VEVENT
SUMMARY:Lent course: "Travelling Well Together" Wednesday evenings in Apri
 l
DTSTART;TZID=Europe/London:20260326T193000
DTEND;TZID=Europe/London:20260326T203000
DTSTAMP:20260422T233420Z
UID:12942262026-03-26 19:30:00+00:00achurchnearyou
CATEGORIES:
DESCRIPTION:This Lent course is being hosted by St Mary's.  This is open t
 o the rest of the Team and ecumenically within Saffron Walden.\nBeing a fa
 ithful Christian in a diverse Church during changing and challenging times
  is not easy.  The temptation is to withdraw into a "holy huddle"\, pull u
 p the drawbridge\, and turn our backs on the world outside.  Through a ser
 ies of reflections\, using Lectio Divina\, we will be considering how we m
 ight better be the people of God together and live out our faith. This cou
 rse is taken from the Chelmsford Diocesan resources for "Travelling Well T
 ogether" and comes with Bishop Guli's recommendation.
LOCATION:St Mary's Church Saffron Walden
URL:https://www.stmaryssaffronwalden.org/Articles/710416/Lent_Courses_2025
 .aspx
END:VEVENT
END:VCALENDAR
