BEGIN:VCALENDAR
VERSION:2.0
PRODID:-//achurchnearyou.com//eventfeed//EN
CALSCALE:GREGORIAN
METHOD:PUBLISH
X-WR-TIMEZONE:UTC
BEGIN:VEVENT
SUMMARY:Holy Communion
DTSTART;TZID=Europe/London:20260330T093000
DTEND;TZID=Europe/London:20260330T101500
DTSTAMP:20260422T213533Z
UID:5776772026-03-30 09:30:00+01:00achurchnearyou
CATEGORIES:
DESCRIPTION:Common worship
GEO:0.23922;52.024468
LOCATION:St Mary's Church Saffron Walden
URL:https://www.achurchnearyou.com/church/6591/service-and-events/events/5
 77677/
END:VEVENT
BEGIN:VEVENT
SUMMARY:Holy Communion
DTSTART;TZID=Europe/London:20260331T093000
DTEND;TZID=Europe/London:20260331T101500
DTSTAMP:20260422T213533Z
UID:5776772026-03-31 09:30:00+01:00achurchnearyou
CATEGORIES:
DESCRIPTION:Common worship
GEO:0.23922;52.024468
LOCATION:St Mary's Church Saffron Walden
URL:https://www.achurchnearyou.com/church/6591/service-and-events/events/5
 77677/
END:VEVENT
BEGIN:VEVENT
SUMMARY:Holy Communion
DTSTART;TZID=Europe/London:20260402T093000
DTEND;TZID=Europe/London:20260402T101500
DTSTAMP:20260422T213533Z
UID:5776772026-04-02 09:30:00+01:00achurchnearyou
CATEGORIES:
DESCRIPTION:Common worship
GEO:0.23922;52.024468
LOCATION:St Mary's Church Saffron Walden
URL:https://www.achurchnearyou.com/church/6591/service-and-events/events/5
 77677/
END:VEVENT
END:VCALENDAR
