BEGIN:VCALENDAR
VERSION:2.0
PRODID:-//achurchnearyou.com//eventfeed//EN
CALSCALE:GREGORIAN
METHOD:PUBLISH
X-WR-TIMEZONE:UTC
BEGIN:VEVENT
SUMMARY:Mayor Making
DTSTART:20260516T100000Z
DTEND:20260516T110000Z
DTSTAMP:20260422T175931Z
UID:8204592026-05-16 10:00:00+00:00achurchnearyou
CATEGORIES:
DESCRIPTION:Civil service
GEO:0.23922;52.024468
LOCATION:St Mary's Church Saffron Walden
URL:https://www.achurchnearyou.com/church/6591/service-and-events/events/8
 20459/
END:VEVENT
END:VCALENDAR
