BEGIN:VCALENDAR
VERSION:2.0
PRODID:-//achurchnearyou.com//eventfeed//EN
CALSCALE:GREGORIAN
METHOD:PUBLISH
X-WR-TIMEZONE:UTC
BEGIN:VEVENT
SUMMARY:Dawn Holy Communion
DTSTART:20260405T050000Z
DTEND:20260405T054500Z
DTSTAMP:20260422T213031Z
UID:9048152026-04-05 05:00:00+00:00achurchnearyou
CATEGORIES:
DESCRIPTION:Easter morning. Traditionally held outside the church\, weathe
 r permitting. Followed by breakfast.
GEO:0.23922;52.024468
LOCATION:St Mary's Church Saffron Walden
URL:https://www.achurchnearyou.com/church/6591/service-and-events/events/9
 04815/
END:VEVENT
END:VCALENDAR
