BEGIN:VCALENDAR
VERSION:2.0
PRODID:-//achurchnearyou.com//eventfeed//EN
CALSCALE:GREGORIAN
METHOD:PUBLISH
X-WR-TIMEZONE:UTC
BEGIN:VEVENT
SUMMARY:Lent course: "Travelling Well Together" Wednesday afternoons in Ap
 ril
DTSTART;TZID=Europe/London:20260218T140000
DTEND;TZID=Europe/London:20260218T150000
DTSTAMP:20260422T233304Z
UID:9056352026-02-18 14:00:00+00:00achurchnearyou
CATEGORIES:
DESCRIPTION:This Lent course is being hosted by St Mary's.  This is open t
 o the rest of the Team and ecumenically within Saffron Walden.\nBeing a fa
 ithful Christian in a diverse Church during changing and challenging times
  is not easy.  The temptation is to withdraw into a "holy huddle"\, pull u
 p the drawbridge\, and turn our backs on the world outside.  Through a ser
 ies of reflections\, using Lectio Divina\, we will be considering how we m
 ight better be the people of God together and live out our faith. This cou
 rse is taken from the Chelmsford Diocesan resources for "Travelling Well T
 ogether" and comes with Bishop Guli's recommendation.
GEO:0.23922;52.024468
LOCATION:St Mary's Church Saffron Walden
URL:https://www.stmaryssaffronwalden.org/Articles/710416/Lent_Courses_2025
 .aspx
END:VEVENT
BEGIN:VEVENT
SUMMARY:Lent course: "Travelling Well Together" Wednesday afternoons in Ap
 ril
DTSTART;TZID=Europe/London:20260225T140000
DTEND;TZID=Europe/London:20260225T150000
DTSTAMP:20260422T233304Z
UID:9056352026-02-25 14:00:00+00:00achurchnearyou
CATEGORIES:
DESCRIPTION:This Lent course is being hosted by St Mary's.  This is open t
 o the rest of the Team and ecumenically within Saffron Walden.\nBeing a fa
 ithful Christian in a diverse Church during changing and challenging times
  is not easy.  The temptation is to withdraw into a "holy huddle"\, pull u
 p the drawbridge\, and turn our backs on the world outside.  Through a ser
 ies of reflections\, using Lectio Divina\, we will be considering how we m
 ight better be the people of God together and live out our faith. This cou
 rse is taken from the Chelmsford Diocesan resources for "Travelling Well T
 ogether" and comes with Bishop Guli's recommendation.
GEO:0.23922;52.024468
LOCATION:St Mary's Church Saffron Walden
URL:https://www.stmaryssaffronwalden.org/Articles/710416/Lent_Courses_2025
 .aspx
END:VEVENT
BEGIN:VEVENT
SUMMARY:Lent course: "Travelling Well Together" Wednesday afternoons in Ap
 ril
DTSTART;TZID=Europe/London:20260304T140000
DTEND;TZID=Europe/London:20260304T150000
DTSTAMP:20260422T233304Z
UID:9056352026-03-04 14:00:00+00:00achurchnearyou
CATEGORIES:
DESCRIPTION:This Lent course is being hosted by St Mary's.  This is open t
 o the rest of the Team and ecumenically within Saffron Walden.\nBeing a fa
 ithful Christian in a diverse Church during changing and challenging times
  is not easy.  The temptation is to withdraw into a "holy huddle"\, pull u
 p the drawbridge\, and turn our backs on the world outside.  Through a ser
 ies of reflections\, using Lectio Divina\, we will be considering how we m
 ight better be the people of God together and live out our faith. This cou
 rse is taken from the Chelmsford Diocesan resources for "Travelling Well T
 ogether" and comes with Bishop Guli's recommendation.
GEO:0.23922;52.024468
LOCATION:St Mary's Church Saffron Walden
URL:https://www.stmaryssaffronwalden.org/Articles/710416/Lent_Courses_2025
 .aspx
END:VEVENT
BEGIN:VEVENT
SUMMARY:Lent course: "Travelling Well Together" Wednesday afternoons in Ap
 ril
DTSTART;TZID=Europe/London:20260311T140000
DTEND;TZID=Europe/London:20260311T150000
DTSTAMP:20260422T233304Z
UID:9056352026-03-11 14:00:00+00:00achurchnearyou
CATEGORIES:
DESCRIPTION:This Lent course is being hosted by St Mary's.  This is open t
 o the rest of the Team and ecumenically within Saffron Walden.\nBeing a fa
 ithful Christian in a diverse Church during changing and challenging times
  is not easy.  The temptation is to withdraw into a "holy huddle"\, pull u
 p the drawbridge\, and turn our backs on the world outside.  Through a ser
 ies of reflections\, using Lectio Divina\, we will be considering how we m
 ight better be the people of God together and live out our faith. This cou
 rse is taken from the Chelmsford Diocesan resources for "Travelling Well T
 ogether" and comes with Bishop Guli's recommendation.
GEO:0.23922;52.024468
LOCATION:St Mary's Church Saffron Walden
URL:https://www.stmaryssaffronwalden.org/Articles/710416/Lent_Courses_2025
 .aspx
END:VEVENT
BEGIN:VEVENT
SUMMARY:Lent course: "Travelling Well Together" Wednesday afternoons in Ap
 ril
DTSTART;TZID=Europe/London:20260318T140000
DTEND;TZID=Europe/London:20260318T150000
DTSTAMP:20260422T233304Z
UID:9056352026-03-18 14:00:00+00:00achurchnearyou
CATEGORIES:
DESCRIPTION:This Lent course is being hosted by St Mary's.  This is open t
 o the rest of the Team and ecumenically within Saffron Walden.\nBeing a fa
 ithful Christian in a diverse Church during changing and challenging times
  is not easy.  The temptation is to withdraw into a "holy huddle"\, pull u
 p the drawbridge\, and turn our backs on the world outside.  Through a ser
 ies of reflections\, using Lectio Divina\, we will be considering how we m
 ight better be the people of God together and live out our faith. This cou
 rse is taken from the Chelmsford Diocesan resources for "Travelling Well T
 ogether" and comes with Bishop Guli's recommendation.
GEO:0.23922;52.024468
LOCATION:St Mary's Church Saffron Walden
URL:https://www.stmaryssaffronwalden.org/Articles/710416/Lent_Courses_2025
 .aspx
END:VEVENT
BEGIN:VEVENT
SUMMARY:Lent course: "Travelling Well Together" Wednesday afternoons in Ap
 ril
DTSTART;TZID=Europe/London:20260325T140000
DTEND;TZID=Europe/London:20260325T150000
DTSTAMP:20260422T233304Z
UID:9056352026-03-25 14:00:00+00:00achurchnearyou
CATEGORIES:
DESCRIPTION:This Lent course is being hosted by St Mary's.  This is open t
 o the rest of the Team and ecumenically within Saffron Walden.\nBeing a fa
 ithful Christian in a diverse Church during changing and challenging times
  is not easy.  The temptation is to withdraw into a "holy huddle"\, pull u
 p the drawbridge\, and turn our backs on the world outside.  Through a ser
 ies of reflections\, using Lectio Divina\, we will be considering how we m
 ight better be the people of God together and live out our faith. This cou
 rse is taken from the Chelmsford Diocesan resources for "Travelling Well T
 ogether" and comes with Bishop Guli's recommendation.
GEO:0.23922;52.024468
LOCATION:St Mary's Church Saffron Walden
URL:https://www.stmaryssaffronwalden.org/Articles/710416/Lent_Courses_2025
 .aspx
END:VEVENT
END:VCALENDAR
