BEGIN:VCALENDAR
VERSION:2.0
PRODID:-//achurchnearyou.com//eventfeed//EN
CALSCALE:GREGORIAN
METHOD:PUBLISH
X-WR-TIMEZONE:UTC
BEGIN:VEVENT
SUMMARY:Good Friday Walk of Witness
DTSTART:20260403T093000Z
DTEND:20260403T103000Z
DTSTAMP:20260422T212932Z
UID:9060302026-04-03 09:30:00+00:00achurchnearyou
CATEGORIES:
DESCRIPTION:Starting from URC Abbey Lane and walking to St Mary's Church
GEO:0.23922;52.024468
LOCATION:St Mary's Church Saffron Walden
URL:https://www.achurchnearyou.com/church/6591/service-and-events/events/9
 06030/
END:VEVENT
END:VCALENDAR
