BEGIN:VCALENDAR
VERSION:2.0
PRODID:-//achurchnearyou.com//eventfeed//EN
CALSCALE:GREGORIAN
METHOD:PUBLISH
X-WR-TIMEZONE:UTC
BEGIN:VEVENT
SUMMARY:Benefice Service
DTSTART:20251228T110000Z
DTEND:20251228T120000Z
DTSTAMP:20260424T071252Z
UID:12338872025-12-28 11:00:00+00:00achurchnearyou
CATEGORIES:
DESCRIPTION:Members of the seven parishes that make up our Benefice will g
 ather together for a joint Holy Communion Service at St Nicholas.
GEO:0.597821;51.990221
LOCATION:Castle Hedingham: St Nicholas
URL:https://www.achurchnearyou.com/church/6598/service-and-events/events/1
 233887/
END:VEVENT
END:VCALENDAR
