BEGIN:VCALENDAR
VERSION:2.0
PRODID:-//achurchnearyou.com//eventfeed//EN
CALSCALE:GREGORIAN
METHOD:PUBLISH
X-WR-TIMEZONE:UTC
BEGIN:VEVENT
SUMMARY:Meditation on the Cross
DTSTART:20260403T110000Z
DTEND:20260403T120000Z
DTSTAMP:20260423T174234Z
UID:13070822026-04-03 11:00:00+00:00achurchnearyou
CATEGORIES:
DESCRIPTION:This service will be led by Rev. Barbara Hume and Sue Southgat
 e and will consist of readings from the bible\, poems and quiet contemplat
 ion.
GEO:0.597821;51.990221
LOCATION:Castle Hedingham: St Nicholas
URL:https://www.achurchnearyou.com/church/6598/service-and-events/events/1
 307082/
END:VEVENT
END:VCALENDAR
