BEGIN:VCALENDAR
VERSION:2.0
PRODID:-//achurchnearyou.com//eventfeed//EN
CALSCALE:GREGORIAN
METHOD:PUBLISH
X-WR-TIMEZONE:UTC
BEGIN:VEVENT
SUMMARY:Good Friday Service
DTSTART:20260403T130000Z
DTEND:20260403T140000Z
DTSTAMP:20260423T132305Z
UID:13200212026-04-03 13:00:00+00:00achurchnearyou
CATEGORIES:
DESCRIPTION:Traditional Good Friday service with hymns\, the Passion Readi
 ng\, adoration of the cross and Holy Communion.
GEO:0.741429;51.541746
LOCATION:Holy Trinity\, Southchurch
URL:https://www.achurchnearyou.com/church/6601/service-and-events/events/1
 320021/
END:VEVENT
END:VCALENDAR
