BEGIN:VCALENDAR
VERSION:2.0
PRODID:-//achurchnearyou.com//eventfeed//EN
CALSCALE:GREGORIAN
METHOD:PUBLISH
X-WR-TIMEZONE:UTC
BEGIN:VEVENT
SUMMARY:Ash Wednesday Service
DTSTART:20250305T093000Z
DTEND:20250305T103000Z
DTSTAMP:20260419T183537Z
UID:11636672025-03-05 09:30:00+00:00achurchnearyou
CATEGORIES:
DESCRIPTION:Holy Communion + Ashes
LOCATION:Stanway: St Albright
URL:http://www.stalbrights.org
END:VEVENT
END:VCALENDAR
