BEGIN:VCALENDAR
VERSION:2.0
PRODID:-//achurchnearyou.com//eventfeed//EN
CALSCALE:GREGORIAN
METHOD:PUBLISH
X-WR-TIMEZONE:UTC
BEGIN:VEVENT
SUMMARY:Service of Meditation
DTSTART:20250416T170000Z
DTEND:20250416T173000Z
DTSTAMP:20260419T150258Z
UID:8200412025-04-16 17:00:00+00:00achurchnearyou
CATEGORIES:
DESCRIPTION:Wednesday of Holy Week -  Service of meditation for 30 minutes
GEO:0.817939;51.883658
LOCATION:Stanway: St Albright
URL:http://www.stalbrights.org
END:VEVENT
END:VCALENDAR
