BEGIN:VCALENDAR
VERSION:2.0
PRODID:-//achurchnearyou.com//eventfeed//EN
CALSCALE:GREGORIAN
METHOD:PUBLISH
X-WR-TIMEZONE:UTC
BEGIN:VEVENT
SUMMARY:2:42 House Group
DTSTART;TZID=Europe/London:20260402T103000
DTEND;TZID=Europe/London:20260402T120000
DTSTAMP:20260421T004412Z
UID:11591501775122200.0achurchnearyou
CATEGORIES:
DESCRIPTION:An opportunity for those who worship in our nine churches to l
 earn and grow together.
LOCATION:The Rectory
URL:https://www.achurchnearyou.com/church/6635/service-and-events/events/1
 159150/
END:VEVENT
BEGIN:VEVENT
SUMMARY:Holy Communion with Hand Washing
DTSTART;TZID=Europe/London:20260402T190000
DTEND;TZID=Europe/London:20260402T200000
DTSTAMP:20260421T004412Z
UID:13139261775152800.0achurchnearyou
CATEGORIES:
DESCRIPTION:Join us on Maundy Thursday for our traditional service as we s
 hare in Christ's passion.
LOCATION:St. Mary the Virgin\, Wix
URL:https://www.achurchnearyou.com/church/6635/service-and-events/events/1
 313926/
END:VEVENT
BEGIN:VEVENT
SUMMARY:Stations of the Cross
DTSTART;TZID=Europe/London:20260403T093000
DTEND;TZID=Europe/London:20260403T103000
DTSTAMP:20260421T004412Z
UID:13139511775205000.0achurchnearyou
CATEGORIES:
DESCRIPTION:A devotional service commemorating Christ's last hours on eart
 h.
LOCATION:All Saints\, Great Oakley
URL:https://www.achurchnearyou.com/church/6635/service-and-events/events/1
 313951/
END:VEVENT
BEGIN:VEVENT
SUMMARY:Hour at the Cross
DTSTART;TZID=Europe/London:20260403T140000
DTEND;TZID=Europe/London:20260403T150000
DTSTAMP:20260421T004412Z
UID:13139631775221200.0achurchnearyou
CATEGORIES:
DESCRIPTION:A devotional service commemorating the crucifixion of Jesus Ch
 rist.
LOCATION:All Saints\, Wrabness
URL:https://www.achurchnearyou.com/church/6635/service-and-events/events/1
 313963/
END:VEVENT
BEGIN:VEVENT
SUMMARY:Cross of Christ
DTSTART;TZID=Europe/London:20260403T150000
DTEND;TZID=Europe/London:20260403T163000
DTSTAMP:20260421T004412Z
UID:13139701775224800.0achurchnearyou
CATEGORIES:
DESCRIPTION:Join us for a devotional service with music for congregation a
 nd choir.
LOCATION:All Saints\, Great Oakley
URL:https://www.achurchnearyou.com/church/6635/service-and-events/events/1
 313970/
END:VEVENT
BEGIN:VEVENT
SUMMARY:Deanery Choir Service
DTSTART;TZID=Europe/London:20260403T190000
DTEND;TZID=Europe/London:20260403T203000
DTSTAMP:20260421T004412Z
UID:13139791775239200.0achurchnearyou
CATEGORIES:
DESCRIPTION:A devotional service with music for choir and congregation.
LOCATION:St. Edmund King & Martyr\, Tendring
URL:https://www.achurchnearyou.com/church/6635/service-and-events/events/1
 313979/
END:VEVENT
BEGIN:VEVENT
SUMMARY:Quayside Service
DTSTART;TZID=Europe/London:20260405T073000
DTEND;TZID=Europe/London:20260405T090000
DTSTAMP:20260421T004412Z
UID:13139911775370600.0achurchnearyou
CATEGORIES:
DESCRIPTION:Join us to greet the dawn on Easter Day at our open air servic
 e. Followed by Holy Communion in Beaumont church.
LOCATION:Beaumont Quay
URL:https://www.achurchnearyou.com/church/6635/service-and-events/events/1
 313991/
END:VEVENT
BEGIN:VEVENT
SUMMARY:Coffee Morning
DTSTART;TZID=Europe/London:20260406T100000
DTEND;TZID=Europe/London:20260406T120000
DTSTAMP:20260421T004412Z
UID:13135871775466000.0achurchnearyou
CATEGORIES:
DESCRIPTION:Come along with friends or come and make new ones.
LOCATION:St. Edmund King & Martyr\, Tendring
URL:https://www.achurchnearyou.com/church/6635/service-and-events/events/1
 313587/
END:VEVENT
BEGIN:VEVENT
SUMMARY:Cafe Church
DTSTART;TZID=Europe/London:20260412T150000
DTEND;TZID=Europe/London:20260412T160000
DTSTAMP:20260421T004412Z
UID:12317331776002400.0achurchnearyou
CATEGORIES:
DESCRIPTION:Informal worship for all ages with bible stories and prayer.
LOCATION:Wix Village Hall
URL:https://www.achurchnearyou.com/church/6635/service-and-events/events/1
 231733/
END:VEVENT
BEGIN:VEVENT
SUMMARY:Afternoon Tea
DTSTART;TZID=Europe/London:20260413T140000
DTEND;TZID=Europe/London:20260413T160000
DTSTAMP:20260421T004412Z
UID:11548971776085200.0achurchnearyou
CATEGORIES:
DESCRIPTION:Join us for tea\, cake and friendly chat.
LOCATION:Beaumont Village Hall
URL:https://www.achurchnearyou.com/church/6635/service-and-events/events/1
 154897/
END:VEVENT
BEGIN:VEVENT
SUMMARY:2:42 House Group
DTSTART;TZID=Europe/London:20260423T103000
DTEND;TZID=Europe/London:20260423T120000
DTSTAMP:20260421T004412Z
UID:11591501776936600.0achurchnearyou
CATEGORIES:
DESCRIPTION:An opportunity for those who worship in our nine churches to l
 earn and grow together.
LOCATION:The Rectory
URL:https://www.achurchnearyou.com/church/6635/service-and-events/events/1
 159150/
END:VEVENT
BEGIN:VEVENT
SUMMARY:2:42 House Group
DTSTART;TZID=Europe/London:20260430T103000
DTEND;TZID=Europe/London:20260430T120000
DTSTAMP:20260421T004412Z
UID:11591501777541400.0achurchnearyou
CATEGORIES:
DESCRIPTION:An opportunity for those who worship in our nine churches to l
 earn and grow together.
LOCATION:The Rectory
URL:https://www.achurchnearyou.com/church/6635/service-and-events/events/1
 159150/
END:VEVENT
BEGIN:VEVENT
SUMMARY:2:42 House Group
DTSTART;TZID=Europe/London:20260507T103000
DTEND;TZID=Europe/London:20260507T120000
DTSTAMP:20260421T004412Z
UID:11591501778146200.0achurchnearyou
CATEGORIES:
DESCRIPTION:An opportunity for those who worship in our nine churches to l
 earn and grow together.
LOCATION:The Rectory
URL:https://www.achurchnearyou.com/church/6635/service-and-events/events/1
 159150/
END:VEVENT
BEGIN:VEVENT
SUMMARY:Cafe Church
DTSTART;TZID=Europe/London:20260510T150000
DTEND;TZID=Europe/London:20260510T160000
DTSTAMP:20260421T004412Z
UID:12317331778421600.0achurchnearyou
CATEGORIES:
DESCRIPTION:Informal worship for all ages with bible stories and prayer.
LOCATION:Wix Village Hall
URL:https://www.achurchnearyou.com/church/6635/service-and-events/events/1
 231733/
END:VEVENT
BEGIN:VEVENT
SUMMARY:Afternoon Tea
DTSTART;TZID=Europe/London:20260511T140000
DTEND;TZID=Europe/London:20260511T160000
DTSTAMP:20260421T004412Z
UID:11548971778504400.0achurchnearyou
CATEGORIES:
DESCRIPTION:Join us for tea\, cake and friendly chat.
LOCATION:Beaumont Village Hall
URL:https://www.achurchnearyou.com/church/6635/service-and-events/events/1
 154897/
END:VEVENT
BEGIN:VEVENT
SUMMARY:2:42 House Group
DTSTART;TZID=Europe/London:20260514T103000
DTEND;TZID=Europe/London:20260514T120000
DTSTAMP:20260421T004412Z
UID:11591501778751000.0achurchnearyou
CATEGORIES:
DESCRIPTION:An opportunity for those who worship in our nine churches to l
 earn and grow together.
LOCATION:The Rectory
URL:https://www.achurchnearyou.com/church/6635/service-and-events/events/1
 159150/
END:VEVENT
BEGIN:VEVENT
SUMMARY:2:42 House Group
DTSTART;TZID=Europe/London:20260521T103000
DTEND;TZID=Europe/London:20260521T120000
DTSTAMP:20260421T004412Z
UID:11591501779355800.0achurchnearyou
CATEGORIES:
DESCRIPTION:An opportunity for those who worship in our nine churches to l
 earn and grow together.
LOCATION:The Rectory
URL:https://www.achurchnearyou.com/church/6635/service-and-events/events/1
 159150/
END:VEVENT
BEGIN:VEVENT
SUMMARY:2:42 House Group
DTSTART;TZID=Europe/London:20260528T103000
DTEND;TZID=Europe/London:20260528T120000
DTSTAMP:20260421T004412Z
UID:11591501779960600.0achurchnearyou
CATEGORIES:
DESCRIPTION:An opportunity for those who worship in our nine churches to l
 earn and grow together.
LOCATION:The Rectory
URL:https://www.achurchnearyou.com/church/6635/service-and-events/events/1
 159150/
END:VEVENT
BEGIN:VEVENT
SUMMARY:2:42 House Group
DTSTART;TZID=Europe/London:20260604T103000
DTEND;TZID=Europe/London:20260604T120000
DTSTAMP:20260421T004412Z
UID:11591501780565400.0achurchnearyou
CATEGORIES:
DESCRIPTION:An opportunity for those who worship in our nine churches to l
 earn and grow together.
LOCATION:The Rectory
URL:https://www.achurchnearyou.com/church/6635/service-and-events/events/1
 159150/
END:VEVENT
BEGIN:VEVENT
SUMMARY:Afternoon Tea
DTSTART;TZID=Europe/London:20260608T140000
DTEND;TZID=Europe/London:20260608T160000
DTSTAMP:20260421T004412Z
UID:11548971780923600.0achurchnearyou
CATEGORIES:
DESCRIPTION:Join us for tea\, cake and friendly chat.
LOCATION:Beaumont Village Hall
URL:https://www.achurchnearyou.com/church/6635/service-and-events/events/1
 154897/
END:VEVENT
BEGIN:VEVENT
SUMMARY:2:42 House Group
DTSTART;TZID=Europe/London:20260611T103000
DTEND;TZID=Europe/London:20260611T120000
DTSTAMP:20260421T004412Z
UID:11591501781170200.0achurchnearyou
CATEGORIES:
DESCRIPTION:An opportunity for those who worship in our nine churches to l
 earn and grow together.
LOCATION:The Rectory
URL:https://www.achurchnearyou.com/church/6635/service-and-events/events/1
 159150/
END:VEVENT
BEGIN:VEVENT
SUMMARY:Cafe Church
DTSTART;TZID=Europe/London:20260614T150000
DTEND;TZID=Europe/London:20260614T160000
DTSTAMP:20260421T004412Z
UID:12317331781445600.0achurchnearyou
CATEGORIES:
DESCRIPTION:Informal worship for all ages with bible stories and prayer.
LOCATION:Wix Village Hall
URL:https://www.achurchnearyou.com/church/6635/service-and-events/events/1
 231733/
END:VEVENT
BEGIN:VEVENT
SUMMARY:2:42 House Group
DTSTART;TZID=Europe/London:20260618T103000
DTEND;TZID=Europe/London:20260618T120000
DTSTAMP:20260421T004412Z
UID:11591501781775000.0achurchnearyou
CATEGORIES:
DESCRIPTION:An opportunity for those who worship in our nine churches to l
 earn and grow together.
LOCATION:The Rectory
URL:https://www.achurchnearyou.com/church/6635/service-and-events/events/1
 159150/
END:VEVENT
BEGIN:VEVENT
SUMMARY:2:42 House Group
DTSTART;TZID=Europe/London:20260625T103000
DTEND;TZID=Europe/London:20260625T120000
DTSTAMP:20260421T004412Z
UID:11591501782379800.0achurchnearyou
CATEGORIES:
DESCRIPTION:An opportunity for those who worship in our nine churches to l
 earn and grow together.
LOCATION:The Rectory
URL:https://www.achurchnearyou.com/church/6635/service-and-events/events/1
 159150/
END:VEVENT
BEGIN:VEVENT
SUMMARY:2:42 House Group
DTSTART;TZID=Europe/London:20260702T103000
DTEND;TZID=Europe/London:20260702T120000
DTSTAMP:20260421T004412Z
UID:11591501782984600.0achurchnearyou
CATEGORIES:
DESCRIPTION:An opportunity for those who worship in our nine churches to l
 earn and grow together.
LOCATION:The Rectory
URL:https://www.achurchnearyou.com/church/6635/service-and-events/events/1
 159150/
END:VEVENT
BEGIN:VEVENT
SUMMARY:2:42 House Group
DTSTART;TZID=Europe/London:20260709T103000
DTEND;TZID=Europe/London:20260709T120000
DTSTAMP:20260421T004412Z
UID:11591501783589400.0achurchnearyou
CATEGORIES:
DESCRIPTION:An opportunity for those who worship in our nine churches to l
 earn and grow together.
LOCATION:The Rectory
URL:https://www.achurchnearyou.com/church/6635/service-and-events/events/1
 159150/
END:VEVENT
BEGIN:VEVENT
SUMMARY:Cafe Church
DTSTART;TZID=Europe/London:20260712T150000
DTEND;TZID=Europe/London:20260712T160000
DTSTAMP:20260421T004412Z
UID:12317331783864800.0achurchnearyou
CATEGORIES:
DESCRIPTION:Informal worship for all ages with bible stories and prayer.
LOCATION:Wix Village Hall
URL:https://www.achurchnearyou.com/church/6635/service-and-events/events/1
 231733/
END:VEVENT
BEGIN:VEVENT
SUMMARY:Afternoon Tea
DTSTART;TZID=Europe/London:20260713T140000
DTEND;TZID=Europe/London:20260713T160000
DTSTAMP:20260421T004412Z
UID:11548971783947600.0achurchnearyou
CATEGORIES:
DESCRIPTION:Join us for tea\, cake and friendly chat.
LOCATION:Beaumont Village Hall
URL:https://www.achurchnearyou.com/church/6635/service-and-events/events/1
 154897/
END:VEVENT
BEGIN:VEVENT
SUMMARY:2:42 House Group
DTSTART;TZID=Europe/London:20260716T103000
DTEND;TZID=Europe/London:20260716T120000
DTSTAMP:20260421T004412Z
UID:11591501784194200.0achurchnearyou
CATEGORIES:
DESCRIPTION:An opportunity for those who worship in our nine churches to l
 earn and grow together.
LOCATION:The Rectory
URL:https://www.achurchnearyou.com/church/6635/service-and-events/events/1
 159150/
END:VEVENT
BEGIN:VEVENT
SUMMARY:2:42 House Group
DTSTART;TZID=Europe/London:20260723T103000
DTEND;TZID=Europe/London:20260723T120000
DTSTAMP:20260421T004412Z
UID:11591501784799000.0achurchnearyou
CATEGORIES:
DESCRIPTION:An opportunity for those who worship in our nine churches to l
 earn and grow together.
LOCATION:The Rectory
URL:https://www.achurchnearyou.com/church/6635/service-and-events/events/1
 159150/
END:VEVENT
BEGIN:VEVENT
SUMMARY:2:42 House Group
DTSTART;TZID=Europe/London:20260730T103000
DTEND;TZID=Europe/London:20260730T120000
DTSTAMP:20260421T004412Z
UID:11591501785403800.0achurchnearyou
CATEGORIES:
DESCRIPTION:An opportunity for those who worship in our nine churches to l
 earn and grow together.
LOCATION:The Rectory
URL:https://www.achurchnearyou.com/church/6635/service-and-events/events/1
 159150/
END:VEVENT
BEGIN:VEVENT
SUMMARY:2:42 House Group
DTSTART;TZID=Europe/London:20260806T103000
DTEND;TZID=Europe/London:20260806T120000
DTSTAMP:20260421T004412Z
UID:11591501786008600.0achurchnearyou
CATEGORIES:
DESCRIPTION:An opportunity for those who worship in our nine churches to l
 earn and grow together.
LOCATION:The Rectory
URL:https://www.achurchnearyou.com/church/6635/service-and-events/events/1
 159150/
END:VEVENT
BEGIN:VEVENT
SUMMARY:Cafe Church
DTSTART;TZID=Europe/London:20260809T150000
DTEND;TZID=Europe/London:20260809T160000
DTSTAMP:20260421T004412Z
UID:12317331786284000.0achurchnearyou
CATEGORIES:
DESCRIPTION:Informal worship for all ages with bible stories and prayer.
LOCATION:Wix Village Hall
URL:https://www.achurchnearyou.com/church/6635/service-and-events/events/1
 231733/
END:VEVENT
BEGIN:VEVENT
SUMMARY:Afternoon Tea
DTSTART;TZID=Europe/London:20260810T140000
DTEND;TZID=Europe/London:20260810T160000
DTSTAMP:20260421T004412Z
UID:11548971786366800.0achurchnearyou
CATEGORIES:
DESCRIPTION:Join us for tea\, cake and friendly chat.
LOCATION:Beaumont Village Hall
URL:https://www.achurchnearyou.com/church/6635/service-and-events/events/1
 154897/
END:VEVENT
BEGIN:VEVENT
SUMMARY:2:42 House Group
DTSTART;TZID=Europe/London:20260813T103000
DTEND;TZID=Europe/London:20260813T120000
DTSTAMP:20260421T004412Z
UID:11591501786613400.0achurchnearyou
CATEGORIES:
DESCRIPTION:An opportunity for those who worship in our nine churches to l
 earn and grow together.
LOCATION:The Rectory
URL:https://www.achurchnearyou.com/church/6635/service-and-events/events/1
 159150/
END:VEVENT
BEGIN:VEVENT
SUMMARY:2:42 House Group
DTSTART;TZID=Europe/London:20260820T103000
DTEND;TZID=Europe/London:20260820T120000
DTSTAMP:20260421T004412Z
UID:11591501787218200.0achurchnearyou
CATEGORIES:
DESCRIPTION:An opportunity for those who worship in our nine churches to l
 earn and grow together.
LOCATION:The Rectory
URL:https://www.achurchnearyou.com/church/6635/service-and-events/events/1
 159150/
END:VEVENT
BEGIN:VEVENT
SUMMARY:2:42 House Group
DTSTART;TZID=Europe/London:20260827T103000
DTEND;TZID=Europe/London:20260827T120000
DTSTAMP:20260421T004412Z
UID:11591501787823000.0achurchnearyou
CATEGORIES:
DESCRIPTION:An opportunity for those who worship in our nine churches to l
 earn and grow together.
LOCATION:The Rectory
URL:https://www.achurchnearyou.com/church/6635/service-and-events/events/1
 159150/
END:VEVENT
BEGIN:VEVENT
SUMMARY:2:42 House Group
DTSTART;TZID=Europe/London:20260903T103000
DTEND;TZID=Europe/London:20260903T120000
DTSTAMP:20260421T004412Z
UID:11591501788427800.0achurchnearyou
CATEGORIES:
DESCRIPTION:An opportunity for those who worship in our nine churches to l
 earn and grow together.
LOCATION:The Rectory
URL:https://www.achurchnearyou.com/church/6635/service-and-events/events/1
 159150/
END:VEVENT
BEGIN:VEVENT
SUMMARY:2:42 House Group
DTSTART;TZID=Europe/London:20260910T103000
DTEND;TZID=Europe/London:20260910T120000
DTSTAMP:20260421T004412Z
UID:11591501789032600.0achurchnearyou
CATEGORIES:
DESCRIPTION:An opportunity for those who worship in our nine churches to l
 earn and grow together.
LOCATION:The Rectory
URL:https://www.achurchnearyou.com/church/6635/service-and-events/events/1
 159150/
END:VEVENT
BEGIN:VEVENT
SUMMARY:Cafe Church
DTSTART;TZID=Europe/London:20260913T150000
DTEND;TZID=Europe/London:20260913T160000
DTSTAMP:20260421T004412Z
UID:12317331789308000.0achurchnearyou
CATEGORIES:
DESCRIPTION:Informal worship for all ages with bible stories and prayer.
LOCATION:Wix Village Hall
URL:https://www.achurchnearyou.com/church/6635/service-and-events/events/1
 231733/
END:VEVENT
BEGIN:VEVENT
SUMMARY:Afternoon Tea
DTSTART;TZID=Europe/London:20260914T140000
DTEND;TZID=Europe/London:20260914T160000
DTSTAMP:20260421T004412Z
UID:11548971789390800.0achurchnearyou
CATEGORIES:
DESCRIPTION:Join us for tea\, cake and friendly chat.
LOCATION:Beaumont Village Hall
URL:https://www.achurchnearyou.com/church/6635/service-and-events/events/1
 154897/
END:VEVENT
BEGIN:VEVENT
SUMMARY:2:42 House Group
DTSTART;TZID=Europe/London:20260917T103000
DTEND;TZID=Europe/London:20260917T120000
DTSTAMP:20260421T004412Z
UID:11591501789637400.0achurchnearyou
CATEGORIES:
DESCRIPTION:An opportunity for those who worship in our nine churches to l
 earn and grow together.
LOCATION:The Rectory
URL:https://www.achurchnearyou.com/church/6635/service-and-events/events/1
 159150/
END:VEVENT
BEGIN:VEVENT
SUMMARY:2:42 House Group
DTSTART;TZID=Europe/London:20260924T103000
DTEND;TZID=Europe/London:20260924T120000
DTSTAMP:20260421T004412Z
UID:11591501790242200.0achurchnearyou
CATEGORIES:
DESCRIPTION:An opportunity for those who worship in our nine churches to l
 earn and grow together.
LOCATION:The Rectory
URL:https://www.achurchnearyou.com/church/6635/service-and-events/events/1
 159150/
END:VEVENT
END:VCALENDAR
