BEGIN:VCALENDAR
VERSION:2.0
PRODID:-//achurchnearyou.com//eventfeed//EN
CALSCALE:GREGORIAN
METHOD:PUBLISH
X-WR-TIMEZONE:UTC
BEGIN:VEVENT
SUMMARY:Holy Tuesday Mass and Stations of the Cross
DTSTART:20260331T170000Z
DTEND:20260331T180000Z
DTSTAMP:20260422T013749Z
UID:13177582026-03-31 17:00:00+00:00achurchnearyou
CATEGORIES:
DESCRIPTION:Part of our Holy week services
GEO:0.405439;51.9768
LOCATION:St Mary the Virgin\, Little Sampford
URL:https://www.achurchnearyou.com/church/6642/service-and-events/events/1
 317758/
END:VEVENT
END:VCALENDAR
