BEGIN:VCALENDAR
VERSION:2.0
PRODID:-//achurchnearyou.com//eventfeed//EN
CALSCALE:GREGORIAN
METHOD:PUBLISH
X-WR-TIMEZONE:UTC
BEGIN:VEVENT
SUMMARY:Christingle making and service
DTSTART:20251214T160000Z
DTEND:20251214T173000Z
DTSTAMP:20260424T150231Z
UID:12627712025-12-14 16:00:00+00:00achurchnearyou
CATEGORIES:
DESCRIPTION:We begin at the Church Hall (on Johnstone Road - just along fr
 om the church) where the children make their Christingles and refreshments
  are served.  We then head along to the church for a festive service celeb
 rating God's goodness and the light of Christ coming into the world.
LOCATION:St Augustine's Church Hall
URL:https://www.achurchnearyou.com/church/6645/service-and-events/events/1
 262771/
END:VEVENT
END:VCALENDAR
