BEGIN:VCALENDAR
VERSION:2.0
PRODID:-//achurchnearyou.com//eventfeed//EN
CALSCALE:GREGORIAN
METHOD:PUBLISH
X-WR-TIMEZONE:UTC
BEGIN:VEVENT
SUMMARY:ZINAFE EASTER CELEBRATION
DTSTART:20250419T083000Z
DTEND:20250419T150000Z
DTSTAMP:20260421T194659Z
UID:11821602025-04-19 08:30:00+00:00achurchnearyou
CATEGORIES:
DESCRIPTION:ZIMBABWEAN NATIONAL ANGLICAN FELLOWSHIP IN SOUTHEND IS HOLDING
  A CELEBRATION OF EASTER EVENTS WITH COMMUNION IN CHURCH
GEO:0.686392;51.5471357
LOCATION:Westcliff: St Andrew
URL:https://www.achurchnearyou.com/church/6698/service-and-events/events/1
 182160/
END:VEVENT
END:VCALENDAR
