BEGIN:VCALENDAR
VERSION:2.0
PRODID:-//achurchnearyou.com//eventfeed//EN
CALSCALE:GREGORIAN
METHOD:PUBLISH
X-WR-TIMEZONE:UTC
BEGIN:VEVENT
SUMMARY:WOMENS BIBLE FELLOWSHIP
DTSTART;TZID=Europe/London:20250911T130000
DTEND;TZID=Europe/London:20250911T143000
DTSTAMP:20260421T110735Z
UID:12234912025-09-11 13:00:00+01:00achurchnearyou
CATEGORIES:
DESCRIPTION:STARTS AGAIN ON THURSDAY THIS WEEK   BIBLE STUDY LED BY GROUP 
   PRAYERS AFTER  READING THE BIBLE TOGETHER AND GETTING TO KNOW EACH OTHER
GEO:0.686392;51.5471357
LOCATION:Westcliff: St Andrew
URL:https://www.achurchnearyou.com/church/6698/service-and-events/events/1
 223491/
END:VEVENT
END:VCALENDAR
