BEGIN:VCALENDAR
VERSION:2.0
PRODID:-//achurchnearyou.com//eventfeed//EN
CALSCALE:GREGORIAN
METHOD:PUBLISH
X-WR-TIMEZONE:UTC
BEGIN:VEVENT
SUMMARY:COFFEE MORNING
DTSTART:20250927T090000Z
DTEND:20250927T110000Z
DTSTAMP:20260421T110859Z
UID:12234922025-09-27 09:00:00+00:00achurchnearyou
CATEGORIES:
DESCRIPTION:RAISINING FUNDS FOR OUR LINK CHURCH COMMUNITY IN HARARE ZIMBAB
 WE
GEO:0.686392;51.5471357
LOCATION:Westcliff: St Andrew
URL:https://www.achurchnearyou.com/church/6698/service-and-events/events/1
 223492/
END:VEVENT
END:VCALENDAR
