BEGIN:VCALENDAR
VERSION:2.0
PRODID:-//achurchnearyou.com//eventfeed//EN
CALSCALE:GREGORIAN
METHOD:PUBLISH
X-WR-TIMEZONE:UTC
BEGIN:VEVENT
SUMMARY:COFFEE MORNING FOR CHRISTMAS
DTSTART:20251206T100000Z
DTEND:20251206T120000Z
DTSTAMP:20260421T054354Z
UID:12558882025-12-06 10:00:00+00:00achurchnearyou
CATEGORIES:
DESCRIPTION:COFFEE MORNING  STALLS RAFFLE TEDDY TOMBOLA CAKES AND TREATS .
  JEWELLERY MAKING
URL:https://www.achurchnearyou.com/church/6698/service-and-events/events/1
 255888/
END:VEVENT
END:VCALENDAR
