BEGIN:VCALENDAR
VERSION:2.0
PRODID:-//achurchnearyou.com//eventfeed//EN
CALSCALE:GREGORIAN
METHOD:PUBLISH
X-WR-TIMEZONE:UTC
BEGIN:VEVENT
SUMMARY:prayer course
DTSTART;TZID=Europe/London:20260208T163000
DTEND;TZID=Europe/London:20260208T183000
DTSTAMP:20260420T232702Z
UID:12802452026-02-08 16:30:00+00:00achurchnearyou
CATEGORIES:
DESCRIPTION:for those who pray and those who never thought about it   to b
 ook a place  sign up at hellostandrews@outlook.com
URL:https://www.achurchnearyou.com/church/6698/service-and-events/events/1
 280245/
END:VEVENT
BEGIN:VEVENT
SUMMARY:prayer course
DTSTART;TZID=Europe/London:20260215T163000
DTEND;TZID=Europe/London:20260215T183000
DTSTAMP:20260420T232702Z
UID:12802452026-02-15 16:30:00+00:00achurchnearyou
CATEGORIES:
DESCRIPTION:for those who pray and those who never thought about it   to b
 ook a place  sign up at hellostandrews@outlook.com
URL:https://www.achurchnearyou.com/church/6698/service-and-events/events/1
 280245/
END:VEVENT
BEGIN:VEVENT
SUMMARY:prayer course
DTSTART;TZID=Europe/London:20260222T163000
DTEND;TZID=Europe/London:20260222T183000
DTSTAMP:20260420T232702Z
UID:12802452026-02-22 16:30:00+00:00achurchnearyou
CATEGORIES:
DESCRIPTION:for those who pray and those who never thought about it   to b
 ook a place  sign up at hellostandrews@outlook.com
URL:https://www.achurchnearyou.com/church/6698/service-and-events/events/1
 280245/
END:VEVENT
BEGIN:VEVENT
SUMMARY:prayer course
DTSTART;TZID=Europe/London:20260301T163000
DTEND;TZID=Europe/London:20260301T183000
DTSTAMP:20260420T232702Z
UID:12802452026-03-01 16:30:00+00:00achurchnearyou
CATEGORIES:
DESCRIPTION:for those who pray and those who never thought about it   to b
 ook a place  sign up at hellostandrews@outlook.com
URL:https://www.achurchnearyou.com/church/6698/service-and-events/events/1
 280245/
END:VEVENT
BEGIN:VEVENT
SUMMARY:prayer course
DTSTART;TZID=Europe/London:20260308T163000
DTEND;TZID=Europe/London:20260308T183000
DTSTAMP:20260420T232702Z
UID:12802452026-03-08 16:30:00+00:00achurchnearyou
CATEGORIES:
DESCRIPTION:for those who pray and those who never thought about it   to b
 ook a place  sign up at hellostandrews@outlook.com
URL:https://www.achurchnearyou.com/church/6698/service-and-events/events/1
 280245/
END:VEVENT
BEGIN:VEVENT
SUMMARY:prayer course
DTSTART;TZID=Europe/London:20260315T163000
DTEND;TZID=Europe/London:20260315T183000
DTSTAMP:20260420T232702Z
UID:12802452026-03-15 16:30:00+00:00achurchnearyou
CATEGORIES:
DESCRIPTION:for those who pray and those who never thought about it   to b
 ook a place  sign up at hellostandrews@outlook.com
URL:https://www.achurchnearyou.com/church/6698/service-and-events/events/1
 280245/
END:VEVENT
BEGIN:VEVENT
SUMMARY:prayer course
DTSTART;TZID=Europe/London:20260322T163000
DTEND;TZID=Europe/London:20260322T183000
DTSTAMP:20260420T232702Z
UID:12802452026-03-22 16:30:00+00:00achurchnearyou
CATEGORIES:
DESCRIPTION:for those who pray and those who never thought about it   to b
 ook a place  sign up at hellostandrews@outlook.com
URL:https://www.achurchnearyou.com/church/6698/service-and-events/events/1
 280245/
END:VEVENT
BEGIN:VEVENT
SUMMARY:prayer course
DTSTART;TZID=Europe/London:20260329T163000
DTEND;TZID=Europe/London:20260329T183000
DTSTAMP:20260420T232702Z
UID:12802452026-03-29 16:30:00+01:00achurchnearyou
CATEGORIES:
DESCRIPTION:for those who pray and those who never thought about it   to b
 ook a place  sign up at hellostandrews@outlook.com
URL:https://www.achurchnearyou.com/church/6698/service-and-events/events/1
 280245/
END:VEVENT
END:VCALENDAR
