BEGIN:VCALENDAR
VERSION:2.0
PRODID:-//achurchnearyou.com//eventfeed//EN
CALSCALE:GREGORIAN
METHOD:PUBLISH
X-WR-TIMEZONE:UTC
BEGIN:VEVENT
SUMMARY:A L F  (About Life and Faith)
DTSTART;TZID=Europe/London:20260114T163000
DTEND;TZID=Europe/London:20260114T173000
DTSTAMP:20260420T213650Z
UID:12802682026-01-14 16:30:00+00:00achurchnearyou
CATEGORIES:
DESCRIPTION:Childrens club.  Games.  Learning about the bible. Friendship.
   For infant and junior children
GEO:0.686392;51.5471357
LOCATION:Westcliff: St Andrew
URL:https://www.standrewswestcliff.org/children-and-youth
END:VEVENT
BEGIN:VEVENT
SUMMARY:A L F  (About Life and Faith)
DTSTART;TZID=Europe/London:20260121T163000
DTEND;TZID=Europe/London:20260121T173000
DTSTAMP:20260420T213650Z
UID:12802682026-01-21 16:30:00+00:00achurchnearyou
CATEGORIES:
DESCRIPTION:Childrens club.  Games.  Learning about the bible. Friendship.
   For infant and junior children
GEO:0.686392;51.5471357
LOCATION:Westcliff: St Andrew
URL:https://www.standrewswestcliff.org/children-and-youth
END:VEVENT
BEGIN:VEVENT
SUMMARY:A L F  (About Life and Faith)
DTSTART;TZID=Europe/London:20260128T163000
DTEND;TZID=Europe/London:20260128T173000
DTSTAMP:20260420T213650Z
UID:12802682026-01-28 16:30:00+00:00achurchnearyou
CATEGORIES:
DESCRIPTION:Childrens club.  Games.  Learning about the bible. Friendship.
   For infant and junior children
GEO:0.686392;51.5471357
LOCATION:Westcliff: St Andrew
URL:https://www.standrewswestcliff.org/children-and-youth
END:VEVENT
BEGIN:VEVENT
SUMMARY:A L F  (About Life and Faith)
DTSTART;TZID=Europe/London:20260204T163000
DTEND;TZID=Europe/London:20260204T173000
DTSTAMP:20260420T213650Z
UID:12802682026-02-04 16:30:00+00:00achurchnearyou
CATEGORIES:
DESCRIPTION:Childrens club.  Games.  Learning about the bible. Friendship.
   For infant and junior children
GEO:0.686392;51.5471357
LOCATION:Westcliff: St Andrew
URL:https://www.standrewswestcliff.org/children-and-youth
END:VEVENT
BEGIN:VEVENT
SUMMARY:A L F  (About Life and Faith)
DTSTART;TZID=Europe/London:20260211T163000
DTEND;TZID=Europe/London:20260211T173000
DTSTAMP:20260420T213650Z
UID:12802682026-02-11 16:30:00+00:00achurchnearyou
CATEGORIES:
DESCRIPTION:Childrens club.  Games.  Learning about the bible. Friendship.
   For infant and junior children
GEO:0.686392;51.5471357
LOCATION:Westcliff: St Andrew
URL:https://www.standrewswestcliff.org/children-and-youth
END:VEVENT
BEGIN:VEVENT
SUMMARY:A L F  (About Life and Faith)
DTSTART;TZID=Europe/London:20260218T163000
DTEND;TZID=Europe/London:20260218T173000
DTSTAMP:20260420T213650Z
UID:12802682026-02-18 16:30:00+00:00achurchnearyou
CATEGORIES:
DESCRIPTION:Childrens club.  Games.  Learning about the bible. Friendship.
   For infant and junior children
GEO:0.686392;51.5471357
LOCATION:Westcliff: St Andrew
URL:https://www.standrewswestcliff.org/children-and-youth
END:VEVENT
BEGIN:VEVENT
SUMMARY:A L F  (About Life and Faith)
DTSTART;TZID=Europe/London:20260225T163000
DTEND;TZID=Europe/London:20260225T173000
DTSTAMP:20260420T213650Z
UID:12802682026-02-25 16:30:00+00:00achurchnearyou
CATEGORIES:
DESCRIPTION:Childrens club.  Games.  Learning about the bible. Friendship.
   For infant and junior children
GEO:0.686392;51.5471357
LOCATION:Westcliff: St Andrew
URL:https://www.standrewswestcliff.org/children-and-youth
END:VEVENT
BEGIN:VEVENT
SUMMARY:A L F  (About Life and Faith)
DTSTART;TZID=Europe/London:20260304T163000
DTEND;TZID=Europe/London:20260304T173000
DTSTAMP:20260420T213650Z
UID:12802682026-03-04 16:30:00+00:00achurchnearyou
CATEGORIES:
DESCRIPTION:Childrens club.  Games.  Learning about the bible. Friendship.
   For infant and junior children
GEO:0.686392;51.5471357
LOCATION:Westcliff: St Andrew
URL:https://www.standrewswestcliff.org/children-and-youth
END:VEVENT
BEGIN:VEVENT
SUMMARY:A L F  (About Life and Faith)
DTSTART;TZID=Europe/London:20260311T163000
DTEND;TZID=Europe/London:20260311T173000
DTSTAMP:20260420T213650Z
UID:12802682026-03-11 16:30:00+00:00achurchnearyou
CATEGORIES:
DESCRIPTION:Childrens club.  Games.  Learning about the bible. Friendship.
   For infant and junior children
GEO:0.686392;51.5471357
LOCATION:Westcliff: St Andrew
URL:https://www.standrewswestcliff.org/children-and-youth
END:VEVENT
BEGIN:VEVENT
SUMMARY:A L F  (About Life and Faith)
DTSTART;TZID=Europe/London:20260318T163000
DTEND;TZID=Europe/London:20260318T173000
DTSTAMP:20260420T213650Z
UID:12802682026-03-18 16:30:00+00:00achurchnearyou
CATEGORIES:
DESCRIPTION:Childrens club.  Games.  Learning about the bible. Friendship.
   For infant and junior children
GEO:0.686392;51.5471357
LOCATION:Westcliff: St Andrew
URL:https://www.standrewswestcliff.org/children-and-youth
END:VEVENT
BEGIN:VEVENT
SUMMARY:A L F  (About Life and Faith)
DTSTART;TZID=Europe/London:20260325T163000
DTEND;TZID=Europe/London:20260325T173000
DTSTAMP:20260420T213650Z
UID:12802682026-03-25 16:30:00+00:00achurchnearyou
CATEGORIES:
DESCRIPTION:Childrens club.  Games.  Learning about the bible. Friendship.
   For infant and junior children
GEO:0.686392;51.5471357
LOCATION:Westcliff: St Andrew
URL:https://www.standrewswestcliff.org/children-and-youth
END:VEVENT
BEGIN:VEVENT
SUMMARY:A L F  (About Life and Faith)
DTSTART;TZID=Europe/London:20260401T163000
DTEND;TZID=Europe/London:20260401T173000
DTSTAMP:20260420T213650Z
UID:12802682026-04-01 16:30:00+01:00achurchnearyou
CATEGORIES:
DESCRIPTION:Childrens club.  Games.  Learning about the bible. Friendship.
   For infant and junior children
GEO:0.686392;51.5471357
LOCATION:Westcliff: St Andrew
URL:https://www.standrewswestcliff.org/children-and-youth
END:VEVENT
BEGIN:VEVENT
SUMMARY:A L F  (About Life and Faith)
DTSTART;TZID=Europe/London:20260408T163000
DTEND;TZID=Europe/London:20260408T173000
DTSTAMP:20260420T213650Z
UID:12802682026-04-08 16:30:00+01:00achurchnearyou
CATEGORIES:
DESCRIPTION:Childrens club.  Games.  Learning about the bible. Friendship.
   For infant and junior children
GEO:0.686392;51.5471357
LOCATION:Westcliff: St Andrew
URL:https://www.standrewswestcliff.org/children-and-youth
END:VEVENT
BEGIN:VEVENT
SUMMARY:A L F  (About Life and Faith)
DTSTART;TZID=Europe/London:20260415T163000
DTEND;TZID=Europe/London:20260415T173000
DTSTAMP:20260420T213650Z
UID:12802682026-04-15 16:30:00+01:00achurchnearyou
CATEGORIES:
DESCRIPTION:Childrens club.  Games.  Learning about the bible. Friendship.
   For infant and junior children
GEO:0.686392;51.5471357
LOCATION:Westcliff: St Andrew
URL:https://www.standrewswestcliff.org/children-and-youth
END:VEVENT
END:VCALENDAR
