BEGIN:VCALENDAR
VERSION:2.0
PRODID:-//achurchnearyou.com//eventfeed//EN
CALSCALE:GREGORIAN
METHOD:PUBLISH
X-WR-TIMEZONE:UTC
BEGIN:VEVENT
SUMMARY:The Way: An exhibition by Steve Whittle
DTSTART:20250117T190000Z
DTEND:20250117T210000Z
DTSTAMP:20260419T135055Z
UID:11297702025-01-17 19:00:00+00:00achurchnearyou
CATEGORIES:
DESCRIPTION:The Way: An exhibition by Steve Whittle\n11 January – 18 Apr
 il 2025\nSt Andrew’s Church\, 11 London Road\, Wickford SS12 0AN\n\n‘T
 he main medium I use is collage and over many years I have developed the t
 echnique which can be seen in many of the pictures in this exhibition.’\
 n\nView the exhibition and hear Steve speak about his work at ‘Unveiled
 ’\, the arts & performance evening at St Andrew’s Wickford\, Friday 17
  January\, 7.00 pm.\n\nSt Andrew’s is usually open: Sat 9am-12.30pm\; Su
 n 9.30am-12 noon\; Mon 2-3.45pm\; Tue 1-4.30pm\; Wed 10am-12 noon\; Fri 10
 am-1pm. https://wickfordandrunwellparish.org.uk/whats-on.html \n\nThe prim
 ary subject matter in Steve Whittle's work is colour\, which has been the 
 major theme. The work is often produced in series and is unified by the si
 milar images and combinations of colours that are used. Each picture can t
 herefore be viewed as a component of a group or seen as an individual piec
 e.\n\nThe medium Whittle uses is collage and over many years he has develo
 ped the technique which can be seen in many of the pictures in this exhibi
 tion. Firstly\, the paper\, which is acid free\, is prepared with several 
 coats of acrylic paint in the appropriate colour and the torn paper collag
 e is applied to this surface with acrylic glue in as many layers as necess
 ary to get the correct colour combinations. When the picture is complete i
 t is then coated with UVS varnish.\n\n‘The Way’ includes a series of S
 tations of the Cross\, plus other crucifixion and resurrection images.\n\n
 http://stevewhittleart.com/
GEO:0.519061;51.611554
LOCATION:Wickford: St Andrew
URL:https://wickfordandrunwellparish.org.uk/whats-on.html
END:VEVENT
END:VCALENDAR
