BEGIN:VCALENDAR
VERSION:2.0
PRODID:-//achurchnearyou.com//eventfeed//EN
CALSCALE:GREGORIAN
METHOD:PUBLISH
X-WR-TIMEZONE:UTC
BEGIN:VEVENT
SUMMARY:Joint Service
DTSTART:20241229T103000Z
DTEND:20241229T113000Z
DTSTAMP:20260419T135648Z
UID:11418732024-12-29 10:30:00+00:00achurchnearyou
CATEGORIES:
DESCRIPTION:Sunday 29th December: Joint Eucharist\, 10.30am in St Andrew's
 \, so we can celebrate  the 90th anniversary of the dedication of St Andre
 w's Church
GEO:0.519061;51.611554
LOCATION:Wickford: St Andrew
URL:https://wickfordandrunwellparish.org.uk/whats-on.html
END:VEVENT
END:VCALENDAR
