BEGIN:VCALENDAR
VERSION:2.0
PRODID:-//achurchnearyou.com//eventfeed//EN
CALSCALE:GREGORIAN
METHOD:PUBLISH
X-WR-TIMEZONE:UTC
BEGIN:VEVENT
SUMMARY:Eucharist
DTSTART;TZID=Europe/London:20260419T090000
DTEND;TZID=Europe/London:20260419T100000
DTSTAMP:20260423T073204Z
UID:998021776585600.0achurchnearyou
CATEGORIES:
DESCRIPTION:Book of Common Prayer
GEO:0.659933;51.80084
LOCATION:Little Braxted: St Nicholas
URL:https://www.achurchnearyou.com/church/6706/service-and-events/events/9
 9802/
END:VEVENT
BEGIN:VEVENT
SUMMARY:Eucharist
DTSTART;TZID=Europe/London:20260517T090000
DTEND;TZID=Europe/London:20260517T100000
DTSTAMP:20260423T073204Z
UID:998021779004800.0achurchnearyou
CATEGORIES:
DESCRIPTION:Book of Common Prayer
GEO:0.659933;51.80084
LOCATION:Little Braxted: St Nicholas
URL:https://www.achurchnearyou.com/church/6706/service-and-events/events/9
 9802/
END:VEVENT
BEGIN:VEVENT
SUMMARY:Eucharist
DTSTART;TZID=Europe/London:20260621T090000
DTEND;TZID=Europe/London:20260621T100000
DTSTAMP:20260423T073204Z
UID:998021782028800.0achurchnearyou
CATEGORIES:
DESCRIPTION:Book of Common Prayer
GEO:0.659933;51.80084
LOCATION:Little Braxted: St Nicholas
URL:https://www.achurchnearyou.com/church/6706/service-and-events/events/9
 9802/
END:VEVENT
BEGIN:VEVENT
SUMMARY:Eucharist
DTSTART;TZID=Europe/London:20260719T090000
DTEND;TZID=Europe/London:20260719T100000
DTSTAMP:20260423T073204Z
UID:998021784448000.0achurchnearyou
CATEGORIES:
DESCRIPTION:Book of Common Prayer
GEO:0.659933;51.80084
LOCATION:Little Braxted: St Nicholas
URL:https://www.achurchnearyou.com/church/6706/service-and-events/events/9
 9802/
END:VEVENT
BEGIN:VEVENT
SUMMARY:Eucharist
DTSTART;TZID=Europe/London:20260816T090000
DTEND;TZID=Europe/London:20260816T100000
DTSTAMP:20260423T073204Z
UID:998021786867200.0achurchnearyou
CATEGORIES:
DESCRIPTION:Book of Common Prayer
GEO:0.659933;51.80084
LOCATION:Little Braxted: St Nicholas
URL:https://www.achurchnearyou.com/church/6706/service-and-events/events/9
 9802/
END:VEVENT
BEGIN:VEVENT
SUMMARY:Eucharist
DTSTART;TZID=Europe/London:20260920T090000
DTEND;TZID=Europe/London:20260920T100000
DTSTAMP:20260423T073204Z
UID:998021789891200.0achurchnearyou
CATEGORIES:
DESCRIPTION:Book of Common Prayer
GEO:0.659933;51.80084
LOCATION:Little Braxted: St Nicholas
URL:https://www.achurchnearyou.com/church/6706/service-and-events/events/9
 9802/
END:VEVENT
END:VCALENDAR
