BEGIN:VCALENDAR
VERSION:2.0
PRODID:-//achurchnearyou.com//eventfeed//EN
CALSCALE:GREGORIAN
METHOD:PUBLISH
X-WR-TIMEZONE:UTC
BEGIN:VEVENT
SUMMARY:Maundy Thursday Eucharist
DTSTART:20250417T190000Z
DTEND:20250417T200000Z
DTSTAMP:20260424T235210Z
UID:11807942025-04-17 19:00:00+00:00achurchnearyou
CATEGORIES:
DESCRIPTION:with washing of feet.\nThe service is followed by a Watch\, an
 d the church will remain open for prayer until 10.00pm.
GEO:0.959222;51.855018
LOCATION:Wivenhoe: St Mary the Virgin
URL:https://www.achurchnearyou.com/church/6711/service-and-events/events/1
 180794/
END:VEVENT
END:VCALENDAR
