BEGIN:VCALENDAR
VERSION:2.0
PRODID:-//achurchnearyou.com//eventfeed//EN
CALSCALE:GREGORIAN
METHOD:PUBLISH
X-WR-TIMEZONE:UTC
BEGIN:VEVENT
SUMMARY:BREAKFAST
DTSTART;TZID=Europe/London:20260503T093000
DTEND;TZID=Europe/London:20260503T104500
DTSTAMP:20260423T021302Z
UID:12493582026-05-03 09:30:00+01:00achurchnearyou
CATEGORIES:
DESCRIPTION:Coffee and croissants between early morning Holy Communion and
  the 11 am morning service. \nMix & mingle withe the youth club and later 
 service attendees.
GEO:0.959222;51.855018
LOCATION:Wivenhoe: St Mary the Virgin
URL:https://www.achurchnearyou.com/church/6711/service-and-events/events/1
 249358/
END:VEVENT
BEGIN:VEVENT
SUMMARY:BREAKFAST
DTSTART;TZID=Europe/London:20260607T093000
DTEND;TZID=Europe/London:20260607T104500
DTSTAMP:20260423T021302Z
UID:12493582026-06-07 09:30:00+01:00achurchnearyou
CATEGORIES:
DESCRIPTION:Coffee and croissants between early morning Holy Communion and
  the 11 am morning service. \nMix & mingle withe the youth club and later 
 service attendees.
GEO:0.959222;51.855018
LOCATION:Wivenhoe: St Mary the Virgin
URL:https://www.achurchnearyou.com/church/6711/service-and-events/events/1
 249358/
END:VEVENT
BEGIN:VEVENT
SUMMARY:BREAKFAST
DTSTART;TZID=Europe/London:20260705T093000
DTEND;TZID=Europe/London:20260705T104500
DTSTAMP:20260423T021302Z
UID:12493582026-07-05 09:30:00+01:00achurchnearyou
CATEGORIES:
DESCRIPTION:Coffee and croissants between early morning Holy Communion and
  the 11 am morning service. \nMix & mingle withe the youth club and later 
 service attendees.
GEO:0.959222;51.855018
LOCATION:Wivenhoe: St Mary the Virgin
URL:https://www.achurchnearyou.com/church/6711/service-and-events/events/1
 249358/
END:VEVENT
BEGIN:VEVENT
SUMMARY:BREAKFAST
DTSTART;TZID=Europe/London:20260802T093000
DTEND;TZID=Europe/London:20260802T104500
DTSTAMP:20260423T021302Z
UID:12493582026-08-02 09:30:00+01:00achurchnearyou
CATEGORIES:
DESCRIPTION:Coffee and croissants between early morning Holy Communion and
  the 11 am morning service. \nMix & mingle withe the youth club and later 
 service attendees.
GEO:0.959222;51.855018
LOCATION:Wivenhoe: St Mary the Virgin
URL:https://www.achurchnearyou.com/church/6711/service-and-events/events/1
 249358/
END:VEVENT
BEGIN:VEVENT
SUMMARY:BREAKFAST
DTSTART;TZID=Europe/London:20260906T093000
DTEND;TZID=Europe/London:20260906T104500
DTSTAMP:20260423T021302Z
UID:12493582026-09-06 09:30:00+01:00achurchnearyou
CATEGORIES:
DESCRIPTION:Coffee and croissants between early morning Holy Communion and
  the 11 am morning service. \nMix & mingle withe the youth club and later 
 service attendees.
GEO:0.959222;51.855018
LOCATION:Wivenhoe: St Mary the Virgin
URL:https://www.achurchnearyou.com/church/6711/service-and-events/events/1
 249358/
END:VEVENT
BEGIN:VEVENT
SUMMARY:BREAKFAST
DTSTART;TZID=Europe/London:20261004T093000
DTEND;TZID=Europe/London:20261004T104500
DTSTAMP:20260423T021302Z
UID:12493582026-10-04 09:30:00+01:00achurchnearyou
CATEGORIES:
DESCRIPTION:Coffee and croissants between early morning Holy Communion and
  the 11 am morning service. \nMix & mingle withe the youth club and later 
 service attendees.
GEO:0.959222;51.855018
LOCATION:Wivenhoe: St Mary the Virgin
URL:https://www.achurchnearyou.com/church/6711/service-and-events/events/1
 249358/
END:VEVENT
BEGIN:VEVENT
SUMMARY:BREAKFAST
DTSTART;TZID=Europe/London:20261101T093000
DTEND;TZID=Europe/London:20261101T104500
DTSTAMP:20260423T021302Z
UID:12493582026-11-01 09:30:00+00:00achurchnearyou
CATEGORIES:
DESCRIPTION:Coffee and croissants between early morning Holy Communion and
  the 11 am morning service. \nMix & mingle withe the youth club and later 
 service attendees.
GEO:0.959222;51.855018
LOCATION:Wivenhoe: St Mary the Virgin
URL:https://www.achurchnearyou.com/church/6711/service-and-events/events/1
 249358/
END:VEVENT
BEGIN:VEVENT
SUMMARY:BREAKFAST
DTSTART;TZID=Europe/London:20261206T093000
DTEND;TZID=Europe/London:20261206T104500
DTSTAMP:20260423T021302Z
UID:12493582026-12-06 09:30:00+00:00achurchnearyou
CATEGORIES:
DESCRIPTION:Coffee and croissants between early morning Holy Communion and
  the 11 am morning service. \nMix & mingle withe the youth club and later 
 service attendees.
GEO:0.959222;51.855018
LOCATION:Wivenhoe: St Mary the Virgin
URL:https://www.achurchnearyou.com/church/6711/service-and-events/events/1
 249358/
END:VEVENT
BEGIN:VEVENT
SUMMARY:BREAKFAST
DTSTART;TZID=Europe/London:20270103T093000
DTEND;TZID=Europe/London:20270103T104500
DTSTAMP:20260423T021302Z
UID:12493582027-01-03 09:30:00+00:00achurchnearyou
CATEGORIES:
DESCRIPTION:Coffee and croissants between early morning Holy Communion and
  the 11 am morning service. \nMix & mingle withe the youth club and later 
 service attendees.
GEO:0.959222;51.855018
LOCATION:Wivenhoe: St Mary the Virgin
URL:https://www.achurchnearyou.com/church/6711/service-and-events/events/1
 249358/
END:VEVENT
BEGIN:VEVENT
SUMMARY:BREAKFAST
DTSTART;TZID=Europe/London:20270207T093000
DTEND;TZID=Europe/London:20270207T104500
DTSTAMP:20260423T021302Z
UID:12493582027-02-07 09:30:00+00:00achurchnearyou
CATEGORIES:
DESCRIPTION:Coffee and croissants between early morning Holy Communion and
  the 11 am morning service. \nMix & mingle withe the youth club and later 
 service attendees.
GEO:0.959222;51.855018
LOCATION:Wivenhoe: St Mary the Virgin
URL:https://www.achurchnearyou.com/church/6711/service-and-events/events/1
 249358/
END:VEVENT
BEGIN:VEVENT
SUMMARY:BREAKFAST
DTSTART;TZID=Europe/London:20270307T093000
DTEND;TZID=Europe/London:20270307T104500
DTSTAMP:20260423T021302Z
UID:12493582027-03-07 09:30:00+00:00achurchnearyou
CATEGORIES:
DESCRIPTION:Coffee and croissants between early morning Holy Communion and
  the 11 am morning service. \nMix & mingle withe the youth club and later 
 service attendees.
GEO:0.959222;51.855018
LOCATION:Wivenhoe: St Mary the Virgin
URL:https://www.achurchnearyou.com/church/6711/service-and-events/events/1
 249358/
END:VEVENT
BEGIN:VEVENT
SUMMARY:BREAKFAST
DTSTART;TZID=Europe/London:20270404T093000
DTEND;TZID=Europe/London:20270404T104500
DTSTAMP:20260423T021302Z
UID:12493582027-04-04 09:30:00+01:00achurchnearyou
CATEGORIES:
DESCRIPTION:Coffee and croissants between early morning Holy Communion and
  the 11 am morning service. \nMix & mingle withe the youth club and later 
 service attendees.
GEO:0.959222;51.855018
LOCATION:Wivenhoe: St Mary the Virgin
URL:https://www.achurchnearyou.com/church/6711/service-and-events/events/1
 249358/
END:VEVENT
END:VCALENDAR
