BEGIN:VCALENDAR
VERSION:2.0
PRODID:-//achurchnearyou.com//eventfeed//EN
CALSCALE:GREGORIAN
METHOD:PUBLISH
X-WR-TIMEZONE:UTC
BEGIN:VEVENT
SUMMARY:Christmas Market
DTSTART:20251204T180000Z
DTEND:20251204T200000Z
DTSTAMP:20260423T222421Z
UID:12493942025-12-04 18:00:00+00:00achurchnearyou
CATEGORIES:
DESCRIPTION:Annual busy event\, with stalls inside and outside the church\
 , Father Christmas greeting children\, switching on off local Christmas li
 ghts and late opening of shops.
GEO:0.959222;51.855018
LOCATION:Wivenhoe: St Mary the Virgin
URL:https://www.achurchnearyou.com/church/6711/service-and-events/events/1
 249394/
END:VEVENT
END:VCALENDAR
