BEGIN:VCALENDAR
VERSION:2.0
PRODID:-//achurchnearyou.com//eventfeed//EN
CALSCALE:GREGORIAN
METHOD:PUBLISH
X-WR-TIMEZONE:UTC
BEGIN:VEVENT
SUMMARY:All Together Sunday
DTSTART;TZID=Europe/London:20260503T110000
DTEND;TZID=Europe/London:20260503T120000
DTSTAMP:20260423T073703Z
UID:1358132026-05-03 11:00:00+01:00achurchnearyou
CATEGORIES:
DESCRIPTION:Participatory (and often lively!) service specially aimed at c
 hildren and young families.\nThe service is regularly devised and delivere
 d by the Sunday Club's leaders and children together and Powerpoint is use
 d at this service.\nThere usually is no sermon\, but a talk or a dramatic 
 scripture reading instead.\n\nAs part of the new pattern of worship\, BREA
 KFAST FOR ALL will be available on the First Sunday of every month\, start
 ing Sunday 7 September 2025.\n\nIt will begin after the 9am service of Hol
 y Communion and run from 9.35-10.15\, followed by tea/coffee/biscuits from
  10.15 to 10.50.\n\nIt is an opportunity for attendees at the 9am and 11am
  services to meet and get to know better those attending the other service
  and chat over coffee/tea and croissants.
GEO:0.959222;51.855018
LOCATION:Wivenhoe: St Mary the Virgin
URL:https://www.achurchnearyou.com/church/6711/service-and-events/events/1
 35813/
END:VEVENT
BEGIN:VEVENT
SUMMARY:All Together Sunday
DTSTART;TZID=Europe/London:20260607T110000
DTEND;TZID=Europe/London:20260607T120000
DTSTAMP:20260423T073703Z
UID:1358132026-06-07 11:00:00+01:00achurchnearyou
CATEGORIES:
DESCRIPTION:Participatory (and often lively!) service specially aimed at c
 hildren and young families.\nThe service is regularly devised and delivere
 d by the Sunday Club's leaders and children together and Powerpoint is use
 d at this service.\nThere usually is no sermon\, but a talk or a dramatic 
 scripture reading instead.\n\nAs part of the new pattern of worship\, BREA
 KFAST FOR ALL will be available on the First Sunday of every month\, start
 ing Sunday 7 September 2025.\n\nIt will begin after the 9am service of Hol
 y Communion and run from 9.35-10.15\, followed by tea/coffee/biscuits from
  10.15 to 10.50.\n\nIt is an opportunity for attendees at the 9am and 11am
  services to meet and get to know better those attending the other service
  and chat over coffee/tea and croissants.
GEO:0.959222;51.855018
LOCATION:Wivenhoe: St Mary the Virgin
URL:https://www.achurchnearyou.com/church/6711/service-and-events/events/1
 35813/
END:VEVENT
BEGIN:VEVENT
SUMMARY:All Together Sunday
DTSTART;TZID=Europe/London:20260705T110000
DTEND;TZID=Europe/London:20260705T120000
DTSTAMP:20260423T073703Z
UID:1358132026-07-05 11:00:00+01:00achurchnearyou
CATEGORIES:
DESCRIPTION:Participatory (and often lively!) service specially aimed at c
 hildren and young families.\nThe service is regularly devised and delivere
 d by the Sunday Club's leaders and children together and Powerpoint is use
 d at this service.\nThere usually is no sermon\, but a talk or a dramatic 
 scripture reading instead.\n\nAs part of the new pattern of worship\, BREA
 KFAST FOR ALL will be available on the First Sunday of every month\, start
 ing Sunday 7 September 2025.\n\nIt will begin after the 9am service of Hol
 y Communion and run from 9.35-10.15\, followed by tea/coffee/biscuits from
  10.15 to 10.50.\n\nIt is an opportunity for attendees at the 9am and 11am
  services to meet and get to know better those attending the other service
  and chat over coffee/tea and croissants.
GEO:0.959222;51.855018
LOCATION:Wivenhoe: St Mary the Virgin
URL:https://www.achurchnearyou.com/church/6711/service-and-events/events/1
 35813/
END:VEVENT
BEGIN:VEVENT
SUMMARY:All Together Sunday
DTSTART;TZID=Europe/London:20260802T110000
DTEND;TZID=Europe/London:20260802T120000
DTSTAMP:20260423T073703Z
UID:1358132026-08-02 11:00:00+01:00achurchnearyou
CATEGORIES:
DESCRIPTION:Participatory (and often lively!) service specially aimed at c
 hildren and young families.\nThe service is regularly devised and delivere
 d by the Sunday Club's leaders and children together and Powerpoint is use
 d at this service.\nThere usually is no sermon\, but a talk or a dramatic 
 scripture reading instead.\n\nAs part of the new pattern of worship\, BREA
 KFAST FOR ALL will be available on the First Sunday of every month\, start
 ing Sunday 7 September 2025.\n\nIt will begin after the 9am service of Hol
 y Communion and run from 9.35-10.15\, followed by tea/coffee/biscuits from
  10.15 to 10.50.\n\nIt is an opportunity for attendees at the 9am and 11am
  services to meet and get to know better those attending the other service
  and chat over coffee/tea and croissants.
GEO:0.959222;51.855018
LOCATION:Wivenhoe: St Mary the Virgin
URL:https://www.achurchnearyou.com/church/6711/service-and-events/events/1
 35813/
END:VEVENT
BEGIN:VEVENT
SUMMARY:All Together Sunday
DTSTART;TZID=Europe/London:20260906T110000
DTEND;TZID=Europe/London:20260906T120000
DTSTAMP:20260423T073703Z
UID:1358132026-09-06 11:00:00+01:00achurchnearyou
CATEGORIES:
DESCRIPTION:Participatory (and often lively!) service specially aimed at c
 hildren and young families.\nThe service is regularly devised and delivere
 d by the Sunday Club's leaders and children together and Powerpoint is use
 d at this service.\nThere usually is no sermon\, but a talk or a dramatic 
 scripture reading instead.\n\nAs part of the new pattern of worship\, BREA
 KFAST FOR ALL will be available on the First Sunday of every month\, start
 ing Sunday 7 September 2025.\n\nIt will begin after the 9am service of Hol
 y Communion and run from 9.35-10.15\, followed by tea/coffee/biscuits from
  10.15 to 10.50.\n\nIt is an opportunity for attendees at the 9am and 11am
  services to meet and get to know better those attending the other service
  and chat over coffee/tea and croissants.
GEO:0.959222;51.855018
LOCATION:Wivenhoe: St Mary the Virgin
URL:https://www.achurchnearyou.com/church/6711/service-and-events/events/1
 35813/
END:VEVENT
BEGIN:VEVENT
SUMMARY:All Together Sunday
DTSTART;TZID=Europe/London:20261004T110000
DTEND;TZID=Europe/London:20261004T120000
DTSTAMP:20260423T073703Z
UID:1358132026-10-04 11:00:00+01:00achurchnearyou
CATEGORIES:
DESCRIPTION:Participatory (and often lively!) service specially aimed at c
 hildren and young families.\nThe service is regularly devised and delivere
 d by the Sunday Club's leaders and children together and Powerpoint is use
 d at this service.\nThere usually is no sermon\, but a talk or a dramatic 
 scripture reading instead.\n\nAs part of the new pattern of worship\, BREA
 KFAST FOR ALL will be available on the First Sunday of every month\, start
 ing Sunday 7 September 2025.\n\nIt will begin after the 9am service of Hol
 y Communion and run from 9.35-10.15\, followed by tea/coffee/biscuits from
  10.15 to 10.50.\n\nIt is an opportunity for attendees at the 9am and 11am
  services to meet and get to know better those attending the other service
  and chat over coffee/tea and croissants.
GEO:0.959222;51.855018
LOCATION:Wivenhoe: St Mary the Virgin
URL:https://www.achurchnearyou.com/church/6711/service-and-events/events/1
 35813/
END:VEVENT
BEGIN:VEVENT
SUMMARY:All Together Sunday
DTSTART;TZID=Europe/London:20261101T110000
DTEND;TZID=Europe/London:20261101T120000
DTSTAMP:20260423T073703Z
UID:1358132026-11-01 11:00:00+00:00achurchnearyou
CATEGORIES:
DESCRIPTION:Participatory (and often lively!) service specially aimed at c
 hildren and young families.\nThe service is regularly devised and delivere
 d by the Sunday Club's leaders and children together and Powerpoint is use
 d at this service.\nThere usually is no sermon\, but a talk or a dramatic 
 scripture reading instead.\n\nAs part of the new pattern of worship\, BREA
 KFAST FOR ALL will be available on the First Sunday of every month\, start
 ing Sunday 7 September 2025.\n\nIt will begin after the 9am service of Hol
 y Communion and run from 9.35-10.15\, followed by tea/coffee/biscuits from
  10.15 to 10.50.\n\nIt is an opportunity for attendees at the 9am and 11am
  services to meet and get to know better those attending the other service
  and chat over coffee/tea and croissants.
GEO:0.959222;51.855018
LOCATION:Wivenhoe: St Mary the Virgin
URL:https://www.achurchnearyou.com/church/6711/service-and-events/events/1
 35813/
END:VEVENT
BEGIN:VEVENT
SUMMARY:All Together Sunday
DTSTART;TZID=Europe/London:20261206T110000
DTEND;TZID=Europe/London:20261206T120000
DTSTAMP:20260423T073703Z
UID:1358132026-12-06 11:00:00+00:00achurchnearyou
CATEGORIES:
DESCRIPTION:Participatory (and often lively!) service specially aimed at c
 hildren and young families.\nThe service is regularly devised and delivere
 d by the Sunday Club's leaders and children together and Powerpoint is use
 d at this service.\nThere usually is no sermon\, but a talk or a dramatic 
 scripture reading instead.\n\nAs part of the new pattern of worship\, BREA
 KFAST FOR ALL will be available on the First Sunday of every month\, start
 ing Sunday 7 September 2025.\n\nIt will begin after the 9am service of Hol
 y Communion and run from 9.35-10.15\, followed by tea/coffee/biscuits from
  10.15 to 10.50.\n\nIt is an opportunity for attendees at the 9am and 11am
  services to meet and get to know better those attending the other service
  and chat over coffee/tea and croissants.
GEO:0.959222;51.855018
LOCATION:Wivenhoe: St Mary the Virgin
URL:https://www.achurchnearyou.com/church/6711/service-and-events/events/1
 35813/
END:VEVENT
BEGIN:VEVENT
SUMMARY:All Together Sunday
DTSTART;TZID=Europe/London:20270103T110000
DTEND;TZID=Europe/London:20270103T120000
DTSTAMP:20260423T073703Z
UID:1358132027-01-03 11:00:00+00:00achurchnearyou
CATEGORIES:
DESCRIPTION:Participatory (and often lively!) service specially aimed at c
 hildren and young families.\nThe service is regularly devised and delivere
 d by the Sunday Club's leaders and children together and Powerpoint is use
 d at this service.\nThere usually is no sermon\, but a talk or a dramatic 
 scripture reading instead.\n\nAs part of the new pattern of worship\, BREA
 KFAST FOR ALL will be available on the First Sunday of every month\, start
 ing Sunday 7 September 2025.\n\nIt will begin after the 9am service of Hol
 y Communion and run from 9.35-10.15\, followed by tea/coffee/biscuits from
  10.15 to 10.50.\n\nIt is an opportunity for attendees at the 9am and 11am
  services to meet and get to know better those attending the other service
  and chat over coffee/tea and croissants.
GEO:0.959222;51.855018
LOCATION:Wivenhoe: St Mary the Virgin
URL:https://www.achurchnearyou.com/church/6711/service-and-events/events/1
 35813/
END:VEVENT
BEGIN:VEVENT
SUMMARY:All Together Sunday
DTSTART;TZID=Europe/London:20270207T110000
DTEND;TZID=Europe/London:20270207T120000
DTSTAMP:20260423T073703Z
UID:1358132027-02-07 11:00:00+00:00achurchnearyou
CATEGORIES:
DESCRIPTION:Participatory (and often lively!) service specially aimed at c
 hildren and young families.\nThe service is regularly devised and delivere
 d by the Sunday Club's leaders and children together and Powerpoint is use
 d at this service.\nThere usually is no sermon\, but a talk or a dramatic 
 scripture reading instead.\n\nAs part of the new pattern of worship\, BREA
 KFAST FOR ALL will be available on the First Sunday of every month\, start
 ing Sunday 7 September 2025.\n\nIt will begin after the 9am service of Hol
 y Communion and run from 9.35-10.15\, followed by tea/coffee/biscuits from
  10.15 to 10.50.\n\nIt is an opportunity for attendees at the 9am and 11am
  services to meet and get to know better those attending the other service
  and chat over coffee/tea and croissants.
GEO:0.959222;51.855018
LOCATION:Wivenhoe: St Mary the Virgin
URL:https://www.achurchnearyou.com/church/6711/service-and-events/events/1
 35813/
END:VEVENT
BEGIN:VEVENT
SUMMARY:All Together Sunday
DTSTART;TZID=Europe/London:20270307T110000
DTEND;TZID=Europe/London:20270307T120000
DTSTAMP:20260423T073703Z
UID:1358132027-03-07 11:00:00+00:00achurchnearyou
CATEGORIES:
DESCRIPTION:Participatory (and often lively!) service specially aimed at c
 hildren and young families.\nThe service is regularly devised and delivere
 d by the Sunday Club's leaders and children together and Powerpoint is use
 d at this service.\nThere usually is no sermon\, but a talk or a dramatic 
 scripture reading instead.\n\nAs part of the new pattern of worship\, BREA
 KFAST FOR ALL will be available on the First Sunday of every month\, start
 ing Sunday 7 September 2025.\n\nIt will begin after the 9am service of Hol
 y Communion and run from 9.35-10.15\, followed by tea/coffee/biscuits from
  10.15 to 10.50.\n\nIt is an opportunity for attendees at the 9am and 11am
  services to meet and get to know better those attending the other service
  and chat over coffee/tea and croissants.
GEO:0.959222;51.855018
LOCATION:Wivenhoe: St Mary the Virgin
URL:https://www.achurchnearyou.com/church/6711/service-and-events/events/1
 35813/
END:VEVENT
BEGIN:VEVENT
SUMMARY:All Together Sunday
DTSTART;TZID=Europe/London:20270404T110000
DTEND;TZID=Europe/London:20270404T120000
DTSTAMP:20260423T073703Z
UID:1358132027-04-04 11:00:00+01:00achurchnearyou
CATEGORIES:
DESCRIPTION:Participatory (and often lively!) service specially aimed at c
 hildren and young families.\nThe service is regularly devised and delivere
 d by the Sunday Club's leaders and children together and Powerpoint is use
 d at this service.\nThere usually is no sermon\, but a talk or a dramatic 
 scripture reading instead.\n\nAs part of the new pattern of worship\, BREA
 KFAST FOR ALL will be available on the First Sunday of every month\, start
 ing Sunday 7 September 2025.\n\nIt will begin after the 9am service of Hol
 y Communion and run from 9.35-10.15\, followed by tea/coffee/biscuits from
  10.15 to 10.50.\n\nIt is an opportunity for attendees at the 9am and 11am
  services to meet and get to know better those attending the other service
  and chat over coffee/tea and croissants.
GEO:0.959222;51.855018
LOCATION:Wivenhoe: St Mary the Virgin
URL:https://www.achurchnearyou.com/church/6711/service-and-events/events/1
 35813/
END:VEVENT
END:VCALENDAR
