BEGIN:VCALENDAR
VERSION:2.0
PRODID:-//achurchnearyou.com//eventfeed//EN
CALSCALE:GREGORIAN
METHOD:PUBLISH
X-WR-TIMEZONE:UTC
BEGIN:VEVENT
SUMMARY:Watchnight Service
DTSTART:20241231T233000Z
DTEND:20250101T001500Z
DTSTAMP:20260419T163552Z
UID:11162172024-12-31 23:30:00+00:00achurchnearyou
CATEGORIES:
DESCRIPTION:A special service of thanksgiving for 2024 and prayer for 2025
 .  Preceded by refreshments at 11pm.  We plan to conclude by 12.15am.
GEO:0.020137;51.597856
LOCATION:St Mary's Woodford
URL:https://www.achurchnearyou.com/church/6713/service-and-events/events/1
 116217/
END:VEVENT
END:VCALENDAR
