BEGIN:VCALENDAR
VERSION:2.0
PRODID:-//achurchnearyou.com//eventfeed//EN
CALSCALE:GREGORIAN
METHOD:PUBLISH
X-WR-TIMEZONE:UTC
BEGIN:VEVENT
SUMMARY:Holy Communion
DTSTART;TZID=Europe/London:20260426T113000
DTEND;TZID=Europe/London:20260426T123000
DTSTAMP:20260423T021131Z
UID:3019262026-04-26 11:30:00+01:00achurchnearyou
CATEGORIES:
DESCRIPTION:First and 4th Sundays  11.30 am
GEO:0.598135;51.664608
LOCATION:Woodham Ferrers: St Mary
URL:https://www.achurchnearyou.com/church/6716/service-and-events/events/3
 01926/
END:VEVENT
BEGIN:VEVENT
SUMMARY:Holy Communion
DTSTART;TZID=Europe/London:20260503T113000
DTEND;TZID=Europe/London:20260503T123000
DTSTAMP:20260423T021131Z
UID:3019262026-05-03 11:30:00+01:00achurchnearyou
CATEGORIES:
DESCRIPTION:First and 4th Sundays  11.30 am
GEO:0.598135;51.664608
LOCATION:Woodham Ferrers: St Mary
URL:https://www.achurchnearyou.com/church/6716/service-and-events/events/3
 01926/
END:VEVENT
BEGIN:VEVENT
SUMMARY:Holy Communion
DTSTART;TZID=Europe/London:20260524T113000
DTEND;TZID=Europe/London:20260524T123000
DTSTAMP:20260423T021131Z
UID:3019262026-05-24 11:30:00+01:00achurchnearyou
CATEGORIES:
DESCRIPTION:First and 4th Sundays  11.30 am
GEO:0.598135;51.664608
LOCATION:Woodham Ferrers: St Mary
URL:https://www.achurchnearyou.com/church/6716/service-and-events/events/3
 01926/
END:VEVENT
BEGIN:VEVENT
SUMMARY:Holy Communion
DTSTART;TZID=Europe/London:20260607T113000
DTEND;TZID=Europe/London:20260607T123000
DTSTAMP:20260423T021131Z
UID:3019262026-06-07 11:30:00+01:00achurchnearyou
CATEGORIES:
DESCRIPTION:First and 4th Sundays  11.30 am
GEO:0.598135;51.664608
LOCATION:Woodham Ferrers: St Mary
URL:https://www.achurchnearyou.com/church/6716/service-and-events/events/3
 01926/
END:VEVENT
BEGIN:VEVENT
SUMMARY:Holy Communion
DTSTART;TZID=Europe/London:20260628T113000
DTEND;TZID=Europe/London:20260628T123000
DTSTAMP:20260423T021131Z
UID:3019262026-06-28 11:30:00+01:00achurchnearyou
CATEGORIES:
DESCRIPTION:First and 4th Sundays  11.30 am
GEO:0.598135;51.664608
LOCATION:Woodham Ferrers: St Mary
URL:https://www.achurchnearyou.com/church/6716/service-and-events/events/3
 01926/
END:VEVENT
BEGIN:VEVENT
SUMMARY:Holy Communion
DTSTART;TZID=Europe/London:20260705T113000
DTEND;TZID=Europe/London:20260705T123000
DTSTAMP:20260423T021131Z
UID:3019262026-07-05 11:30:00+01:00achurchnearyou
CATEGORIES:
DESCRIPTION:First and 4th Sundays  11.30 am
GEO:0.598135;51.664608
LOCATION:Woodham Ferrers: St Mary
URL:https://www.achurchnearyou.com/church/6716/service-and-events/events/3
 01926/
END:VEVENT
BEGIN:VEVENT
SUMMARY:Holy Communion
DTSTART;TZID=Europe/London:20260726T113000
DTEND;TZID=Europe/London:20260726T123000
DTSTAMP:20260423T021131Z
UID:3019262026-07-26 11:30:00+01:00achurchnearyou
CATEGORIES:
DESCRIPTION:First and 4th Sundays  11.30 am
GEO:0.598135;51.664608
LOCATION:Woodham Ferrers: St Mary
URL:https://www.achurchnearyou.com/church/6716/service-and-events/events/3
 01926/
END:VEVENT
BEGIN:VEVENT
SUMMARY:Holy Communion
DTSTART;TZID=Europe/London:20260802T113000
DTEND;TZID=Europe/London:20260802T123000
DTSTAMP:20260423T021131Z
UID:3019262026-08-02 11:30:00+01:00achurchnearyou
CATEGORIES:
DESCRIPTION:First and 4th Sundays  11.30 am
GEO:0.598135;51.664608
LOCATION:Woodham Ferrers: St Mary
URL:https://www.achurchnearyou.com/church/6716/service-and-events/events/3
 01926/
END:VEVENT
BEGIN:VEVENT
SUMMARY:Holy Communion
DTSTART;TZID=Europe/London:20260823T113000
DTEND;TZID=Europe/London:20260823T123000
DTSTAMP:20260423T021131Z
UID:3019262026-08-23 11:30:00+01:00achurchnearyou
CATEGORIES:
DESCRIPTION:First and 4th Sundays  11.30 am
GEO:0.598135;51.664608
LOCATION:Woodham Ferrers: St Mary
URL:https://www.achurchnearyou.com/church/6716/service-and-events/events/3
 01926/
END:VEVENT
BEGIN:VEVENT
SUMMARY:Holy Communion
DTSTART;TZID=Europe/London:20260906T113000
DTEND;TZID=Europe/London:20260906T123000
DTSTAMP:20260423T021131Z
UID:3019262026-09-06 11:30:00+01:00achurchnearyou
CATEGORIES:
DESCRIPTION:First and 4th Sundays  11.30 am
GEO:0.598135;51.664608
LOCATION:Woodham Ferrers: St Mary
URL:https://www.achurchnearyou.com/church/6716/service-and-events/events/3
 01926/
END:VEVENT
BEGIN:VEVENT
SUMMARY:Holy Communion
DTSTART;TZID=Europe/London:20260927T113000
DTEND;TZID=Europe/London:20260927T123000
DTSTAMP:20260423T021131Z
UID:3019262026-09-27 11:30:00+01:00achurchnearyou
CATEGORIES:
DESCRIPTION:First and 4th Sundays  11.30 am
GEO:0.598135;51.664608
LOCATION:Woodham Ferrers: St Mary
URL:https://www.achurchnearyou.com/church/6716/service-and-events/events/3
 01926/
END:VEVENT
BEGIN:VEVENT
SUMMARY:Holy Communion
DTSTART;TZID=Europe/London:20261004T113000
DTEND;TZID=Europe/London:20261004T123000
DTSTAMP:20260423T021131Z
UID:3019262026-10-04 11:30:00+01:00achurchnearyou
CATEGORIES:
DESCRIPTION:First and 4th Sundays  11.30 am
GEO:0.598135;51.664608
LOCATION:Woodham Ferrers: St Mary
URL:https://www.achurchnearyou.com/church/6716/service-and-events/events/3
 01926/
END:VEVENT
BEGIN:VEVENT
SUMMARY:Holy Communion
DTSTART;TZID=Europe/London:20261025T113000
DTEND;TZID=Europe/London:20261025T123000
DTSTAMP:20260423T021131Z
UID:3019262026-10-25 11:30:00+00:00achurchnearyou
CATEGORIES:
DESCRIPTION:First and 4th Sundays  11.30 am
GEO:0.598135;51.664608
LOCATION:Woodham Ferrers: St Mary
URL:https://www.achurchnearyou.com/church/6716/service-and-events/events/3
 01926/
END:VEVENT
BEGIN:VEVENT
SUMMARY:Holy Communion
DTSTART;TZID=Europe/London:20261101T113000
DTEND;TZID=Europe/London:20261101T123000
DTSTAMP:20260423T021131Z
UID:3019262026-11-01 11:30:00+00:00achurchnearyou
CATEGORIES:
DESCRIPTION:First and 4th Sundays  11.30 am
GEO:0.598135;51.664608
LOCATION:Woodham Ferrers: St Mary
URL:https://www.achurchnearyou.com/church/6716/service-and-events/events/3
 01926/
END:VEVENT
BEGIN:VEVENT
SUMMARY:Holy Communion
DTSTART;TZID=Europe/London:20261122T113000
DTEND;TZID=Europe/London:20261122T123000
DTSTAMP:20260423T021131Z
UID:3019262026-11-22 11:30:00+00:00achurchnearyou
CATEGORIES:
DESCRIPTION:First and 4th Sundays  11.30 am
GEO:0.598135;51.664608
LOCATION:Woodham Ferrers: St Mary
URL:https://www.achurchnearyou.com/church/6716/service-and-events/events/3
 01926/
END:VEVENT
BEGIN:VEVENT
SUMMARY:Holy Communion
DTSTART;TZID=Europe/London:20261206T113000
DTEND;TZID=Europe/London:20261206T123000
DTSTAMP:20260423T021131Z
UID:3019262026-12-06 11:30:00+00:00achurchnearyou
CATEGORIES:
DESCRIPTION:First and 4th Sundays  11.30 am
GEO:0.598135;51.664608
LOCATION:Woodham Ferrers: St Mary
URL:https://www.achurchnearyou.com/church/6716/service-and-events/events/3
 01926/
END:VEVENT
BEGIN:VEVENT
SUMMARY:Holy Communion
DTSTART;TZID=Europe/London:20261227T113000
DTEND;TZID=Europe/London:20261227T123000
DTSTAMP:20260423T021131Z
UID:3019262026-12-27 11:30:00+00:00achurchnearyou
CATEGORIES:
DESCRIPTION:First and 4th Sundays  11.30 am
GEO:0.598135;51.664608
LOCATION:Woodham Ferrers: St Mary
URL:https://www.achurchnearyou.com/church/6716/service-and-events/events/3
 01926/
END:VEVENT
BEGIN:VEVENT
SUMMARY:Holy Communion
DTSTART;TZID=Europe/London:20270103T113000
DTEND;TZID=Europe/London:20270103T123000
DTSTAMP:20260423T021131Z
UID:3019262027-01-03 11:30:00+00:00achurchnearyou
CATEGORIES:
DESCRIPTION:First and 4th Sundays  11.30 am
GEO:0.598135;51.664608
LOCATION:Woodham Ferrers: St Mary
URL:https://www.achurchnearyou.com/church/6716/service-and-events/events/3
 01926/
END:VEVENT
BEGIN:VEVENT
SUMMARY:Holy Communion
DTSTART;TZID=Europe/London:20270124T113000
DTEND;TZID=Europe/London:20270124T123000
DTSTAMP:20260423T021131Z
UID:3019262027-01-24 11:30:00+00:00achurchnearyou
CATEGORIES:
DESCRIPTION:First and 4th Sundays  11.30 am
GEO:0.598135;51.664608
LOCATION:Woodham Ferrers: St Mary
URL:https://www.achurchnearyou.com/church/6716/service-and-events/events/3
 01926/
END:VEVENT
BEGIN:VEVENT
SUMMARY:Holy Communion
DTSTART;TZID=Europe/London:20270207T113000
DTEND;TZID=Europe/London:20270207T123000
DTSTAMP:20260423T021131Z
UID:3019262027-02-07 11:30:00+00:00achurchnearyou
CATEGORIES:
DESCRIPTION:First and 4th Sundays  11.30 am
GEO:0.598135;51.664608
LOCATION:Woodham Ferrers: St Mary
URL:https://www.achurchnearyou.com/church/6716/service-and-events/events/3
 01926/
END:VEVENT
BEGIN:VEVENT
SUMMARY:Holy Communion
DTSTART;TZID=Europe/London:20270228T113000
DTEND;TZID=Europe/London:20270228T123000
DTSTAMP:20260423T021131Z
UID:3019262027-02-28 11:30:00+00:00achurchnearyou
CATEGORIES:
DESCRIPTION:First and 4th Sundays  11.30 am
GEO:0.598135;51.664608
LOCATION:Woodham Ferrers: St Mary
URL:https://www.achurchnearyou.com/church/6716/service-and-events/events/3
 01926/
END:VEVENT
BEGIN:VEVENT
SUMMARY:Holy Communion
DTSTART;TZID=Europe/London:20270307T113000
DTEND;TZID=Europe/London:20270307T123000
DTSTAMP:20260423T021131Z
UID:3019262027-03-07 11:30:00+00:00achurchnearyou
CATEGORIES:
DESCRIPTION:First and 4th Sundays  11.30 am
GEO:0.598135;51.664608
LOCATION:Woodham Ferrers: St Mary
URL:https://www.achurchnearyou.com/church/6716/service-and-events/events/3
 01926/
END:VEVENT
BEGIN:VEVENT
SUMMARY:Holy Communion
DTSTART;TZID=Europe/London:20270328T113000
DTEND;TZID=Europe/London:20270328T123000
DTSTAMP:20260423T021131Z
UID:3019262027-03-28 11:30:00+01:00achurchnearyou
CATEGORIES:
DESCRIPTION:First and 4th Sundays  11.30 am
GEO:0.598135;51.664608
LOCATION:Woodham Ferrers: St Mary
URL:https://www.achurchnearyou.com/church/6716/service-and-events/events/3
 01926/
END:VEVENT
BEGIN:VEVENT
SUMMARY:Holy Communion
DTSTART;TZID=Europe/London:20270404T113000
DTEND;TZID=Europe/London:20270404T123000
DTSTAMP:20260423T021131Z
UID:3019262027-04-04 11:30:00+01:00achurchnearyou
CATEGORIES:
DESCRIPTION:First and 4th Sundays  11.30 am
GEO:0.598135;51.664608
LOCATION:Woodham Ferrers: St Mary
URL:https://www.achurchnearyou.com/church/6716/service-and-events/events/3
 01926/
END:VEVENT
END:VCALENDAR
