BEGIN:VCALENDAR
VERSION:2.0
PRODID:-//achurchnearyou.com//eventfeed//EN
CALSCALE:GREGORIAN
METHOD:PUBLISH
X-WR-TIMEZONE:UTC
BEGIN:VEVENT
SUMMARY:Maundy Thursday Agape Meal
DTSTART:20250417T180000Z
DTEND:20250417T190000Z
DTSTAMP:20260424T160701Z
UID:11757922025-04-17 18:00:00+00:00achurchnearyou
CATEGORIES:
DESCRIPTION:Join us for a simple Agape Meal\, as we remember Jesus' last s
 upper with his friends.
LOCATION:St John the Baptist Church\, Mount Bures
URL:https://www.achurchnearyou.com/church/6721/service-and-events/events/1
 175792/
END:VEVENT
END:VCALENDAR
