BEGIN:VCALENDAR
VERSION:2.0
PRODID:-//achurchnearyou.com//eventfeed//EN
CALSCALE:GREGORIAN
METHOD:PUBLISH
X-WR-TIMEZONE:UTC
BEGIN:VEVENT
SUMMARY:Last hour at the cross
DTSTART:20250418T130000Z
DTEND:20250418T140000Z
DTSTAMP:20260424T160649Z
UID:11758122025-04-18 13:00:00+00:00achurchnearyou
CATEGORIES:
DESCRIPTION:Join us for this reflective Good Friday service\, as we reflec
 t on Jesus' last hour on the cross.
LOCATION:Little Horkesley: St Peter & St Paul
URL:https://www.achurchnearyou.com/church/6721/service-and-events/events/1
 175812/
END:VEVENT
END:VCALENDAR
