BEGIN:VCALENDAR
VERSION:2.0
PRODID:-//achurchnearyou.com//eventfeed//EN
CALSCALE:GREGORIAN
METHOD:PUBLISH
X-WR-TIMEZONE:UTC
BEGIN:VEVENT
SUMMARY:Easter Praise with Shortened Communion
DTSTART:20250420T100000Z
DTEND:20250420T110000Z
DTSTAMP:20260424T160652Z
UID:11759482025-04-20 10:00:00+00:00achurchnearyou
CATEGORIES:
DESCRIPTION:Join us on this Easter Morning as we celebrate the resurrectio
 n of Jesus
GEO:0.810229;51.95473
LOCATION:Wormingford: St Andrew
URL:https://www.achurchnearyou.com/church/6721/service-and-events/events/1
 175948/
END:VEVENT
END:VCALENDAR
