BEGIN:VCALENDAR
VERSION:2.0
PRODID:-//achurchnearyou.com//eventfeed//EN
CALSCALE:GREGORIAN
METHOD:PUBLISH
X-WR-TIMEZONE:UTC
BEGIN:VEVENT
SUMMARY:Palm Sunday Morning Worship
DTSTART:20260329T100000Z
DTEND:20260329T110000Z
DTSTAMP:20260423T190226Z
UID:12906532026-03-29 10:00:00+00:00achurchnearyou
CATEGORIES:
DESCRIPTION:Join us as we remember Jesus' triumphal entry into Jerusalem
GEO:0.810229;51.95473
LOCATION:Wormingford: St Andrew
URL:https://www.achurchnearyou.com/church/6721/service-and-events/events/1
 290653/
END:VEVENT
END:VCALENDAR
