BEGIN:VCALENDAR
VERSION:2.0
PRODID:-//achurchnearyou.com//eventfeed//EN
CALSCALE:GREGORIAN
METHOD:PUBLISH
X-WR-TIMEZONE:UTC
BEGIN:VEVENT
SUMMARY:Pet Service
DTSTART:20250928T150000Z
DTEND:20250928T154500Z
DTSTAMP:20260424T221335Z
UID:12213592025-09-28 15:00:00+00:00achurchnearyou
CATEGORIES:
DESCRIPTION:Bring your pet to this informal afternoon service where we wil
 l give thanks for the blessings that our pets bring us and thank God for t
 hem.  All are welcome\, with or without your pet\, or bring a photo is the
 y're too large\, or too timid.....
LOCATION:Frettenham: St Swithin
URL:https://www.achurchnearyou.com/church/6730/service-and-events/events/1
 221359/
END:VEVENT
END:VCALENDAR
