BEGIN:VCALENDAR
VERSION:2.0
PRODID:-//achurchnearyou.com//eventfeed//EN
CALSCALE:GREGORIAN
METHOD:PUBLISH
X-WR-TIMEZONE:UTC
BEGIN:VEVENT
SUMMARY:Benefice Service
DTSTART:20260301T100000Z
DTEND:20260301T110000Z
DTSTAMP:20260420T071010Z
UID:12984762026-03-01 10:00:00+00:00achurchnearyou
CATEGORIES:
DESCRIPTION:Holy Communion for the group of churches in the Quidenham Bene
 fice
GEO:1.043197;52.481648
LOCATION:All Saints Old Buckenham
URL:https://www.achurchnearyou.com/church/6731/service-and-events/events/1
 298476/
END:VEVENT
END:VCALENDAR
