BEGIN:VCALENDAR
VERSION:2.0
PRODID:-//achurchnearyou.com//eventfeed//EN
CALSCALE:GREGORIAN
METHOD:PUBLISH
X-WR-TIMEZONE:UTC
BEGIN:VEVENT
SUMMARY:Remembrance Sunday Service
DTSTART:20251109T105000Z
DTEND:20251109T115000Z
DTSTAMP:20260421T061230Z
UID:9820772025-11-09 10:50:00+00:00achurchnearyou
CATEGORIES:
DESCRIPTION:A service for Remembrance Sunday
GEO:-0.667419;52.57442
LOCATION:Seaton: All Hallows
URL:https://www.achurchnearyou.com/church/6738/service-and-events/events/9
 82077/
END:VEVENT
END:VCALENDAR
